BEGIN:VCALENDAR
VERSION:2.0
PRODID:-//Šiaulių gidas - ECPv6.9.0//NONSGML v1.0//EN
CALSCALE:GREGORIAN
METHOD:PUBLISH
X-ORIGINAL-URL:https://siauliugidas.lt
X-WR-CALDESC:Events for Šiaulių gidas
REFRESH-INTERVAL;VALUE=DURATION:PT1H
X-Robots-Tag:noindex
X-PUBLISHED-TTL:PT1H
BEGIN:VTIMEZONE
TZID:Europe/Helsinki
BEGIN:DAYLIGHT
TZOFFSETFROM:+0200
TZOFFSETTO:+0300
TZNAME:EEST
DTSTART:20160327T010000
END:DAYLIGHT
BEGIN:STANDARD
TZOFFSETFROM:+0300
TZOFFSETTO:+0200
TZNAME:EET
DTSTART:20161030T010000
END:STANDARD
END:VTIMEZONE
BEGIN:VEVENT
DTSTART;TZID=Europe/Helsinki:20160208T110000
DTEND;TZID=Europe/Helsinki:20160208T170000
DTSTAMP:20260419T210259
CREATED:20160129T074412Z
LAST-MODIFIED:20160129T074412Z
UID:1287-1454929200-1454950800@siauliugidas.lt
SUMMARY:„Patyriminių mokymų programa: interaktyvių metodų taikymas socialiniame darbe“
DESCRIPTION:„Patyriminių mokymų programa: interaktyvių metodų taikymas socialiniame darbe“ (šie mokymai kelia kvalifikaciją\, programa patvirtinta SADM).  \nMokymų programa yra akredituota bei suteikianti kvalifikaciją. \nŠie mokymai KITOKIE. Jokio PowerPointo\, tik įtraukiantys metodai\, aktyvus patirties pritaikymas bei besąlygiškas atvirumas. \nMokymų išskirtinumas – tai darbas su maža grupe (~10 žmonės)\, todėl kiekvienam asmeniškai yra skiriamas dėmesys\, kiekvienas turi galimybę aktyviai dalyvauti. Vien praktinės ir interaktyvios veiklos\, kurias galima pritaikyti profesinėje veikloje bei asmeniame tobulėjime. \nData ir laikas: vasario 8 d. 11-17 val.\, vasario 9 d. 10-16 val. \nTrukmė: 16 ak. val. \nKaina: 60 eurų. (registracijai patvirtinti išankstinis apmokėjimas nereikalaujamas) \nVieta: informacija suteikiama užsiregistravusiems. \nRegistracija el. paštu tobulek@juodaavis.lt
URL:https://siauliugidas.lt/renginiai/patyriminiu-mokymu-programa-interaktyviu-metodu-taikymas-socialiniame-darbe/
CATEGORIES:Seminaras
END:VEVENT
END:VCALENDAR