BEGIN:VCALENDAR
VERSION:2.0
PRODID:-//Šiaulių gidas - ECPv6.9.0//NONSGML v1.0//EN
CALSCALE:GREGORIAN
METHOD:PUBLISH
X-ORIGINAL-URL:https://siauliugidas.lt
X-WR-CALDESC:Events for Šiaulių gidas
REFRESH-INTERVAL;VALUE=DURATION:PT1H
X-Robots-Tag:noindex
X-PUBLISHED-TTL:PT1H
BEGIN:VTIMEZONE
TZID:Europe/Helsinki
BEGIN:DAYLIGHT
TZOFFSETFROM:+0200
TZOFFSETTO:+0300
TZNAME:EEST
DTSTART:20160327T010000
END:DAYLIGHT
BEGIN:STANDARD
TZOFFSETFROM:+0300
TZOFFSETTO:+0200
TZNAME:EET
DTSTART:20161030T010000
END:STANDARD
END:VTIMEZONE
BEGIN:VEVENT
DTSTART;TZID=Europe/Helsinki:20160210T180000
DTEND;TZID=Europe/Helsinki:20160210T180000
DTSTAMP:20260420T080515
CREATED:20160128T194358Z
LAST-MODIFIED:20160128T194358Z
UID:1265-1455127200-1455127200@siauliugidas.lt
SUMMARY:Klaipėdos dramos teatro spektaklis "Lunačiarskio lunaparkas"
DESCRIPTION:Režisierius – Darius Rabašauskas \nKsenija Dragunskaja (g. 1965) – žymi šiuolaikinė rusų dramaturgė\, scenaristė\, prozininkė\, daugiau nei trisdešimties pjesių autorė. Jos pjesės statomos ne tik akademiniuose teatruose\, bet ir teatrinio undergroundo rūsiuose\, mėgiamos tiek vyresnių žiūrovų\, tiek ir jaunimo. Jos kūryba – persmelkta nuoširdumo\, tikros ir nesumeluotos meilės žmogui\, švelnios romantikos ir subtilaus humoro. Kritikai akcentuoja Ksenijos Dragunskajos išradingumą\, nevaržomą fantaziją\, psichologinį subtilumą\, sugebėjimą pastebėti charakteringus žmogaus bruožus\, nepiktą ironiją ir puikų žodžio valdymą.\nKsenija ne tik rašo pjeses\, apsakymus\, pasakas vaikams\, ji nuosekliai dirba su jaunimu – skaito paskaitas apie teatrą ir literatūrą\, veda seminarus. Jos kelionių geografija – nuo Niujorko iki Taganrogo… Nuoširdžiai džiaugiamės\, jog į jos kelionių grafiką pateko ir Klaipėda. Neatsitiktinai: Klaipėdos dramos teatro „Lunačiarskio lunaparkas“ – pasaulinė premjera\, iki šiol pjesė nebuvo pastatyta.\nPjesė „Lunačiarskio lunaparkas“ (2012) – apie naujų ir senų laikų sankirtas\, apie dirbtinį sostinės spindesį ir tikrą provincijos nykulį\, grėsmingą visuomenės susiskaldymą\, gresiantį socialiniu sprogimu. Ir\, žinoma\, apie konkrečius žmones – graudokai juokingus\, iškritusius iš savojo laiko\, tačiau tebegyvus ir tebesvajojančius apie didelį stebuklą\, visam laikui pakeisiantį jų mažus gyvenimus. Situacija artima ir nesunkiai atpažįstama ne tik Rusijoje\, bet ir pas mus\, Lietuvoje. Taip\, teisingai pagalvojote – elitas ir „runkeliai“… \n \n\n„Tai labai juokinga ir kartu be galo liūdna istorija apie Maskvą – mano mylimą miestą\, kuriame gimiau ir kuriam greitu metu gresia didelė nelaimė. Mažų miestelių gyventojams gimtosios šalies sostinė atrodo tolima\, svetima ir priešiška. Tarp mūsų – bedugnė. Maskva – miestas\, kuris patirs daug kančių\, savo apysakoje „Treji metai“ rašė didysis Čechovas. Ačiū Klaipėdai\, pirmajai išleidusiai spektaklio premjerą. Tai\, kad šis tekstas jau metus negali įsikūnyti Rusijos sostinės scenoje\, byloja būtent apie mūsų teatrų kurtumą dabarties skauduliams\, ir tai dar labiau neramina. Tačiau reikia tikėtis geriausio…“
URL:https://siauliugidas.lt/renginiai/klaipedos-dramos-teatro-spektaklis-lunaciarskio-lunaparkas/
LOCATION:Šiaulių dramos teatras
CATEGORIES:Spektaklis
ATTACH;FMTTYPE=image/jpeg:https://siauliugidas.lt/wp-content/uploads/2016/01/lunaparkas.jpg
END:VEVENT
END:VCALENDAR