BEGIN:VCALENDAR
VERSION:2.0
PRODID:-//Šiaulių gidas - ECPv6.9.0//NONSGML v1.0//EN
CALSCALE:GREGORIAN
METHOD:PUBLISH
X-WR-CALNAME:Šiaulių gidas
X-ORIGINAL-URL:https://siauliugidas.lt
X-WR-CALDESC:Events for Šiaulių gidas
REFRESH-INTERVAL;VALUE=DURATION:PT1H
X-Robots-Tag:noindex
X-PUBLISHED-TTL:PT1H
BEGIN:VTIMEZONE
TZID:Europe/Helsinki
BEGIN:DAYLIGHT
TZOFFSETFROM:+0200
TZOFFSETTO:+0300
TZNAME:EEST
DTSTART:20160327T010000
END:DAYLIGHT
BEGIN:STANDARD
TZOFFSETFROM:+0300
TZOFFSETTO:+0200
TZNAME:EET
DTSTART:20161030T010000
END:STANDARD
END:VTIMEZONE
BEGIN:VEVENT
DTSTART;TZID=Europe/Helsinki:20160218T180000
DTEND;TZID=Europe/Helsinki:20160218T180000
DTSTAMP:20260421T023804
CREATED:20160126T135721Z
LAST-MODIFIED:20160126T135721Z
UID:1219-1455818400-1455818400@siauliugidas.lt
SUMMARY:Vytauto V. Landsbergio kūrybos vakaras
DESCRIPTION:Vasario 18 d. 18 val. Chaimo Frenkelio viloje (Vilniaus g. 74\, Šiauliai) vyks žinomo Lietuvos teatro ir kino režisieriaus\, poeto\, publicisto\, pasakų vaikams autoriaus\, bardo Vytauto V. Landsbergio kūrybos vakaras „Balti klavišai”. \n\nKoncerto metu skambės naujos V. V. Landsbergio sukurtos dainos\, taip pat senos ir gerai pažįstamos šio autoriaus baladės\, romansai. „Išgirsite ištraukų iš naujų mano knygų apie nemirtingąjį Rudnosiuką ir žiauriai įsimylėjusį briedį Eugenijų Uogieniną. Koncerto metu bus ir staigmenų\, vyks žaisminga loterija\, galėsite išlošti knygų bei kompaktinių plokštelių”\, – pristatydamas koncertą pasakoja atlikėjas. \nVakaras žada būti įvairialypis\, kaip ir Vytauto V. Landsbergio literatūra\, kurioje dera absurdas\, humoras ir gilios įžvalgos. Dozę pozityvios energijos garantuoja geros muzikos ekspertai „Bardai LT”. \nBilietus galima įsigyti www.bilietai.lt ir Chaimo Frenkelio vilos kasoje (nuo vasario 5 d.). \nBilietų kaina – 9 Eur\, su nuolaida – 7 Eur.
URL:https://siauliugidas.lt/renginiai/vytauto-v-landsbergio-kurybos-vakaras/
LOCATION:Chaimo Frenkelio viloje
CATEGORIES:Koncertas
ATTACH;FMTTYPE=image/png:https://siauliugidas.lt/wp-content/uploads/2016/01/V.V.Landsbergis1.png
END:VEVENT
END:VCALENDAR