BEGIN:VCALENDAR
VERSION:2.0
PRODID:-//Šiaulių gidas - ECPv6.9.0//NONSGML v1.0//EN
CALSCALE:GREGORIAN
METHOD:PUBLISH
X-WR-CALNAME:Šiaulių gidas
X-ORIGINAL-URL:https://siauliugidas.lt
X-WR-CALDESC:Events for Šiaulių gidas
REFRESH-INTERVAL;VALUE=DURATION:PT1H
X-Robots-Tag:noindex
X-PUBLISHED-TTL:PT1H
BEGIN:VTIMEZONE
TZID:Europe/Helsinki
BEGIN:DAYLIGHT
TZOFFSETFROM:+0200
TZOFFSETTO:+0300
TZNAME:EEST
DTSTART:20160327T010000
END:DAYLIGHT
BEGIN:STANDARD
TZOFFSETFROM:+0300
TZOFFSETTO:+0200
TZNAME:EET
DTSTART:20161030T010000
END:STANDARD
END:VTIMEZONE
BEGIN:VEVENT
DTSTART;TZID=Europe/Helsinki:20160220T110000
DTEND;TZID=Europe/Helsinki:20160220T110000
DTSTAMP:20260423T160950
CREATED:20160116T183129Z
LAST-MODIFIED:20160116T183129Z
UID:1084-1455966000-1455966000@siauliugidas.lt
SUMMARY:UODO ŠEIMOS TURGELIS
DESCRIPTION:Vaikai išaugo savo drabužius\, nusibodo žaislai\, susikaupė daug nebenaudojamų šeimyniškų daiktų?\nRegistruokitės prekybai\, parduokite savo turtą Uodo turgelyje ir užsidirbkite naujiems pirkiniams!\nPirkite\, parduokite\, mainykite\, dovanokite\, bendraukite ir smagiai pramogaukite su visa šeima ! \nUodo Šeimos Turgelyje jūsų laukia: \n– drabužiai\, avalynė ir aksesuarai visai šeimai;\n– prekės vaikams\, žaislai\, vaikiška technika;\n– rankdarbiai\, smulkmenos buičiai ir namams;\n– prekės grožiui ir sveikatai;\n– ir viskas ko gali prireikti jūsų šeimai:) \nVaikiški personažai\, kūrybinės dirbtuvėlės\, pramogos ir linksmybės ne tik mažiesiems\, bet ir tėveliams!! \nĮĖJIMAS NEMOKAMAS!! \nRegistracija prekybai: www.seimosturgelis.lt \nPasiteiravimui: tel. 8 635 11612\, el.p. seimosturgelis@uodas.lt \nPrekybos vietos kaina\, prekiaujantiems asmeniniais daiktais – 8 €. \nPrekybos vietos kaina\, prekiaujantiems rankdarbiais – 10 € \nPrekiauti galima asmeniniais\, nebendaudojamais savo šeimos daiktais: \nvaikų ir suaugusiųjų drabužiais\, avalyne\, vaikiškomis prekėmis\, žaislais\, smulkmenomis namams ir buičiai\, knygomis ir rankdarbiais. \nDėl komercinės prekybos sąlygos derinamos atskirai – kreipkitės daiva@uodas.lt ir tel. nr. 8 608 69269. \nTapkite mūsų draugais ir sekite visas naujienas: \nwww.facebook.com/uodo.seimos.turgelis \nPirkite\, parduokite\, mainykite internetu – www.uodas.lt \nOrganizatorius: VšĮ UODAS.LT \nKontaktinis asmuo: Gitana Granickienė \nKontaktai informacijai: gitana@uodas.lt\, 862086798
URL:https://siauliugidas.lt/renginiai/uodo-seimos-turgelis/
LOCATION:Šiaulių arena
CATEGORIES:Šventė
ATTACH;FMTTYPE=image/jpeg:https://siauliugidas.lt/wp-content/uploads/2016/01/seimos-turgelis.jpg
END:VEVENT
BEGIN:VEVENT
DTSTART;TZID=Europe/Helsinki:20160220T120000
DTEND;TZID=Europe/Helsinki:20160220T120000
DTSTAMP:20260423T160950
CREATED:20160128T200542Z
LAST-MODIFIED:20160128T200542Z
UID:1274-1455969600-1455969600@siauliugidas.lt
SUMMARY:Vilniaus kamerinio teatro spektaklis vaikams "Plėšikas Hocenplocas"
DESCRIPTION:Legendinis NUOTYKIŲ spektaklis pagal Otfriedo Preusslerio apysaką. \nRežisierius – Evaldas Jaras\nScenografija – Arvydas Norvaišas\nKostiumų dailininkė – Indrė Budreckytė\nMuzikos autorius – Saulius Mykolaitis\nAranžuotė – Martynas Bialobžeskis\nGarso režisierė – Deimantė Ponelytė\nŠviesa: Maksim Semionov \nPremjera – 2011 m. kovo 28 d.\nTrukmė – 50 min. \nVaidina:\nTadas Gudaitis – Plėšikas Hocenplocas\nZigmantas V. Baranauskas – Kaspariukas\nPaulius Valaskevičius – Zepukas\nLaurynas Perkumas/Aidas Barkauskas/Marius Mačiulis – Petrozilijus Cvakelmanas\nIndrė Jaraitė – Varlė\, Fėja Amarilė\nVaiva Markelytė – Močiutė \n*Kaina nurodyta be nuolaidos. Bilietus su nuolaida įsigysite bilietai.lt \nŽymus vokiečių rašytojas Otfriedas Preussleris sužavėjęs savo pasakomis visos Europos vaikus. Jis – bestselerių „Raganiukė”\, „Vaiduokliukas”\, „Mažasis vandenis” autorius. Vienas garsiausių O. Preusslerio kūrinių – „Plėšikas Hocenplocas”. \nRežisierius Evaldas Jaras ir Vilniaus kamerinio teatro aktoriai linksmai ir charakteringai atskleidžia dviejų neišskiriamų draugų – Kaspariuko ir Zepuko nuotykius. Juos lydi akistata su rūsčiu\, bet visai simpatišku plėšiku. Mat anas pagrobė močiutės branginamą kavos malūnėlį. Į neramią\, kartu šmaikščią istoriją įsivelia piktas burtininkas Petrozilijus Cvakelmanas ir nuostabioji fėja Amarilė. Spektaklio metu skamba šviesaus atminimo aktoriaus ir bardo Sauliaus Mykolaičio dainos. \nKviečiame į pažintį su nepaprastu plėšiku Hocenplocu!
URL:https://siauliugidas.lt/renginiai/vilniaus-kamerinio-teatro-spektaklis-vaikams-plesikas-hocenplocas/
LOCATION:Šiaulių dramos teatras
CATEGORIES:Spektaklis
ATTACH;FMTTYPE=image/jpeg:https://siauliugidas.lt/wp-content/uploads/2016/01/plesikas.jpg
END:VEVENT
BEGIN:VEVENT
DTSTART;TZID=Europe/Helsinki:20160220T210000
DTEND;TZID=Europe/Helsinki:20160220T210000
DTSTAMP:20260423T160950
CREATED:20160126T162535Z
LAST-MODIFIED:20160126T162535Z
UID:1223-1456002000-1456002000@siauliugidas.lt
SUMMARY:Grupės „ba.” koncertas „SAULĖSUŽTEMIMAS”
DESCRIPTION:2015-iesiems baigiantis\, po kelių mėnesių koncertinės tylos pristatę naują grupės narį\, naujiesiems vos prasidėjus\, M.A.M.A „Metų alternatyvos” kategorijoje nominuota grupė „ba.” skelbia apie turo „SAULĖSUŽTEMIMAS” koncertus. \n„Žmonių energija\, perduodama mums koncertų metu ir jų reakcija į mūsų muziką yra neįkainojama. Po praėjusio turo labai laukėme naujojo\, norime kuo greičiau susitikti su senais mūsų klausytojais ir galbūt sulaukti naujų.” \n„Metai – nemažas laiko tarpas\, tad norime parodyti ką per juos nuveikėme\, kaip skambame dabar\, o kiekvienas turas yra kaip mažas serialas – labai intensyvus ir net sekinantis laikotarpis\, bet vos tik jam pasibaigus vėl ir vėl norisi grįžti į kelionę – pripažįsta „ba.” nariai. Vasario mėnesį prasidėsiančiam turui grupė „ba.” suteikė būsimo singlo ir mini albumo pavadinimą. „Mėgstame smulkmenas\, net tokias kaip rašyti kūrinio pavadinimą be tarpų\, ir šįkart jomis išreiškiame tęstinumą.” \n„SAULĖSUŽTEMIMAS” – tęstinė mūsų debiutinio albumo kūrinio „JUODAESI” istorija ir kol kas šiam kūriniui skiriame daugiausiai dėmesio. O Saulės užtemimas mums – labiau būsena nei visatos reiškinys. Tai – tarsi noras pamatyti saulės šviesą plika akimi\, net žinant\, kad ji degina”\, – pasakoja Benas Aleksandravičius. \nPo rudenį vykusios koncertinės pertraukos\, kurios metu grupės „ba.” nariai ilsėjosi\, skyrė laiko apmąstymams\, kūrė\, repetavo bei pradėjo naujų dainų įrašus\, praėjusių metų pabaigoje „LRT Opus Ore” koncertų serijos metu  jie savo klausytojus supažindino su nauju grupės nariu. \n„Nuo pat pirmos dienos Maratas su ilgai lauktomis ir ieškotomis gyvos bosinės gitaros linijom į grupės kūryba atnešė kiek kitokio skambesio ir muzikinių sprendimų\, kurių grupėje dar niekada nebuvo\,” – pagyrų naujam grupės nariui negaili Jonas Butvydas ir Benas Aleksandravičius. \n„Net ir seni mūsų kūriniai yra dalinai pakeitę skambesį\, tad turo metu nekantraujame pristatyti juos\, naują grupės narį\, naująjį mūsų mini albumą ir ruošiamės tradiciškai „pa’rock’inti”\, – leistis į turą nekantrauja grupė. \nVasario mėnesį prasidėsiančio turo „SAULĖSUŽTEMIMAS” koncertai įvyks vasario 19 d. Klaipėdoje\, bare „Kaštonas”\,  20 d.  Šiauliuose\, „Blic” bare\, 26 d. Utenos kūrybinių industrijų centre „Taurapilis”\, 27 d. Kauno „Lizde”\, kovo 4 d. Alytuje\, bare „Fenix” bei kovo 17 d. Vilniuje\, „Kablyje”.
URL:https://siauliugidas.lt/renginiai/grupes-ba-koncertas-saulesuztemimas/
LOCATION:Baras „Blic”
CATEGORIES:Koncertas
ATTACH;FMTTYPE=image/jpeg:https://siauliugidas.lt/wp-content/uploads/2016/01/ba_Art-Belikov_2-1.jpg
END:VEVENT
END:VCALENDAR