BEGIN:VCALENDAR
VERSION:2.0
PRODID:-//Šiaulių gidas - ECPv6.9.0//NONSGML v1.0//EN
CALSCALE:GREGORIAN
METHOD:PUBLISH
X-ORIGINAL-URL:https://siauliugidas.lt
X-WR-CALDESC:Events for Šiaulių gidas
REFRESH-INTERVAL;VALUE=DURATION:PT1H
X-Robots-Tag:noindex
X-PUBLISHED-TTL:PT1H
BEGIN:VTIMEZONE
TZID:Europe/Helsinki
BEGIN:DAYLIGHT
TZOFFSETFROM:+0200
TZOFFSETTO:+0300
TZNAME:EEST
DTSTART:20160327T010000
END:DAYLIGHT
BEGIN:STANDARD
TZOFFSETFROM:+0300
TZOFFSETTO:+0200
TZNAME:EET
DTSTART:20161030T010000
END:STANDARD
END:VTIMEZONE
BEGIN:VEVENT
DTSTART;TZID=Europe/Helsinki:20160221T100000
DTEND;TZID=Europe/Helsinki:20160221T100000
DTSTAMP:20260423T223327
CREATED:20160128T083315Z
LAST-MODIFIED:20160128T083315Z
UID:1244-1456048800-1456048800@siauliugidas.lt
SUMMARY:Nemokamos sekmadienio treniruotės
DESCRIPTION:Treniruočių pradžia – 10 val. Trukmė – 1 val. \nVieta – Šiaulių arenos salė (kiekvieną sekmadienį patiksliname kuri) \nAtsineškite kilimėlį\, vandens ir gerą nuotaiką. \nPasakyk apie renginį savo draugams ir atvykite kartu! \n02.21 – aerobika-joga su Jurga Mikelioniene \n02.28 – intensyvi joga su Roku ir Mila Leonavičiais \n03.06 – treniruotė su Andriumi Norkumi \n03.13 – funkcinė treniruotė su Robertu Baranausku \n03.20 – zumba su Jūrate Trafimoviene
URL:https://siauliugidas.lt/renginiai/nemokamos-sekmadienio-treniruotes-4/
LOCATION:Šiaulių arena
CATEGORIES:Sporto renginys
ATTACH;FMTTYPE=image/jpeg:https://siauliugidas.lt/wp-content/uploads/2016/01/nemokamos-treniruotes.jpg
END:VEVENT
BEGIN:VEVENT
DTSTART;TZID=Europe/Helsinki:20160221T130000
DTEND;TZID=Europe/Helsinki:20160221T130000
DTSTAMP:20260423T223327
CREATED:20160215T132508Z
LAST-MODIFIED:20160215T132508Z
UID:1489-1456059600-1456059600@siauliugidas.lt
SUMMARY:Popietė visai šeimai
DESCRIPTION:Į klubą „Juonė pastogė“ grįžta renginiai vaikams! \nSekmadieniais 13.00val. Popietės visai šeimai – smagios dainelės\, žaidimai ir konkursai\, specialus valgiaraštis mažiesiems. Dainavimo studijos „Svirplys“ koncertas kartu su Romuliadu Šokoladu. Puiki vieta vaikučių pabiručių gimtadieniams!
URL:https://siauliugidas.lt/renginiai/popiete-visai-seimai/
LOCATION:„Juonė pastuogė”
CATEGORIES:Šventė
ATTACH;FMTTYPE=image/jpeg:https://siauliugidas.lt/wp-content/uploads/2016/02/Vaiku-popietes1.jpg
END:VEVENT
BEGIN:VEVENT
DTSTART;TZID=Europe/Helsinki:20160221T140000
DTEND;TZID=Europe/Helsinki:20160221T140000
DTSTAMP:20260423T223327
CREATED:20160126T134325Z
LAST-MODIFIED:20160126T134325Z
UID:1210-1456063200-1456063200@siauliugidas.lt
SUMMARY:Knygos vaikams "Kitoks pasaulis" pristatymas
DESCRIPTION:Šiaulių apskrities P. Višinskio viešojoje bibliotekoje Vaikų literatūros skyriuje\, Aušros al. 62\, Šiauliuose\, vasario 21 d.\, sekmadienį\, 14 val. Monika Domeikienė pristatys savo debiutinęknygą vaikams „KITOKS PASAULIS“. \nRenginyje dalyvaus knygos autorė Monika Domeikienė\, iliustratorė\, Vilniaus dailės akademijos studentė Lauryna Kvedaraitė. Monika Domeikienė – jauna autorė (g.1984 m.)\, dirba Šiaulių dailės galerijoje. „Kitoks pasaulis“ yra jos pirmoji knyga. Knygelė\, skirta bendravimui (tarp draugų\, tarp tėvų ir vaikų…)\, jos tikslai yra paprasti\, bet labai svarbūs vaikams – suteikti skaitymo malonumą\, skatinti jaunąją kartą susimąstyti apie vertybių svarbą gyvenime bei atskleisti paprastus laimės ieškojimo ypatumus. Pagrindinė knygelės veikėja Aretė jau nuo pirmųjų puslapių sužavi savo vaikišku paprastumu. Jos nekankina sudėtingos problemos\, todėl jai svarbu\, kad šalia jos esantys žmonės būtų tokie pat laimingi ir patenkinti\, kaip ir ji. Mergaitei nesvetima empatija ir noras padėti draugui\, todėl mielai pasiūlo liūdnam ir pasimetusiam Hedrikui eiti ieškoti vertybių ir gėrio. O pats geriausias būdas vaikui atrasti save – pasinerti į spalvotą minčių pasaulį. Knygelėje vaikas  galės pasinerti į spalvotas iliustracijas\, o įvairios kūrybinės užduotys mokys vaikąsavarankiškumo\, padės jam suvokti draugystės svarbą\, lavins jo vaizduotę. \nLaimė. Kiek reikia\, kad būtume laimingi? Ką žino laimingi žmonės\, ko nežinome mes? Ar užtenka ugdyti vertybes\, kad būtume laimingi ir geri žmonės?
URL:https://siauliugidas.lt/renginiai/1210/
LOCATION:P. Višinskio viešojoji biblioteka\, Aušros al. 62\, Šiauliai
CATEGORIES:Pristatymas
END:VEVENT
BEGIN:VEVENT
DTSTART;TZID=Europe/Helsinki:20160221T180000
DTEND;TZID=Europe/Helsinki:20160221T180000
DTSTAMP:20260423T223327
CREATED:20160213T095414Z
LAST-MODIFIED:20160213T095414Z
UID:1436-1456077600-1456077600@siauliugidas.lt
SUMMARY:Komedija „Bus sunku…“
DESCRIPTION:„Domino“ teatras pristato neįtikėtinų intrigų kupiną premjerą – komediją „Bus sunku…“. Adolfo Večerskio režisuotas ir iki ašarų juokingas spektaklis nepaliks nei vieno abejingo. Spektaklyje vaidina Inga Valinskienė\, Saulius Siparis\, Ramunė Kurienė\, Sakalas Uždavinys ir kiti.
URL:https://siauliugidas.lt/renginiai/komedija-bus-sunku/
LOCATION:Šiaulių kultūros centras
CATEGORIES:Spektaklis
ATTACH;FMTTYPE=image/jpeg:https://siauliugidas.lt/wp-content/uploads/2016/02/Bus_sunku.jpg
END:VEVENT
END:VCALENDAR