BEGIN:VCALENDAR
VERSION:2.0
PRODID:-//Šiaulių gidas - ECPv6.9.0//NONSGML v1.0//EN
CALSCALE:GREGORIAN
METHOD:PUBLISH
X-WR-CALNAME:Šiaulių gidas
X-ORIGINAL-URL:https://siauliugidas.lt
X-WR-CALDESC:Events for Šiaulių gidas
REFRESH-INTERVAL;VALUE=DURATION:PT1H
X-Robots-Tag:noindex
X-PUBLISHED-TTL:PT1H
BEGIN:VTIMEZONE
TZID:Europe/Helsinki
BEGIN:DAYLIGHT
TZOFFSETFROM:+0200
TZOFFSETTO:+0300
TZNAME:EEST
DTSTART:20250330T010000
END:DAYLIGHT
BEGIN:STANDARD
TZOFFSETFROM:+0300
TZOFFSETTO:+0200
TZNAME:EET
DTSTART:20251026T010000
END:STANDARD
END:VTIMEZONE
BEGIN:VEVENT
DTSTART;TZID=Europe/Helsinki:20250107T130000
DTEND;TZID=Europe/Helsinki:20250107T130000
DTSTAMP:20260420T131131
CREATED:20200227T173959Z
LAST-MODIFIED:20250304T195540Z
UID:10893-1736254800-1736254800@siauliugidas.lt
SUMMARY:Spektaklis „Didelė lietuviška pasaka“
DESCRIPTION:Režisierė – Eglė Kižaitė\nDramaturgė – Monika Baranauskaitė\nScenografė ir kostiumų dailininkė – Laura Luišaitytė\nKompozitorius – Pijus Narijauskas\n\n\nVieną vakarą\, mamai išėjus į šokių pamoką\, prižiūrėti trijų anūkų ateina du seneliai: rimtasis Juozas ir linksmasis Juozukas. Ir vienas\, ir kitas senelis turi skirtingą požiūrį į savo „pareigas“\, tačiau netrukus jie abu yra įviliojami į vaikų fantazijų pasaulį. Tuomet įprasti namai pavirsta stebuklinga\, kartais net gąsdinančia vieta\, kur susirenka skirtingų pasakų veikėjai. \nVaikai lengvai atpažins situacijas ir personažus iš tokių visiems gerai žinomų pasakų kaip „Eglė žalčių karalienė“\, „Dvylika brolių juodvarniais lakstančių“\, „Dangus griūva”\, „Kaip žmogus velnią apgavo“\, „Trys broliai“\, „Skraidantis laivas“\, „Lukošiukas“. \nSpalvingo\, išradingo ir įspūdingais efektais prisodrinto spektaklio centre – jauniausias anūkėlis Modestas\, kuris\, tą vakarą patiria daugybę išbandymų ir nuotykių. Grįžusi namo mama randa ne tik „aukštyn kojomis“ apverstus namus\, bet ir draugiškai susivienijusią šeimyną. O jaunėliui Modestui pagaliau paaiškėja\, kad ne tik pasakose\, bet ir kasdienybėje svarbu ne pati laiminga pabaiga\, o žinojimas\, kad šeimos vienybė yra ta jėga\, kuri visada padės įveikti didžiausius priešus ir baimes. \nPremjera – 2019 m. gruodžio 17 d. 
URL:https://siauliugidas.lt/renginiai/premjera-didele-lietuviska-pasaka/
LOCATION:Šiaulių dramos teatras
CATEGORIES:Renginys vaikams
END:VEVENT
BEGIN:VEVENT
DTSTART;TZID=Europe/Helsinki:20250107T180000
DTEND;TZID=Europe/Helsinki:20250107T180000
DTSTAMP:20260420T131131
CREATED:20231230T133034Z
LAST-MODIFIED:20250102T212813Z
UID:15709-1736272800-1736272800@siauliugidas.lt
SUMMARY:Teatro komedija „Tai kada vaikai?“
DESCRIPTION:„Tai kada vaikai?“ nėra paprastas klausimas\, o veikiau mūsų kultūros paveldo dalis. Tai – mėgstamiausias tetos Daivos juokelis\, didžiausias Tavo tėvų galvos skausmas\, paskutinis jūsų nepriklausomo gyvenimo atspindys. \nApie tai – ir naujoji teatro komedija tokiu pačiu pavadinimu – „Tai kada vaikai?“ \nAistė yra 30-metė vestuvių planuotoja\, kuri nekenčia vestuvių. Marius – 38-erių elektrikas. Geras ir nuolankus\, tačiau ne itin patrauklus vyras. Pora nuomoja butą Vilniaus senamiestyje\, kuris iš tikro jiems kiek per brangus. Gyvenimas labai nelepina\, bet tikrai ir neskriaudžia – visko kaip ir užtenka\, tačiau iki pilnatvės lyg ir kažko trūksta. \nLaikrodis tiksi. Tik neaišku kam labiau – ar minėtai porai\, ar Aistės šeimai. Tai ar sulauksime tų palikuonių\, ar ne?! \nSpektaklyje išvysite iki skausmo dažnai porai pažįstamą situaciją. Ar gali du žmonės laimingai gyventi be vaikų? Ar be vaikų galima patirti tą „didįjį gyvenimo džiaugsmą“? O gal laikas pasiduoti spaudimui ir pabandyti? Jei taip\, ar jau laikas susituokti ir prisiekti amžiną meilę?! \nSpektaklyje pagrindinius vaidmenis atlieka Gelminė Glemžaitė ir Marius Repšys. Komediją režisuoja Dainius Kazlauskas. \nRenginio trukmė: ~1.30 val.
URL:https://siauliugidas.lt/renginiai/premjera-teatro-komedija-tai-kada-vaikai/
LOCATION:Šiaulių kultūros centro Didžioji koncertų salė (Aušros al. 31)
CATEGORIES:Spektaklis
END:VEVENT
END:VCALENDAR