BEGIN:VCALENDAR
VERSION:2.0
PRODID:-//Šiaulių gidas - ECPv6.9.0//NONSGML v1.0//EN
CALSCALE:GREGORIAN
METHOD:PUBLISH
X-WR-CALNAME:Šiaulių gidas
X-ORIGINAL-URL:https://siauliugidas.lt
X-WR-CALDESC:Events for Šiaulių gidas
REFRESH-INTERVAL;VALUE=DURATION:PT1H
X-Robots-Tag:noindex
X-PUBLISHED-TTL:PT1H
BEGIN:VTIMEZONE
TZID:Europe/Helsinki
BEGIN:DAYLIGHT
TZOFFSETFROM:+0200
TZOFFSETTO:+0300
TZNAME:EEST
DTSTART:20250330T010000
END:DAYLIGHT
BEGIN:STANDARD
TZOFFSETFROM:+0300
TZOFFSETTO:+0200
TZNAME:EET
DTSTART:20251026T010000
END:STANDARD
END:VTIMEZONE
BEGIN:VEVENT
DTSTART;TZID=Europe/Helsinki:20250123T183000
DTEND;TZID=Europe/Helsinki:20250123T183000
DTSTAMP:20260420T131111
CREATED:20250101T204115Z
LAST-MODIFIED:20250101T204115Z
UID:17377-1737657000-1737657000@siauliugidas.lt
SUMMARY:Jubiliejinis Sauliaus Bareikio koncertas „SVEČIAS“
DESCRIPTION:2025 m. sausio 22 dieną žinomas teatro ir kino aktorius\, dainų autorius ir atlikėjas Saulius Bareikis pasitinka savo septyniasdešimtmetį. Ta proga geros muzikos ekspertai „Bardai LT” rengia du muzikinius vakarus šiai sukakčiai paminėti. \nSausio 23 d. 18:30 Valstybiniame Šiaulių dramos teatre\, kuriame S. Bareikis praleido dalį savo kūrybinio gyvenimo\, jis pristatys įvairiais laikotarpiais kurtas dainas ir nustebins nauju skambesiu. Kartu su juo į sceną žengs ilgametis kolega\, aktorius\, bardas Olegas Ditkovskis (gitara\, vokalas)\, kompozitorius Audrius Balsys (klavišiniai)\, gitaristas Martynas Kuliavas ir pritariančioji vokalistė Žaneta Ježerytė (pritariamasis vokalas). \n„Nuostabu\, kad profesionalūs muzikantai mokosi groti mano gabalą iš natų\, o kartu su manimi mano vyrišką monologą dainuoja moteris. Bus smagu paklausyti\, kaip šneka dešinysis pusrutulis su kairiuoju”\, – samprotauja Saulius Bareikis\, kruopščiai atrinkdamas dainas koncertinei programai. \nSausio 29 d. 19 val. pasveikinti dainuojantį aktorių turės galimybę vilniečiai ir Vilniaus miesto svečiai. Šv. Kotrynos bažnyčioje S. Bareikis su minėtais profesionaliais muzikantais surengs šventinį koncertą\, kuriame dalyvaus jo sūnus Jokūbas Bareikis\, aktoriai Kristina Kazlauskaitė\, Kostas Smoriginas\, poetai Rimvydas Stankevičius ir Antanas A. Jonynas. \nVakaro metu\, skambant lyriškoms S. Bareikio baladėms\, vartant jo gyvenimo dienoraščius bei įsiklausant į vidinius monologus\, atsiskleis filosofuojanti\, poetiškai sentimentali\, gili\, subtilaus humoro nestokojanti kūrėjo asmenybė. „Kas yra Svečias? – retoriškai klausia jubiliatas\, – mano pirmojo ir vienintelio albumo pavadinimas?! O gal pats esu svečias savo gimtadieny?! O ir mes visi tik svečiai šioje žemėje?”. \nTapti neeilinio gimtadienio svečiais kviečia geros muzikos ekspertai „Bardai LT”. \nSaulius Bareikis gimė 1955 m.\, Vilniuje skulptorių Stanislavo Bareikio ir Elenos Nijolės Bučiūtės šeimoje. 1977 m. baigė Lietuvos valstybinę konservatoriją (Irenos Vaišytės kursas). 1977–1981 m. ir nuo 2008 – Šiaulių dramos teatro\, 1981–2000 m. Valstybinio Jaunimo teatro aktorius. Nuo 2000 iki 2022 m. vaidino įvairiuose Lietuvos teatruose. Nuo 2006 m. dėstė Lietuvos muzikos ir teatro akademijoje. Vaidino kino ir televizijos filmuose. \nŽymesni vaidmenys teatre: Romeo (K. Antanėlio roko operoje „Meilė ir mirtis Veronoje” 1982\, S. Gedos libretas)\, Mankurtas („Ilga kaip šimtmečiai diena” pagal Č. Aitmatovą)\, Haroldas (C. Higginso\, J. C. Carrière’o „Haroldas ir Modė”\, abu 1983)\, Sirano (E. Rostand’o „Siran”o 1996)\, Aklas smuikininkas (Just. Marcinkevičiaus „Katedra” 2012\, režisierius O. Koršunovas)\, Policininkas\, Jakubas Lechas (Ankos Herbut „Lokys” 2017\, režisierius Łukaszas Twarkowskis). \n1995 m. kartu su K. Smoriginu ir O. Ditkovskiu subūrė legenda tapusią grupę „Aktorių trio”. Aktyviai koncertavo su Andriumi Kulikausku\, grupe „Adios”. 2008 m. išleido dainuojamosios poezijos albumą „Svečias”. \n2022 m. debiutavo kaip režisierius\, pastatęs spektaklį „Liftas į dangų” (pagal A. Slapovskio pjėsę)\, kuriame vaidino Marius Jampolskis\, Sakalas Uždavinys\, Danutė Kuodytė ir Elžbieta Mikalajūnaitė. \nIki šiol rengia koncertus su Olegu Ditkovskiu\, Jokūbu Bareikiu\, grupe „Aktorių trio”\, kūrybinius vakarus su aktore Kristina Kazlauskaite\, kurių metu atsiskleidžia kaip puikus istorijų pasakotojas. \nŠiuo metu leidybai ruošiama Sauliaus Bareikio prozos knyga „Odė lūzeriui”.
URL:https://siauliugidas.lt/renginiai/jubiliejinis-sauliaus-bareikio-koncertas-svecias/
LOCATION:Šiaulių dramos teatras
CATEGORIES:Koncertas
END:VEVENT
END:VCALENDAR