BEGIN:VCALENDAR
VERSION:2.0
PRODID:-//Šiaulių gidas - ECPv6.9.0//NONSGML v1.0//EN
CALSCALE:GREGORIAN
METHOD:PUBLISH
X-WR-CALNAME:Šiaulių gidas
X-ORIGINAL-URL:https://siauliugidas.lt
X-WR-CALDESC:Events for Šiaulių gidas
REFRESH-INTERVAL;VALUE=DURATION:PT1H
X-Robots-Tag:noindex
X-PUBLISHED-TTL:PT1H
BEGIN:VTIMEZONE
TZID:Europe/Helsinki
BEGIN:DAYLIGHT
TZOFFSETFROM:+0200
TZOFFSETTO:+0300
TZNAME:EEST
DTSTART:20250330T010000
END:DAYLIGHT
BEGIN:STANDARD
TZOFFSETFROM:+0300
TZOFFSETTO:+0200
TZNAME:EET
DTSTART:20251026T010000
END:STANDARD
END:VTIMEZONE
BEGIN:VEVENT
DTSTART;TZID=Europe/Helsinki:20250222T120000
DTEND;TZID=Europe/Helsinki:20250222T120000
DTSTAMP:20260420T080409
CREATED:20250129T204731Z
LAST-MODIFIED:20250129T204731Z
UID:17543-1740225600-1740225600@siauliugidas.lt
SUMMARY:Muzikinė pasaka visai šeimai "Mikė Pūkuotukas operos pasaulyje"
DESCRIPTION:Vasario 22 d. 12.00 val. \nMikė Pūkuotukas – JONAS SAKALAUSKAS (bosas)\nAsiliukas – VYTAUTAS LUKOČIUS (fortepijonas) \nPasakotoja ir šokolado konditerė – EMILIJA FINAGĖJEVAITĖ (sopranas) \nAr kada nors susimąstėte\, kaip skambėtų Mikės Pūkuotuko pasaulis\, jei jis atgytų operos scenoje? Kvieskite savo draugus ir šeimas į magišką kelionę\, kurioje mylimiausi personažai – Mikė Pūkuotukas ir Asiliukas – supažindins jus su neįtikėtinu operos pasauliu! \nOperos solistas Jonas Sakalauskas taps pačiu Mike Pūkuotuku\, o dirigentas Vytautas Lukočius įkūnys žavingąjį Asiliuką. Šie du draugai jus lydės per nuotaikingas istorijas\, muzikinę magiją ir linksmus nuotykius\, kurių dar nebuvote girdėję. Šiame interaktyviame pasirodyme jūs ne tik išgirsite gražiausias operos melodijas\, bet ir atrasite paslaptingą muzikos pasaulį su herojais\, kuriuos jau pažįstate ir mylite! \nAteikite į „Mikę Pūkuotuką operos pasaulyje“ ir leiskite muzikai sužadinti jūsų vaizduotę! \nO kokia opera be karšto šokolado\, kuris viso spektaklio metu verdamas scenoje?! \nMuzikinė pasaka skirta vaikams iki 12 m.
URL:https://siauliugidas.lt/renginiai/muzikine-pasaka-visai-seimai-mike-pukuotukas-operos-pasaulyje/
LOCATION:„Polifonijos” salė
CATEGORIES:Koncertas
END:VEVENT
BEGIN:VEVENT
DTSTART;TZID=Europe/Helsinki:20250222T170000
DTEND;TZID=Europe/Helsinki:20250222T170000
DTSTAMP:20260420T080409
CREATED:20250129T210334Z
LAST-MODIFIED:20250129T210334Z
UID:17560-1740243600-1740243600@siauliugidas.lt
SUMMARY:Koncertas „DŽIAZO SPALVOS SU MEILE JUMS...“
DESCRIPTION:Džiazo orkestras „Romuva“ kviečia Jus į išskirtinį koncertą „DŽIAZO SPALVOS SU MEILE JUMS…“ \n\nPasinerkite į svaiginančius džiazo garsus ir pajuskite gyvą muzikos pulsą! Šio vakaro programa – tai muzikos energijos\, jaunatviško užsidegimo ir kūrybinės laisvės derinys. Talentingi jauni muzikantai atvers duris į džiazo pasaulį\, pripildytą šilumos\, improvizacijos ir aistros. Skambės garsiausi džiazo kūriniai ir netikėtos interpretacijos – muzikinė šventė\, kuri sužavės tiek klasikos mylėtojus\, tiek šiuolaikinio skambesio gerbėjus. \n\nKą patirsite?Džiazo šedevrus\, atliekamus jaunųjų muzikos talentų.Unikalų kūrybinį požiūrį ir nuostabias improvizacijas.Gyvą\, įkvepiančią atmosferą\, kuri privers ploti ir šypsotis! \n\nKoncerto vedėja Jūratė Budriūnaitė. \n\nPraleiskite vakarą kartu su muzika\, kuri gyvena kiekviename iš mūsų! 
URL:https://siauliugidas.lt/renginiai/koncertas-dziazo-spalvos-su-meile-jums/
LOCATION:Koncertų salė „Saulė”
CATEGORIES:Koncertas
END:VEVENT
END:VCALENDAR