BEGIN:VCALENDAR
VERSION:2.0
PRODID:-//Šiaulių gidas - ECPv6.9.0//NONSGML v1.0//EN
CALSCALE:GREGORIAN
METHOD:PUBLISH
X-WR-CALNAME:Šiaulių gidas
X-ORIGINAL-URL:https://siauliugidas.lt
X-WR-CALDESC:Events for Šiaulių gidas
REFRESH-INTERVAL;VALUE=DURATION:PT1H
X-Robots-Tag:noindex
X-PUBLISHED-TTL:PT1H
BEGIN:VTIMEZONE
TZID:Europe/Helsinki
BEGIN:DAYLIGHT
TZOFFSETFROM:+0200
TZOFFSETTO:+0300
TZNAME:EEST
DTSTART:20250330T010000
END:DAYLIGHT
BEGIN:STANDARD
TZOFFSETFROM:+0300
TZOFFSETTO:+0200
TZNAME:EET
DTSTART:20251026T010000
END:STANDARD
END:VTIMEZONE
BEGIN:VEVENT
DTSTART;TZID=Europe/Helsinki:20250223T100000
DTEND;TZID=Europe/Helsinki:20250223T170000
DTSTAMP:20260419T173611
CREATED:20250203T115129Z
LAST-MODIFIED:20250206T061620Z
UID:17588-1740304800-1740330000@siauliugidas.lt
SUMMARY:Mugė STILIUS IR SKONIS
DESCRIPTION:Šiais metais kitokia ir išskirtinė mugė „Stilius ir Skonis“ jau vasario 23 d. Šiaulių arenoje! Tai vieta kus susitinka mada ir maistas! \nMugės metu bus organizuojamaspokalbių projektas „Tikros istorijos” su Sandra Žutautiene! \nPrograma:\n10:00–17:00 – Mugė: mados kūrėjai\, bei gurmaniškų skonių atstovai\n10:00–17:00 – „Linksmas lagaminas“ animatorių pramogos mažiesiems\n12:00–13:00 – „Tikros istorijos“ pasikalbėjimai su Sandra Žutautiene. Pokalbiai apiemadą\, verslą ir įkvepiančius gyvenimo pokyčius. \nMugė „Stilius ir Skonis“ – tai ideali proga visiems\, norintiems puikiai praleisti laiką\, atrasti gurmaniškus skonius\, originalius rankų darbo dirbinius ir aukštos kokybės stiliaus detales\, kurias kuria geriausi šalies meistrai ir kūrėjai. \nKą rasite mugėje?\nLietuvos mados kūrėjų drabužius\, stilingas rankines ir aksesuarus – unikalūs dizaino elementai kiekvieno skoniui.\nRankų darbo juvelyrikos dirbinius – papuošalus\, kurie kalba patys už save.\nGurmaniškus skonius – nuo šalto spaudimo aliejų\, pagardų iki rankų darbo konditerijos. \nVasario 23 dieną Šiaulių arena taps stiliaus ir skonio epicentru\, kur kiekvienas galės rasti kažką ypatingo ir išskirtinio. Pažymėkite šią datą savo kalendoriuje ir ateikite atrasti naujų skonių bei stiliaus idėjų!\nMugė vyks nuo 10:00 iki 17:00 val. Šiaulių arenoje.
URL:https://siauliugidas.lt/renginiai/muge-stilius-ir-skonis-4/
LOCATION:Šiaulių arena
CATEGORIES:Mugė
ATTACH;FMTTYPE=image/png:https://siauliugidas.lt/wp-content/uploads/2025/02/1-Irasas.png
END:VEVENT
END:VCALENDAR