BEGIN:VCALENDAR
VERSION:2.0
PRODID:-//Šiaulių gidas - ECPv6.9.0//NONSGML v1.0//EN
CALSCALE:GREGORIAN
METHOD:PUBLISH
X-WR-CALNAME:Šiaulių gidas
X-ORIGINAL-URL:https://siauliugidas.lt
X-WR-CALDESC:Events for Šiaulių gidas
REFRESH-INTERVAL;VALUE=DURATION:PT1H
X-Robots-Tag:noindex
X-PUBLISHED-TTL:PT1H
BEGIN:VTIMEZONE
TZID:Europe/Helsinki
BEGIN:DAYLIGHT
TZOFFSETFROM:+0200
TZOFFSETTO:+0300
TZNAME:EEST
DTSTART:20250330T010000
END:DAYLIGHT
BEGIN:STANDARD
TZOFFSETFROM:+0300
TZOFFSETTO:+0200
TZNAME:EET
DTSTART:20251026T010000
END:STANDARD
END:VTIMEZONE
BEGIN:VEVENT
DTSTART;TZID=Europe/Helsinki:20250304T080000
DTEND;TZID=Europe/Helsinki:20250304T170000
DTSTAMP:20260419T164443
CREATED:20250224T170111Z
LAST-MODIFIED:20250224T170111Z
UID:17695-1741075200-1741107600@siauliugidas.lt
SUMMARY:Baisiai gražių Morių išlydėtuvės
DESCRIPTION:Šiaulių kultūros centras 2025 m. kovo 4 d. organizuoja baisiai gražių Morių išlydėtuves! \nNumatomos renginio iniciatyvos: \nVasario 25 d. – kovo 4 d. \nParoda „Baisiai graži Morė“ bei Morės rinkimai\nBalsavimas ir rezultatų paskelbimas Šiaulių kultūros centro „Facebook“ paskyroje\nKaštonų al. \nKovo 4 d. \n17.30 val. Morių išlydėtuvių procesija\nKaštonų al. – Vilniaus g. bulvaras – P. Višinskio aikštė \n18.00 val. išlydėtuvių koncertas\nLašininio ir Kanapinio dvikova\, Morių išlydėtuvės\, grupės „Black biceps“ pasirodymas\nP. Višinskio aikštė \n19.30 val. Morės deginimas\nŠiaulių „Aušros“ muziejaus Žaliūkių malūnininko sodyba\, Architektų g. 73 \n\nŠiaulių kultūros centras kviečia miesto įstaigas\, įmones\, organizacijas\, bendruomenes aktyviai jungtis į Užgavėnėms skirtą iniciatyvą „Baisiai gražių Morių išlydėtuvės“ ir dalyvauti parodoje „Baisiai graži Morė“ bei išlydėtuvių procesijoje. Paroda Kaštonų alėjoje veiks nuo vasario 25 d. iki pat išlydėtuvių kovo 4-ąją. \nŠiauliečiai ir miesto svečiai Šiaulių kultūros centro „Facebook“ paskyroje galės balsuoti „patiktukais“ už labiausiai sužavėjusią Morę. Balsavimas vyks nuo vasario 25 d. iki kovo 4 d. 8 val. Trys daugiausiai „patiktukų“ surinkusių Morių kūrėjai bus apdovanoti prizais.
URL:https://siauliugidas.lt/renginiai/baisiai-graziu-moriu-islydetuves/
END:VEVENT
BEGIN:VEVENT
DTSTART;TZID=Europe/Helsinki:20250304T180000
DTEND;TZID=Europe/Helsinki:20250304T180000
DTSTAMP:20260419T164443
CREATED:20250227T203427Z
LAST-MODIFIED:20250227T203427Z
UID:17789-1741111200-1741111200@siauliugidas.lt
SUMMARY:Užgavėnės Žaliūkių malūnininko sodyboje
DESCRIPTION:Užgavėnės – viena linksmiausių ir archajiškiausių lietuviško kaimo švenčių\, išlaikiusių senąsias agrarinės magijos tradicijas\, žyminti paskutinę žiemos mėsiedo dieną ir artėjantį pavasarį. \nLaukiame Jūsų kovo 4 d. nuo 18 val. Žaliūkių malūnininko sodyboje su kaukėmis (senovėje buvo tikima\, kad tik tas\, kuris po Užgavėnių kauke liks neatpažintas\, tais metais tikrai bus laimingas) ir gera nuotaika\, o muziejaus gaspadinės visus kaukėtus pavaišins gardžiais blynais. \nSušalti neleis ir šventinę nuotaiką skleis:\nKapela „Pavakarys“;\nFolkloro ansambliai: „Vieversėlis“\, „Margulis“\, „Nesenstantys širdimi“ ir „Vijolė“;\nUkrainiečių integracijos centro „Malva“ folkloro ansamblis „Lastivočki“. \nProgramoje:\n18–20 val. kaitrus laužas\, gardūs blynai ir arbata\, muzika\, šokiai ir dainos\n19 val. „Baisiai gražios Morės“ sutiktuvės\n19.30 val. „Baisiai gražios Morės“ išlydėjimas į dausas \nOrganizatorius – Šiaulių „Aušros“ muziejus\nRėmėja – Šiaulių miesto savivaldybė\nPartneris – Šiaulių kultūros centras \nInformacija bus pildoma.\nwww.ausrosmuziejus.lt \n\n\nInformacija apie renginį\n\n\n\nData:\n2025-03-04\n\n\nLaikas:\n18 val.\n\n\nVieta:\nŽaliūkių malūninko sodyba-muziejus\n\n\nAdresas:\nArchitektų g. 73\, Šiauliai
URL:https://siauliugidas.lt/renginiai/uzgavenes-zaliukiu-malunininko-sodyboje/
LOCATION:Žaliūkių vėjo malūnas
CATEGORIES:Šventė
END:VEVENT
END:VCALENDAR