BEGIN:VCALENDAR
VERSION:2.0
PRODID:-//Šiaulių gidas - ECPv6.9.0//NONSGML v1.0//EN
CALSCALE:GREGORIAN
METHOD:PUBLISH
X-WR-CALNAME:Šiaulių gidas
X-ORIGINAL-URL:https://siauliugidas.lt
X-WR-CALDESC:Events for Šiaulių gidas
REFRESH-INTERVAL;VALUE=DURATION:PT1H
X-Robots-Tag:noindex
X-PUBLISHED-TTL:PT1H
BEGIN:VTIMEZONE
TZID:Europe/Helsinki
BEGIN:DAYLIGHT
TZOFFSETFROM:+0200
TZOFFSETTO:+0300
TZNAME:EEST
DTSTART:20250330T010000
END:DAYLIGHT
BEGIN:STANDARD
TZOFFSETFROM:+0300
TZOFFSETTO:+0200
TZNAME:EET
DTSTART:20251026T010000
END:STANDARD
TZID:Europe/Moscow
BEGIN:STANDARD
TZOFFSETFROM:+0300
TZOFFSETTO:+0300
TZNAME:MSK
DTSTART:20250101T000000
END:STANDARD
END:VTIMEZONE
BEGIN:VEVENT
DTSTART;TZID=Europe/Helsinki:20250308T140000
DTEND;TZID=Europe/Helsinki:20250308T140000
DTSTAMP:20260420T073723
CREATED:20250224T170034Z
LAST-MODIFIED:20250224T170034Z
UID:17692-1741442400-1741442400@siauliugidas.lt
SUMMARY:Aštri komedija „Psichai“
DESCRIPTION:Kovo 8 d. 14 val. Šiaulių kultūros centro Didžiojoje koncertų salėje bus rodomas „Domino“ teatro spektaklis „Psichai“. \nGarsaus psichoterapeuto priimamajame – 6 pacientai. Iš pažiūros sveiki\, bet elgiasi keistokai. Frederikas\, pagyvenęs ir inteligentiškas vyras\, nuolat nevalingai keikiasi. Taksistas Žanas viską skaičiuoja ir kaupia. Laborantė Blanka perdėtai saugosi mikrobų. Dievobaimingoji Marija paniškai bijo ką nors užmiršti. Lora viską kartoja bent du kartus. Jaunasis Pjeras tiesiog vengia tiesių linijų. \nVisi atėję tuo pačiu metu\, jie niekaip nesupranta\, kas sumaišė jų priėmimo laikus\, tad kantriai susėda laukti gydytojo. Tačiau šis begėdiškai vėluoja\, pacientai nerimsta\, pradeda kalbėtis\, pasakotis apie savo fobijas ir sindromus\, juos net demonstruoti! Įtampa priimamajame auga\, o improvizuota grupinė terapija įgauna rimtą pagreitį… Kada gi pasirodys tas gydytojas?! \nRenginio trukmė: ~2 val.
URL:https://siauliugidas.lt/renginiai/astri-komedija-psichai/
LOCATION:Šiaulių kultūros centro Didžioji koncertų salė (Aušros al. 31)
CATEGORIES:Spektaklis
END:VEVENT
BEGIN:VEVENT
DTSTART;TZID=Europe/Moscow:20250308T180000
DTEND;TZID=Europe/Moscow:20250308T180000
DTSTAMP:20260420T073723
CREATED:20160416T152756Z
LAST-MODIFIED:20250227T142530Z
UID:2333-1741456800-1741456800@siauliugidas.lt
SUMMARY:Spektaklis „Vardan tos“
DESCRIPTION:pagal Petro Vaičiūno pjesę PATRIOTAI\n \nDviejų dalių satyrinis farsas \nRežisierius – Aidas Giniotis \nKompozitorius – Vytautas Leistrumas \nScenografė ir kostiumų dailininkė – Ramunė Skrebūnaitė \nVAIDINA: \nLiuba – Inga Norkutė \nLiucija – Martyna Gedvilaitė\, Inga Jarkova \nOna – Eglė Stanišauskaitė \nNapoleonas Lietuvis – Aurimas Pintulis \nPetras Velykis – Aurimas Žvinys \nJotautas Kristautas – Aidas Matutis\, Anicetas Gendvilas \nPaulius Labutis – Sigitas Jakubauskas \nHenrikas Zauerzeinas – Eimantas Bareikis\, Anicetas Gendvilas\, Mindaugas Jurevičius \nGiedotojai – Dalius Jančiauskas\, Severinas Norgaila\, Danguolė Petraitytė \nPetras Vaičiūnas (1890 07 11–1959 06 07) – poetas\, dramaturgas\, vertėjas\, vienas žymiausių lietuviškojo repertuaro kūrėjų tarpukario Lietuvoje (parašė daugiau kaip 20 dramų). Į teatrą žiūrėjo kaip į pilietinio ir moralinio auklėjimo priemonę\, savo veikaluose gvildeno aktualias tautines\, socialines ir moralines problemas\, kūrė psichologiškai pagrįstus personažus\, Jo dramoms\, nepaisant kritiškos tikrovės analizės\, būdinga gyva reakcija į laikmečio aktualijas\, dinamiškas veiksmas\, šmaikštūs dialogai. \nDrama \,\,Patriotai“\, parašyta 1926 metais ir tais pat metais pastatyta Valstybės teatre (Kaune) legendinio režisieriaus Boriso Dauguviečio\, ilgai repertuare neišsilaikė\, nes nepatiko valdininkams. 1954 metais komediją pervadinęs „Ekscelencijos“ mėgėjiškai pastatė aktorius Balys Lukošius. Drama buvo panaudota ir kaip LRT kino filmo scenarijus 1980 metais. Paskutinysis pastatymas teatro scenoje 2008 metais režisieriui Jonui Vaitkui pelnė Auksinį scenos kryžių. O 2016 metų žiemą Lietuvos kino teatruose pristatoma dramaturgo\, žurnalisto bei scenaristo Mindaugo Nastaravičiaus filmo premjera – komedija „Patriotai“\, sukurta Petro Vaičiūno to paties pavadinimo pjesės „Patriotai“ motyvais. \n2016 metais sukanka kaip tik 90 metų nuo dramos parašymo ir pirmojo pastatymo. Įdomiausia\, kad situacija nedaug tepasikeitė\, nuo tos kuri buvo susiklosčiusi pokario Lietuvoje. Pasikeitė tik partijų ir institucijų pavadinimai\, antiherojų pavardės. Ir šiandien žmonės piktinasi korumpuotais valdininkais\, pseudopatriotiška valdžia\, įstatymais su spragomis\, kurios leidžia klestėti kyšininkavimui\, piktnaudžiavimui. Šiuolaikinė interpretacija\, veikėjų atpažįstamumas žiūrovui leistų ne tik pasijuokti\, bet ir pažadintų pilietinę sąžinę. \nRežisierius Aidas Giniotis daug neatvirauja\, bet sako\, kad spektaklis bus gerokai kitoks\, netgi drastiškas\, truputį liūdnas\, truputį šmaikštus. Jis bus skirtas suaugusiems\, t.y. tinkamas asmePerformance 1nims nuo 14 metų.
URL:https://siauliugidas.lt/renginiai/spektaklis-vardan-tos/
LOCATION:Šiaulių dramos teatras
CATEGORIES:Spektaklis
END:VEVENT
BEGIN:VEVENT
DTSTART;TZID=Europe/Helsinki:20250308T190000
DTEND;TZID=Europe/Helsinki:20250308T190000
DTSTAMP:20260420T073723
CREATED:20250224T165949Z
LAST-MODIFIED:20250224T165949Z
UID:17690-1741460400-1741460400@siauliugidas.lt
SUMMARY:Viktoro Balykov „stand up“ pasirodymas „Juokingas\, bet kas iš to?“
DESCRIPTION:Kovo 8 d. 19 val. Šiaulių kultūros centre vyks nauja Viktoro Balykov „stand up“ komedijos programa. \nViktoras kartais juokingas\, bet kas iš to? Naujausioje programoje Viktoras kelia dar daugiau klausimų\, o gal net ir pateikia atsakymų. \nAteikite paklausyti  ir pasijuokti. \nPasirodymo vakaras bus dar smagesnis\, nes kartu pasirodys vienas ar du apšildantys komikai! \nRenginio trukmė: ~1 val. 30 min.
URL:https://siauliugidas.lt/renginiai/viktoro-balykov-stand-up-pasirodymas-juokingas-bet-kas-is-to/
LOCATION:Šiaulių kultūros centro Kamerinė salė (Aušros al. 31)
CATEGORIES:Humoro vakaras
END:VEVENT
BEGIN:VEVENT
DTSTART;TZID=Europe/Helsinki:20250308T190000
DTEND;TZID=Europe/Helsinki:20250308T190000
DTSTAMP:20260420T073723
CREATED:20250224T174534Z
LAST-MODIFIED:20250224T174534Z
UID:17737-1741460400-1741460400@siauliugidas.lt
SUMMARY:Ligito Kernagio ir LAINIAUS šou „TAU: Pirmyn į 90uosius!'“
DESCRIPTION:Ligito Kernagio ir senosios Rondo energijos bei šilumos LAINIAUS šou – „TAU: Pirmyn į 90uosius!”\n \nTai daugiau nei dvi valandos puikios nuotaikos ir legendinių dainų!\nTau\, Vakarėja\, Laukų gėle\, Mūsų dienos\, Pelenė …\nKiekviena daina tai atskiri prisiminimai ir jausmai\, geriausios gyvenimiškos akimirkos\, nauji atradimai ir įspūdžiai!\n\nTAU: Pirmyn į 90uosius! –nepakartojama nuotaika ir emocijos.\n\n\nDurys atidaromos: ~18.30 val.\nRenginio trukmė: 2 val.\nPertrauka: nėra.\nVaikai įleidžiami nemokamai: iki 10 metų imtinai neužimant papildomos vietos.\nNuolaidos: Studentams\, senjorams ir neįgaliesiems.
URL:https://siauliugidas.lt/renginiai/ligito-kernagio-ir-lainiaus-sou-tau-pirmyn-i-90uosius/
LOCATION:Koncertų salė „Saulė”
CATEGORIES:Koncertas
END:VEVENT
END:VCALENDAR