BEGIN:VCALENDAR
VERSION:2.0
PRODID:-//Šiaulių gidas - ECPv6.9.0//NONSGML v1.0//EN
CALSCALE:GREGORIAN
METHOD:PUBLISH
X-WR-CALNAME:Šiaulių gidas
X-ORIGINAL-URL:https://siauliugidas.lt
X-WR-CALDESC:Events for Šiaulių gidas
REFRESH-INTERVAL;VALUE=DURATION:PT1H
X-Robots-Tag:noindex
X-PUBLISHED-TTL:PT1H
BEGIN:VTIMEZONE
TZID:Europe/Helsinki
BEGIN:DAYLIGHT
TZOFFSETFROM:+0200
TZOFFSETTO:+0300
TZNAME:EEST
DTSTART:20250330T010000
END:DAYLIGHT
BEGIN:STANDARD
TZOFFSETFROM:+0300
TZOFFSETTO:+0200
TZNAME:EET
DTSTART:20251026T010000
END:STANDARD
END:VTIMEZONE
BEGIN:VEVENT
DTSTART;TZID=Europe/Helsinki:20250309T180000
DTEND;TZID=Europe/Helsinki:20250309T180000
DTSTAMP:20260420T042015
CREATED:20250224T174124Z
LAST-MODIFIED:20250224T174124Z
UID:17735-1741543200-1741543200@siauliugidas.lt
SUMMARY:EGIDIJAUS SIPAVIČIAUS akustinis koncertas „Atėjo laikas pasikalbėti“
DESCRIPTION:Egidijus Sipavičius kviečia į akustinius koncertus: atėjo laikas pasikalbėti \nScenos džentelmenas\, šypsenos ir geros energijos niekad nestokojantis dainininkas Egidijus Sipavičius kviečia į kiek neįprasto jam formato koncertus – lapkričio pabaigoje atlikėjas surengs tris šiltus\, intymius akustinius koncertus Vilniuje\, Kaune ir Alytuje. Koncertuose prie dainininko prisijungs pianistas bei žinomas kompozitorius Vitalijus Neugasimovas\, taip pat – vyrų vokalinis ansamblis „Fratres“.\nSipavičius sako\, jog akustinę koncertų formą pasirinko todėl\, kad atėjo laikas su klausytojais pasikalbėti – ne šūkauti ar siautėti\, o vieniems kitus išgirsti\, įsiklausyti\, pabūti kartu. \n„Kiekvienas tekstas\, kiekviena melodija turi labai daug poteksčių\, žinučių ir niuansų\, kurių dažnai neišgirstame. Norint juos išgirsti reikia susikaupimo ir atvirų širdžių. Šį kartą noriu apie tas neišgirstas potekstes papasakoti – tas pačias visiems žinomas dainas kartu su klausytojais iš naujo apmąstyti ir išjausti\, – sako dainininkas. – Manau\, kad pagaliau subrendau tiek kaip muzikantas\, tiek kaip žmogus – ir savo\, ir kitų atlikėjų muzikoje vis atrandu kažką naujo\, išgirstu nuostabių dalykų\, kuriais noriu su publika pasidalinti šiuose koncertuose.“ \nAtlikėjas pasakoja\, kad kiekvienas susitikimas su klausytojais jam – be galo svarbi ir su niekuo nesulyginama patirtis. \n„Koncertai man yra energijos ir džiaugsmo šaltinis\, jų metu labai daug savęs atiduotu\, tačiau kartu – labai daug ir gaunu\, – atvirauja E. Sipavičius. – Prieš kiekvieną pasirodymą vis dar jaudinuosi\, kartais atrodo\, kad kūne vyksta fizinės ir emocinės energijos mobilizacinis procesas – lyg didžiulis besikaupiantis energijos burbulas\, kurį koncerto metu išsidalinu su klausytojais. Nepaprastas džiaugsmas\, kai viskas pavyksta – tuomet dar kelias dienas skraidau lyg ant sparnų.“ \n\n\nBilietus platina ir bilietai.lt\nRenginio trukmė: ~ 1 val. 30 min.
URL:https://siauliugidas.lt/renginiai/egidijaus-sipaviciaus-akustinis-koncertas-atejo-laikas-pasikalbeti/
LOCATION:Koncertų salė „Saulė”
CATEGORIES:Koncertas
END:VEVENT
END:VCALENDAR