BEGIN:VCALENDAR
VERSION:2.0
PRODID:-//Šiaulių gidas - ECPv6.9.0//NONSGML v1.0//EN
CALSCALE:GREGORIAN
METHOD:PUBLISH
X-ORIGINAL-URL:https://siauliugidas.lt
X-WR-CALDESC:Events for Šiaulių gidas
REFRESH-INTERVAL;VALUE=DURATION:PT1H
X-Robots-Tag:noindex
X-PUBLISHED-TTL:PT1H
BEGIN:VTIMEZONE
TZID:Europe/Helsinki
BEGIN:DAYLIGHT
TZOFFSETFROM:+0200
TZOFFSETTO:+0300
TZNAME:EEST
DTSTART:20250330T010000
END:DAYLIGHT
BEGIN:STANDARD
TZOFFSETFROM:+0300
TZOFFSETTO:+0200
TZNAME:EET
DTSTART:20251026T010000
END:STANDARD
END:VTIMEZONE
BEGIN:VEVENT
DTSTART;TZID=Europe/Helsinki:20250314T190000
DTEND;TZID=Europe/Helsinki:20250314T190000
DTSTAMP:20260419T223709
CREATED:20250224T165710Z
LAST-MODIFIED:20250224T165710Z
UID:17684-1741978800-1741978800@siauliugidas.lt
SUMMARY:Žaisminga santykių komedija „Pereinamasis miegamasis“
DESCRIPTION:Populiarioji santykių komedija pagaliau ir Lietuvoje! \nJau 2025 metų kovą 14 d. 19 val. gero humoro mėgėjai apsilankę populiariame spektaklyje „Pereinamasis miegamasis“ galės pasimėgauti užplūdusio optimizmo doze. Pernai didelio pasisekimo Latvijoje sulaukęs spektaklis šį sezoną bus rodomas didžiuosiuose Lietuvos miestuose. \nSpektaklio kūrybinė komanda iš Latvijos džiaugiasi galėdama šią į lietuvių kalbą išverstą šmaikščią\, sąmojų kupiną situacijų komediją su pamėgtais lietuvių aktoriais pristatyti Lietuvos žiūrovams. Į kasdienybės rutiną patekusių sutuoktinių porų nesusipratimus spręs žinomi\, šaunūs\, žavingi\, talentingi Lietuvos aktoriai: Ineta Stasiulytė\, Tadas Gryn\, Renata Kutinaitė\, Ainis Storpirštis ir Darius Petkevičius. \nSpektaklio režisierius – vienas pagrindinių Latvijos Dailės teatro aktorių Imantas Stradas (Imants Strads)\, o autorius\, scenografas ir kostiumų dailininkas – aktorius Ivo Martinsonas (Ivo Martinsons). Komandą sudaro ir kiti žinomi Latvijos menininkai\, o spektakliuose vaidina puikūs Lietuvos aktoriai. \nSpektaklis „Pereinamasis miegamasis“ visoje Latvijoje sulaukė didžiulio žiūrovų susidomėjimo ir teigiamų kritikos atsiliepimų. Besidalydami spektaklio įspūdžiais daugelis žiūrovų patikino\, kad per spektaklį ne tik galima gerai pasijuokti\, bet ir apmąstyti\, ko patys imamės\, kai mūsų santykiai pakliūva į rutinos pinkles. \nPagrindinė spektaklio „Pereinamasis miegamasis“ tema – melas gimdo melą. Žiūrovų abejingų nepaliks komiškos ir dramatiškos situacijos\, keičiančios viena kitą. Režisieriui pavyko sukurti unikalią istoriją\, kurios metu veiksmas vyksta dvejuose gretimų butų miegamuosiuose beveik tuo pačiu metu. Komedija skatina atsakyti į klausimus – ar sąžiningai elgiamės vieni su kitais\, ar verta ieškoti pikantiškų gyvenimo nuotykių? \nRenginio trukmė: ~2 val. (su pertrauka).
URL:https://siauliugidas.lt/renginiai/zaisminga-santykiu-komedija-pereinamasis-miegamasis/
LOCATION:Šiaulių kultūros centro Didžioji koncertų salė (Aušros al. 31)
CATEGORIES:Spektaklis
END:VEVENT
END:VCALENDAR