BEGIN:VCALENDAR
VERSION:2.0
PRODID:-//Šiaulių gidas - ECPv6.9.0//NONSGML v1.0//EN
CALSCALE:GREGORIAN
METHOD:PUBLISH
X-WR-CALNAME:Šiaulių gidas
X-ORIGINAL-URL:https://siauliugidas.lt
X-WR-CALDESC:Events for Šiaulių gidas
REFRESH-INTERVAL;VALUE=DURATION:PT1H
X-Robots-Tag:noindex
X-PUBLISHED-TTL:PT1H
BEGIN:VTIMEZONE
TZID:Europe/Helsinki
BEGIN:DAYLIGHT
TZOFFSETFROM:+0200
TZOFFSETTO:+0300
TZNAME:EEST
DTSTART:20250330T010000
END:DAYLIGHT
BEGIN:STANDARD
TZOFFSETFROM:+0300
TZOFFSETTO:+0200
TZNAME:EET
DTSTART:20251026T010000
END:STANDARD
END:VTIMEZONE
BEGIN:VEVENT
DTSTART;TZID=Europe/Helsinki:20250315T110000
DTEND;TZID=Europe/Helsinki:20250315T110000
DTSTAMP:20260420T063520
CREATED:20250224T165628Z
LAST-MODIFIED:20250224T165628Z
UID:17682-1742036400-1742036400@siauliugidas.lt
SUMMARY:Edukacinis užsiėmimas „Puodeliavimas su Nomeda“
DESCRIPTION:Puodeliavimas – tai užsiėmimas\, kuriam nereikia jokio išankstinio pasiruošimo ar specialių žinių. Mes susitinkame\, sustabdome laikrodžius\, įjungiame kūrybingumą\, pasikalbame apie gyvenimo stebuklus ir išpaišome puodelius taip\, lyg tą darytume kiekvieną dieną. \n„Sakote\, kad nemokate piešti\, kad dailė ne jūsų sritis ir dar mokykloje supratote\, kad ne visi gali tapti menininkais. Jeigu taip galvojate\, tai mums būtinai reikia pasimatyti\, nes aš tikrai žinau\, kad nėra netalentingų žmonių! Kaip įrodymas – daugiau kaip dešimt metų\, šimtų puodeliavime dalyvavusių žmonių dekoruoti puodeliai\, tarp kurių nebuvo nė vieno bent kiek panašaus\, neįdomaus ar neišradingo. \nTodėl kviečiu Jus aktyviai skambinti\, rašyti\, teirautis apie tokį populiarų kūrybinės veiklos užsiėmimą\, kurio pabandę dalyviai ir vėl sugrįžta. Nes akimirkos praleistos kartu yra nepakartojamos“\, – kviečia Nomeda. \nUžsiėmimo trukmė: ~2 val. \nĮ kainą įskaičiuotos visos reikalingos priemonės. \nDaugiau informacijos tel. +370 678 53 171\, el. p. vaida.dambrauskiene@siauliukc.lt
URL:https://siauliugidas.lt/renginiai/edukacinis-uzsiemimas-puodeliavimas-su-nomeda/
LOCATION:Šiaulių kultūros centro Amatų dirbtuvės (Aušros al. 31)
CATEGORIES:Edukacija
END:VEVENT
BEGIN:VEVENT
DTSTART;TZID=Europe/Helsinki:20250315T113000
DTEND;TZID=Europe/Helsinki:20250315T113000
DTSTAMP:20260420T063520
CREATED:20250224T165521Z
LAST-MODIFIED:20250224T165521Z
UID:17680-1742038200-1742038200@siauliugidas.lt
SUMMARY:„LiuKaBu“ teatralizuotas koncertas
DESCRIPTION:„LiuKaBu“ kviečia pavasarį pasitikti muzikos\, dūksmo\, netikėtų garsų ir spalvotų atradimų pilname koncerte visai šeimai. Autoriniuose „LiuKaBu“ kūriniuose pasitinka iš tolimųjų džiunglių bei vasaros kaime atklydę gyvūnai\, spalvoti jausmai\, draugystės džiaugsmas\, skaudukai ir rimti filosofiniai pamąstymai. \nGyvuose pasirodymuose šarmingoji Kamilė ir netikėtų garsų meistras Bogis vaikus (bei kažkada jais buvusius) įtraukia į muzikinį nuotykį\, kuriame norisi dainuoti\, šokti\, dūkti\, prisiglausti apsikabinimui ir pabūti drauge dar kiek ilgėliau. \nInteraktyviuose koncertuose ir interneto platybėse grupės muziką papildo minimalistinė\, tarsi iš vaikų piešimo sąsiuvinio nužengusi\, animacija. \n„LiuKaBu“ kūrėjai – šilkinio balso savininkė Kamilė Kielaitė-Sienkievič ir Lietuvos vokalinės perkusijos (angl. beatbox) čempionas Bogdan Sienkievič Lietuvos scenoje jau pažįstami kaip grupė „Mannazz“. Melodingos elektroninės muzikos duetas\, sulaukęs mažosios mūzos Liukos\, pradėjo kurti ir mažiesiems klausytojams. O idėjinė „LiuKaBu“ vedlė ir pagrindinė kritikė dukrytė Liuka atsakingai prižiūri muzikinės kokybės bei pasaulėžiūros standartus. \nPrograma subalansuota vaikams nuo 2 iki 10 metų\, bet tinka nuo 0 iki 102 metų. \nArtėjant renginiui BILIETAI BRANGS. \nNUOLAIDOS:\nPerkant 3 ir daugiau bilietų taikoma nuolaida.\nVaikai iki 1 m. amžiaus imtinai įleidžiami nemokamai. Žiūrovams\, sulaukusiems 2 metų\, reikalingas atskiras bilietas. \nRenginio trukmė: ~1 val.
URL:https://siauliugidas.lt/renginiai/liukabu-teatralizuotas-koncertas/
LOCATION:Šiaulių kultūros centro Didžioji koncertų salė (Aušros al. 31)
CATEGORIES:Renginys vaikams
END:VEVENT
BEGIN:VEVENT
DTSTART;TZID=Europe/Helsinki:20250315T160000
DTEND;TZID=Europe/Helsinki:20250316T160000
DTSTAMP:20260420T063520
CREATED:20250224T173115Z
LAST-MODIFIED:20250224T173140Z
UID:17722-1742054400-1742140800@siauliugidas.lt
SUMMARY:Sun City Battles ’25 | ATVIRAS BREIKO ČEMPIONATAS
DESCRIPTION:Sun City Battles’25 – tai tarptautinis breiko čempionatas\, vyksiantis kovo 15–16 dienomis Šiauliuose\, Lietuvoje.\n\n\nSun City Battles’25 programa.\nPARTICIPANT TICKET | Sun City Battles ‘25  \n\n\nSUN CITY BATTLES ’25 – ATVIRAS BREIKO ČEMPIONATAS IR LIETUVOS REKORDŲ SIEKIMAS! \nKovo 16 dieną Šiauliuose – dar viena kvapą gniaužianti breiko fiestos diena! Čia susitiks stipriausi Lietuvos ir užsienio breiko šokėjai\, kurie kausis dėl čempiono titulo atvirame breiko čempionate. Bet tai dar ne viskas – bus siekiami Lietuvos rekordai Back spin\, Head spin ir Windmills kategorijose! Kas perrašys istoriją? \nTai ne tik varžybos\, bet ir tikra šventė visai breiko bendruomenei. Adrenalinas\, emocijos ir nepakartojama energija – visa tai jausis kiekviename dvikovos judesyje! \nVARŽYBŲ KATEGORIJOS\n• 1×1 U12\n• 1×1 U16\n• 1×1 BBOYS OPEN\n• 1×1 BGIRLS OPEN\n \nRenginyje – finalinės kovos\, kuriose išvysite aukščiausio lygio pasirodymus! Tai momentai\, kai sprendžiasi\, kas taps čempionu\, o kas turės grįžti dar stipresnis kitą kartą. \nRenginio atmosferą kurs pasaulinio lygio teisėjai ir DJ‘ai: \n• Teisėjai: Bboy Focus (Suomija)\, Bboy Amir (Kazachstanas)\, Bboy Rukus (Lietuva)\n• DJ: Plash (Lenkija)\, Funky DJ Elegant (Latvija)\n• Vedėjai: MG (Slovakija)\, BEEP (Lietuva) \n Kviečiame visus breiko kultūros fanus atvykti ir palaikyti savo favoritus finalinėse kovose! Tai bus nepakartojamos akimirkos\, kurias verta išvysti gyvai! \nNepražiopsok – tokios energijos ir kovos dvasios daugiau nepamatysi! \n\n\n\n\nRenginio trukmė: 2 val.\nNemokamai: vaikai iki 3 metų neužimant papildomos vietos.\nĮsigijus bilietą galima atvykti stebėti ir atrankas\, nuo 12.00 val.
URL:https://siauliugidas.lt/renginiai/sun-city-battles-25-atviras-breiko-cempionatas/
LOCATION:Koncertų salė „Saulė”
CATEGORIES:Koncertas
END:VEVENT
END:VCALENDAR