BEGIN:VCALENDAR
VERSION:2.0
PRODID:-//Šiaulių gidas - ECPv6.9.0//NONSGML v1.0//EN
CALSCALE:GREGORIAN
METHOD:PUBLISH
X-ORIGINAL-URL:https://siauliugidas.lt
X-WR-CALDESC:Events for Šiaulių gidas
REFRESH-INTERVAL;VALUE=DURATION:PT1H
X-Robots-Tag:noindex
X-PUBLISHED-TTL:PT1H
BEGIN:VTIMEZONE
TZID:Europe/Helsinki
BEGIN:DAYLIGHT
TZOFFSETFROM:+0200
TZOFFSETTO:+0300
TZNAME:EEST
DTSTART:20250330T010000
END:DAYLIGHT
BEGIN:STANDARD
TZOFFSETFROM:+0300
TZOFFSETTO:+0200
TZNAME:EET
DTSTART:20251026T010000
END:STANDARD
END:VTIMEZONE
BEGIN:VEVENT
DTSTART;TZID=Europe/Helsinki:20250315T160000
DTEND;TZID=Europe/Helsinki:20250316T160000
DTSTAMP:20260420T024147
CREATED:20250224T173115Z
LAST-MODIFIED:20250224T173140Z
UID:17722-1742054400-1742140800@siauliugidas.lt
SUMMARY:Sun City Battles ’25 | ATVIRAS BREIKO ČEMPIONATAS
DESCRIPTION:Sun City Battles’25 – tai tarptautinis breiko čempionatas\, vyksiantis kovo 15–16 dienomis Šiauliuose\, Lietuvoje.\n\n\nSun City Battles’25 programa.\nPARTICIPANT TICKET | Sun City Battles ‘25  \n\n\nSUN CITY BATTLES ’25 – ATVIRAS BREIKO ČEMPIONATAS IR LIETUVOS REKORDŲ SIEKIMAS! \nKovo 16 dieną Šiauliuose – dar viena kvapą gniaužianti breiko fiestos diena! Čia susitiks stipriausi Lietuvos ir užsienio breiko šokėjai\, kurie kausis dėl čempiono titulo atvirame breiko čempionate. Bet tai dar ne viskas – bus siekiami Lietuvos rekordai Back spin\, Head spin ir Windmills kategorijose! Kas perrašys istoriją? \nTai ne tik varžybos\, bet ir tikra šventė visai breiko bendruomenei. Adrenalinas\, emocijos ir nepakartojama energija – visa tai jausis kiekviename dvikovos judesyje! \nVARŽYBŲ KATEGORIJOS\n• 1×1 U12\n• 1×1 U16\n• 1×1 BBOYS OPEN\n• 1×1 BGIRLS OPEN\n \nRenginyje – finalinės kovos\, kuriose išvysite aukščiausio lygio pasirodymus! Tai momentai\, kai sprendžiasi\, kas taps čempionu\, o kas turės grįžti dar stipresnis kitą kartą. \nRenginio atmosferą kurs pasaulinio lygio teisėjai ir DJ‘ai: \n• Teisėjai: Bboy Focus (Suomija)\, Bboy Amir (Kazachstanas)\, Bboy Rukus (Lietuva)\n• DJ: Plash (Lenkija)\, Funky DJ Elegant (Latvija)\n• Vedėjai: MG (Slovakija)\, BEEP (Lietuva) \n Kviečiame visus breiko kultūros fanus atvykti ir palaikyti savo favoritus finalinėse kovose! Tai bus nepakartojamos akimirkos\, kurias verta išvysti gyvai! \nNepražiopsok – tokios energijos ir kovos dvasios daugiau nepamatysi! \n\n\n\n\nRenginio trukmė: 2 val.\nNemokamai: vaikai iki 3 metų neužimant papildomos vietos.\nĮsigijus bilietą galima atvykti stebėti ir atrankas\, nuo 12.00 val.
URL:https://siauliugidas.lt/renginiai/sun-city-battles-25-atviras-breiko-cempionatas/
LOCATION:Koncertų salė „Saulė”
CATEGORIES:Koncertas
END:VEVENT
BEGIN:VEVENT
DTSTART;TZID=Europe/Helsinki:20250316T120000
DTEND;TZID=Europe/Helsinki:20250316T120000
DTSTAMP:20260420T024147
CREATED:20250224T165325Z
LAST-MODIFIED:20250224T165325Z
UID:17676-1742126400-1742126400@siauliugidas.lt
SUMMARY:Interaktyvus spektaklis-šou vaikams „Šunyčiai gelbėja princesę“
DESCRIPTION:Ei\, vaikai! \nAr kada nors susidūrėte su tinginiu? O gal pažįstate jį ir net draugaujate su juo? TAIP ar NE? \nPats metas apsilankyti nuotaikingame bei pamokančiame spektaklyje – „Šunyčiai gelbėja princesę“ ir viską išsiaiškinti! \nŠiame magiškame pasakojime sužinosite visą tiesą apie tinginius – kaip jie atrodo\, ar jie išties pavojingi\, ir kaip nuo jų apsiginti! \nKartu su drąsiais herojais leisitės į nepaprastą kelionę\, kurioje teks išgelbėti Žvaigždžių karalystės princesę iš tinginio spąstų. Kelionės metu Jūs aplankysite didžiuosius galaktikos sergėtojus ROBOTUS LAZERIUS\, spindinčius MADOS GURU\, linksmuosius smaližius GOBŠIUKUS ir daug kitų stebuklingų herojų. Būkite pasiruošę – jūsų laukia daugybė kliūčių ir iššūkių\, kuriuos teks įveikti kartu su narsiaisiais šunyčiais! \nAr vyksite į šią kupiną nuotykių misiją? Jei taip\, tada laukiame Jūsų! \nMes puikiai praleisime laiką ir išmoksime daug svarbių pamokų apie draugystę ir drąsą! \nIki pasimatymo! \nVaikams iki 2 m. (neužimant papildomos vietos\, su suaugusiojo priežiūra) įėjimas nemokamas! \nRenginio trukmė: ~1 val. 15 min.
URL:https://siauliugidas.lt/renginiai/interaktyvus-spektaklis-sou-vaikams-sunyciai-gelbeja-princese-2/
LOCATION:Šiaulių kultūros centro Didžioji koncertų salė (Aušros al. 31)
CATEGORIES:Renginys vaikams
END:VEVENT
BEGIN:VEVENT
DTSTART;TZID=Europe/Helsinki:20250316T150000
DTEND;TZID=Europe/Helsinki:20250316T150000
DTSTAMP:20260420T024147
CREATED:20250227T201954Z
LAST-MODIFIED:20250227T201954Z
UID:17784-1742137200-1742137200@siauliugidas.lt
SUMMARY:SLABODKĖS VYŠNELĖ. Dominyko Vaitiekūno muzikinis spektaklis
DESCRIPTION:Autorius ir režisierius – Dominykas Vaitiekūnas\nKompozitorius – Dominykas Vaitiekūnas\, Kęstutis Vaitkevičius \n„Slabodkės Vyšnelė“ – šiltas ir nostalgiškas aktoriaus ir muzikanto Dominyko Vaitiekūno muzikinis spektaklis\, kuriame skamba tikros istorijos iš Dominyko ir jo šeimos gyvenimo. \nGiminių balius pas dėdę Antaną garaže\, Kaune siaučianti Daktarų gauja\, nuotykiai sovietiniame moterų kalėjime\, kilimas ant sienos ir 90-ųjų pradžios bizniukai\, kuriais užsiėmė giminaičiai vos tik Lietuva atgavo nepriklausomybę. Tai – tik kelios detalės\, puošiančios pasakojimą ir priverčiančios spektaklio žiūrovus šypsotis ir  juoktis\, vėliau ir nubraukti ašarą išgirdus\, jog po smagiomis gyvenimo detalėmis slypi ir ne visada lengvi žmonių likimai. \nSpektaklis gimė po 27 metų pertraukos aplankius savo tetą Genutę\, kurios namai Vilijampolėje Dominykui atrodydavo kaip pasakų kraštas ar tolimiausias ir prabangiausias užsienis. 1994 m. Vilijampolėje tetos atidaryta krautuvėlė „Vyšnelė“ buvo tarsi vartai į vakarų pasaulį: importiniai saldumynai ir mėgstamiausios kramtomos gumos „LOVE IS“ dėžutės\,  kaip prabangaus gyvenimo įrodymai. \nAtsitiktinai soc. tinkle „Facebook“ sulauktas Genutės kvietimas draugauti Dominyką paskatina nukeliauti į pasimatymą su teta ir kartu su ja\, naršant savo atminį\, bandyti surasti atsakymus klausimams\, kurie šeimoje buvo aptariami už akių. \nKūrinys sukurtas bendradarbiaujant su festivaliu Kaunas 2022. \nDominykas Vaitiekūnas – profesionalus aktorius ir muzikos kūrėjas bei atlikėjas\, Lietuvos teatro scenoje dažniausiai matomas muzikiniuose spektakliuose ir pasirodymuose\, sukūręs porą dešimčių vaidmenų teatre ir kine. Šiuolaikinio miuziklo žinių sėmęsis Jungtinėje Karalystėje\, įvairiuose seminaruose Lietuvoje ir Europoje. Muzikos pasaulyje plačiausiai žinomas kaip grupės „Liūdni slibinai“ narys. Šiuo metu kuria savo autorines muzikines autobiografines programas sujungdamas muziką ir autobiografinį pasakojimą. \nKęstutis Vaitkevičius – gitaristas ir kompozitorius\, kuriantis muziką spektakliams ir aktyviai koncertuojantis su įvairiomis Lietuvos muzikinėmis grupėmis.
URL:https://siauliugidas.lt/renginiai/slabodkes-vysnele-dominyko-vaitiekuno-muzikinis-spektaklis/
LOCATION:Šiaulių dramos teatro Mažoji salė
CATEGORIES:Koncertas
END:VEVENT
BEGIN:VEVENT
DTSTART;TZID=Europe/Helsinki:20250316T170000
DTEND;TZID=Europe/Helsinki:20250316T170000
DTSTAMP:20260420T024147
CREATED:20240125T114646Z
LAST-MODIFIED:20250224T165415Z
UID:15862-1742144400-1742144400@siauliugidas.lt
SUMMARY:Šokių vakaras. Groja Živilė Gedvilaitė
DESCRIPTION:Šiaulių kultūros centras organizuoja tradicinius šokių vakarus\, kuriuose skambant ritmingai muzikai energingai sukasi šokėjų poros. Kviečiame šokių aikštelėje suktis kartu!\n\n\n\n\n Šiaulių kultūros centro pramogų salė „Maksas“ (Aušros al. 31)\n\n\n 2025 m. kovo 16 d. 17 val.\n\n\n 5 Eur\n\n\n\n\n\n\n\nKovo 16 d. 17 val. Šiaulių kultūros centro pramogų salėje „Maksas“ (Aušros al. 31) šokių vakaro metu šokėjus linksmai praleisti laiką kvies Živilė Gedvilaitė. \nAsmenys\, apsvaigę nuo alkoholinių gėrimų ar kitų psichotropinių medžiagų\, į renginį nebus įleidžiami. \nBilietus galima įsigyti Šiaulių kultūros centro kasoje 1 val. prieš renginį. \nRenginio trukmė: ~3 val.
URL:https://siauliugidas.lt/renginiai/sokiu-vakaras-groja-zivile-gedvilaite-3/
LOCATION:Šiaulių kultūros centro Pramogų salė „Maksas“ (Aušros al. 31)
CATEGORIES:Koncertas
END:VEVENT
END:VCALENDAR