BEGIN:VCALENDAR
VERSION:2.0
PRODID:-//Šiaulių gidas - ECPv6.9.0//NONSGML v1.0//EN
CALSCALE:GREGORIAN
METHOD:PUBLISH
X-ORIGINAL-URL:https://siauliugidas.lt
X-WR-CALDESC:Events for Šiaulių gidas
REFRESH-INTERVAL;VALUE=DURATION:PT1H
X-Robots-Tag:noindex
X-PUBLISHED-TTL:PT1H
BEGIN:VTIMEZONE
TZID:Europe/Helsinki
BEGIN:DAYLIGHT
TZOFFSETFROM:+0200
TZOFFSETTO:+0300
TZNAME:EEST
DTSTART:20250330T010000
END:DAYLIGHT
BEGIN:STANDARD
TZOFFSETFROM:+0300
TZOFFSETTO:+0200
TZNAME:EET
DTSTART:20251026T010000
END:STANDARD
END:VTIMEZONE
BEGIN:VEVENT
DTSTART;TZID=Europe/Helsinki:20250319T190000
DTEND;TZID=Europe/Helsinki:20250319T190000
DTSTAMP:20260419T221217
CREATED:20250224T164951Z
LAST-MODIFIED:20250224T164951Z
UID:17670-1742410800-1742410800@siauliugidas.lt
SUMMARY:Juodo humoro šou su Raimondu Šilansku
DESCRIPTION:Kviečiame Jus į nepaprastą vakarą su anekdotų karaliumi Raimondu Šilansku Šiaulių kultūros centre\, kovo 19 dieną\, 19 val. \nTai bus ypatingas pasirodymas\, kurį atsiminsite tikrai ilgai. Šį kartą Raimondas atvyksta su nauja programa\, kurią brandino tikrai ilgai! Lietuvos anekdotų karalius garantuoja neįprastai juokingą ir įsimintiną vakarą\, kupiną juodo humoro ir šmaikščių pokštų\, skirtų tik suaugusiesiems. Tai puiki galimybė pasinerti į šmaikščių anekdotų ir pokštų pasaulį\, kuris ne tik privers šypsotis\, bet ir dovanos gerą nuotaiką bei didelę vitamino C dozę! \nNepamirškite įsigyti bilietų jau dabar\, nes vietų skaičius ribotas! \nRenginio trukmė: ~1 val. 30 min.
URL:https://siauliugidas.lt/renginiai/juodo-humoro-sou-su-raimondu-silansku/
LOCATION:Šiaulių kultūros centro Didžioji koncertų salė (Aušros al. 31)
CATEGORIES:Humoro vakaras
END:VEVENT
BEGIN:VEVENT
DTSTART;TZID=Europe/Helsinki:20250319T190000
DTEND;TZID=Europe/Helsinki:20250319T190000
DTSTAMP:20260419T221217
CREATED:20250224T172530Z
LAST-MODIFIED:20250224T172530Z
UID:17718-1742410800-1742410800@siauliugidas.lt
SUMMARY:MARTYNAS LEVICKIS ir „Mikroorkéstra“ | METŲ LAIKAI
DESCRIPTION:MARTYNAS LEVICKIS – akordeonas\nKAMERINIS ANSAMBLIS „MIKROORKÉSTRA“\n\nMartynas – Vivaldi ‘Summer’ from ‘The Four Seasons’\n\n\nDurys atidaromos: ~ 20 min. iki renginio pradžios.\nRenginio trukmė ~ 1 val. 30 min.\nAmžiaus cenzas: N-5
URL:https://siauliugidas.lt/renginiai/martynas-levickis-ir-mikroorkestra-metu-laikai-2/
LOCATION:Koncertų salė „Saulė”
CATEGORIES:Koncertas
END:VEVENT
END:VCALENDAR