BEGIN:VCALENDAR
VERSION:2.0
PRODID:-//Šiaulių gidas - ECPv6.9.0//NONSGML v1.0//EN
CALSCALE:GREGORIAN
METHOD:PUBLISH
X-ORIGINAL-URL:https://siauliugidas.lt
X-WR-CALDESC:Events for Šiaulių gidas
REFRESH-INTERVAL;VALUE=DURATION:PT1H
X-Robots-Tag:noindex
X-PUBLISHED-TTL:PT1H
BEGIN:VTIMEZONE
TZID:Europe/Helsinki
BEGIN:DAYLIGHT
TZOFFSETFROM:+0200
TZOFFSETTO:+0300
TZNAME:EEST
DTSTART:20250330T010000
END:DAYLIGHT
BEGIN:STANDARD
TZOFFSETFROM:+0300
TZOFFSETTO:+0200
TZNAME:EET
DTSTART:20251026T010000
END:STANDARD
END:VTIMEZONE
BEGIN:VEVENT
DTSTART;TZID=Europe/Helsinki:20250323T120000
DTEND;TZID=Europe/Helsinki:20250323T120000
DTSTAMP:20260419T191143
CREATED:20250224T172035Z
LAST-MODIFIED:20250224T172035Z
UID:17709-1742731200-1742731200@siauliugidas.lt
SUMMARY:Fantastinė operetė „GIRIŲ KARALIUS“
DESCRIPTION:Miko Petrausko fantastiška vieno veiksmo operetė „Girių Karalius“ sukurta pagal Vlado Putvinskio vienaveiksmę dramą „Nežudyk“\, kurioje mistinė būtybė – Girių Karalius – priverčia Medžiotoją nebekirsti girių ir nebežudyti gyvūnų. Mat būtent pastarieji alkani ir pasirengę suėsti mažesnį už save. Tačiau net ir juos – zuikius\, lapę\, vilką\, mešką – Girių Karalius moko svarbiausio – gerbti gyvybę. Šioje ryškioje silpnesniųjų ir stipresniųjų priešpriešoje visi mokosi elgtis taip\, kaip nori\, kad su jais būtų elgiamasi nepaisant to kuris stipresnis\, greitesnis\, aukštesnis ir t. t.\, o varžymuisi\, kuris geresnis ribų nėra ne tik pas mažuosius\, bet ir pas suaugusiuosius – todėl muzikinis spektaklis „Girių Karalius“ skirtas tiek mažiems tiek dideliems.\nMinėdami kompozitoriaus 150-ąsias gimimo metines\, bendradarbiaujant su Kauno miesto muziejumi\, iš fondų atrinkome ir prikėlėme naujam gyvenimui šią fantastinę operetę\, kviesdami visus prisiminti jo nuveiktus darbus\, praleisti laiką su jo muzika\, kurios dėka pažinsime negirdėtus\, tik muzikos istorijos puslapiuose minimus Miko Petrausko muzikos aruodus bei atsakysime į klausimą\, kiek prieš šimtmetį aktualūs kūrybiniai bandymai galėtų būti aktualūs ir prasmingi XXI-ojo amžiaus žmonėms. \n\nGirių Karalius – Justinas ButaMedžiotojas – Rytis Janilionis (baritonas)Jurga – Justina Tomkutė-Petraitienė (sopranas)Kauno muzikos ansamblis AINIAI \n\nKompozitorius – Mikas PetrauskasAranžuočių autorius – Giedrius SvilainisTeksto autorius – Mingaila RastenisRežisierė – Giedrė Kriaučionytė-VosylienėScenografė – Izabelė Narečionytė\n\n\nDurys atidaromos: 11.30 val.\nRenginio trukmė: 1 val.\nVaikai įleidžiami nemokamai: iki 5 metų amžiaus (imtinai\, neužimant atskiros sėdimos vietos).\nAmžiaus cenzas: 4 metai.
URL:https://siauliugidas.lt/renginiai/fantastine-operete-giriu-karalius/
LOCATION:Koncertų salė „Saulė”
CATEGORIES:Koncertas
END:VEVENT
BEGIN:VEVENT
DTSTART;TZID=Europe/Helsinki:20250323T170000
DTEND;TZID=Europe/Helsinki:20250323T170000
DTSTAMP:20260419T191143
CREATED:20250224T171925Z
LAST-MODIFIED:20250224T171925Z
UID:17707-1742749200-1742749200@siauliugidas.lt
SUMMARY:TANGOMANIJA iš Argentinos
DESCRIPTION:Argentinietiškas tango – tai neatsiejamas naktinio gyvenimo vaizdinys. Vos tik pasirodęs XIX amžiaus pabaigoje\, buvo uždraustas\, galiausiai atkeliavo iki Europos ir ją pakerėjo. Tango bacilą paskleidė argentiniečių šokėjai ir muzikantai\, atvykę ieškoti laimės į Paryžių. Tik pripažintas Europoje\, tango grįžo į Buenos Aires\, kur vis labiau populiarėjo ir šiandien šis šokis išgyvena savo Renesansą.\nKauno muzikos ansamblis „Ainiai“ parengė šią programą kartu su tango šokėjais. Muzikines kompozicijas lydės mažosios teatrinės ir choreografinės mizanscenos\, kurių muzikinius – choreografinius pasakojimus perteiks ansamblio „Ainiai“ solistai – Justina Tomkutė-Petraitienė (sopranas)\, Rytis Janilionis (baritonas)\, instrumentalistai ir šokėjų pora Carlos ir Brigita Rodrigues. \nNaujoje ansamblio programoje – pluoštas tango klasika vadinamų kompozicijų. Praeitame šimtmetyje sukurtos Carlos Gardel „Por Una Cabeza“\, Astor Piazzolla „Adios Nonino“ vadinamos tango vizitine kortele. Joms\, kaip ir visam pluoštui vokalinių ir instrumentinių kompozicijų originalias aranžuotes sukūrė ansamblio koncertmeisteris ir birbynininkas Narimantas Murauskas. \nArgentinietiškas tango – ne tik šokis\, tai – pasakojimas apie mūsų gyvenimus ir juose skambančias sielų stygas. Šį kartą tango skambės koncertinių kanklių\, smuiko\, birbynių\, akordeono tembrais\, emocionalią muziką lydės originalus šokėjų ir mokytojų Carlos ir Brigita Rodrigues bei Kauno muzikos ansamblio „Ainiai“ kūrybinis aljansas. \n\n\nDurys atidaromos: 16.30 val.\nRenginio trukmė: 1 val. 10 min.\nVaikai įleidžiami nemokamai: iki 6 metų amžiaus (imtinai\, neužimant atskiros sėdimos vietos).\nAmžiaus cenzas: 5 metai.
URL:https://siauliugidas.lt/renginiai/tangomanija-is-argentinos/
LOCATION:Koncertų salė „Saulė”
CATEGORIES:Koncertas
END:VEVENT
END:VCALENDAR