BEGIN:VCALENDAR
VERSION:2.0
PRODID:-//Šiaulių gidas - ECPv6.9.0//NONSGML v1.0//EN
CALSCALE:GREGORIAN
METHOD:PUBLISH
X-WR-CALNAME:Šiaulių gidas
X-ORIGINAL-URL:https://siauliugidas.lt
X-WR-CALDESC:Events for Šiaulių gidas
REFRESH-INTERVAL;VALUE=DURATION:PT1H
X-Robots-Tag:noindex
X-PUBLISHED-TTL:PT1H
BEGIN:VTIMEZONE
TZID:Europe/Helsinki
BEGIN:DAYLIGHT
TZOFFSETFROM:+0200
TZOFFSETTO:+0300
TZNAME:EEST
DTSTART:20250330T010000
END:DAYLIGHT
BEGIN:STANDARD
TZOFFSETFROM:+0300
TZOFFSETTO:+0200
TZNAME:EET
DTSTART:20251026T010000
END:STANDARD
END:VTIMEZONE
BEGIN:VEVENT
DTSTART;TZID=Europe/Helsinki:20250324T180000
DTEND;TZID=Europe/Helsinki:20250324T180000
DTSTAMP:20260420T092838
CREATED:20250224T164435Z
LAST-MODIFIED:20250224T164435Z
UID:17665-1742839200-1742839200@siauliugidas.lt
SUMMARY:Kultinis klounų šou „Klounai – nuotykiai tęsiasi“
DESCRIPTION:Viskas\, ką galima padaryti paprastai\, klounams pavyksta su begale iššūkių ir nuotykių! Lengvi keliai yra ne jiems! Jų nuotykiai yra skirti visiems\, kas nebijo gyvenime būti vaiku. Jų patirtys ir atradimai privers ne tik kvatotis\, bet ir susimastyti bei tapti geresniais.\n\nTarptautinių konkursų laureatai\, pasaulinės klounų korporacijos „Orange mood“ (Prancūzija) ir komedijos teatro „Maski“ (Ukraina) artistų bendra programa leis vaikams pasijausti suaugusiais\, o suaugusius sugrąžins į vaikystę!\n\n\nJei į renginį atsinešite nupieštą klouną – dovanas gausite net neprasidėjus šou programai. O po renginio visi vaikai bus pakviesti nusifotografuoti nuotaikingai nuotraukai drauge su šiais mielais žmogučiais.\n\n\nRenginio trukmė: ~1 val. 20 min. (su pertrauka)\n\nVaikams iki 3 m.  neužimant papildomos vietos – NEMOKAMAI!
URL:https://siauliugidas.lt/renginiai/kultinis-klounu-sou-klounai-nuotykiai-tesiasi/
LOCATION:Šiaulių kultūros centro Didžioji koncertų salė (Aušros al. 31)
CATEGORIES:Renginys vaikams
END:VEVENT
END:VCALENDAR