BEGIN:VCALENDAR
VERSION:2.0
PRODID:-//Šiaulių gidas - ECPv6.9.0//NONSGML v1.0//EN
CALSCALE:GREGORIAN
METHOD:PUBLISH
X-WR-CALNAME:Šiaulių gidas
X-ORIGINAL-URL:https://siauliugidas.lt
X-WR-CALDESC:Events for Šiaulių gidas
REFRESH-INTERVAL;VALUE=DURATION:PT1H
X-Robots-Tag:noindex
X-PUBLISHED-TTL:PT1H
BEGIN:VTIMEZONE
TZID:Europe/Helsinki
BEGIN:DAYLIGHT
TZOFFSETFROM:+0200
TZOFFSETTO:+0300
TZNAME:EEST
DTSTART:20250330T010000
END:DAYLIGHT
BEGIN:STANDARD
TZOFFSETFROM:+0300
TZOFFSETTO:+0200
TZNAME:EET
DTSTART:20251026T010000
END:STANDARD
END:VTIMEZONE
BEGIN:VEVENT
DTSTART;TZID=Europe/Helsinki:20250325T180000
DTEND;TZID=Europe/Helsinki:20250325T180000
DTSTAMP:20260419T175720
CREATED:20250224T171456Z
LAST-MODIFIED:20250224T171456Z
UID:17705-1742925600-1742925600@siauliugidas.lt
SUMMARY:Legendinis miuziklas „VELNIO NUOTAKA“
DESCRIPTION:Pirma. Geriausia. Legendinė. „VELNIO NUOTAKA“\nPo 15 metų pertraukos į sceną sugrįžta geriausias lietuviškas miuziklas „Velnio nuotaka“! \nJau per premjeras didžiausiose Lietuvos arenose pristatytas V. Ganelino ir S. Gedos miuziklas sulaukė milžiniško publikos susidomėjimo – bilietai tirpo vos atsiradę prekyboje. 2012-2013 metais pastatymas aplankė visus didesnius Lietuvos miestus\, spektaklį pamatė daugiau kaip 30 tūkstančių žmonių ir abejingų jam nebuvo – po kiekvieno spektaklio žiūrovai braukė ašaras ir negailėjo audringų aplodismentų. \nGeniali Viačeslavo Ganelino muzika\, šmaikštūs Sigito Gedos tekstai\, atnaujinta pastatymo scenografija ir puikiai žinomi Lietuvos atlikėjai vėl kviečia žiūrovus kartu išgyventi jautrią istoriją apie amžiną gėrio ir blogio kovą\, tragikomiškas laimės paieškas\, kuriose realybė pinasi su mistika\, o tautosakos motyvai\, paskaninti lietuvių liaudies humoru\, lydi tyrus herojų meilės jausmus. \nŠis kūrinys išties nemirtingas – tai pirmas lietuviškas miuziklas\, sukurtas Kazio Borutos apysakos „Baltaragio malūnas“ motyvais. 1973 m. režisieriaus Arūno Žebriūno sukurtas muzikinis filmas yra aukso raidėmis įrašytas į mūsų kino istoriją ir dažnai vadinamas pirmąja lietuviška roko opera\, nes buvo sumanytas kaip savotiškas atsakas A. L. Webberio kūriniui „Jėzus Kristus superžvagždė“. Tad ir šiandien\, praėjus penkiems dešimtmečiams nuo sukūrimo\, miuziklo „Velnio nuotaka“ šlovė neblėsta\, o žiūrovų meilė – tik stiprėja. Jūs net neįsivaizduojate\, kokia iš tikrųjų velniava dėjosi tuometiniame Paudruvės krašte… Ateikite ir patys viską pamatysite! \nPagrindiniuose vaidmenyse: Uršulė – Irena Starošaitė\, Baltaragis – Giedrius Arbačiauskas\, Pinčiukas – Justinas Lapatinskas\, Anupras – Vladas Kovaliovas\, Jurga – Deimantė Varmauskaitė\, Girdvainis – Donatas Kaikaris\, Raupys – Martynas Stankevičius\, Marcelė – Karolina Činikaite\, net 10 šokėjų. \nRežisierius – Andrius Kurienius.\nScenografas – Ramunė Skrebūnaitė.\nChoreografas – Edgaras Šnipaitis.\nKostiumu dailininkas – Vaida Daukšienė.\nGarso režisierius – Vytautas Naunčikas.\nŠviesu režisierius – Edvardas Raguckij.\nMuzikos aranžuotė – Andrius Gružauskas.
URL:https://siauliugidas.lt/renginiai/legendinis-miuziklas-velnio-nuotaka/
LOCATION:Koncertų salė „Saulė”
CATEGORIES:Koncertas
END:VEVENT
END:VCALENDAR