BEGIN:VCALENDAR
VERSION:2.0
PRODID:-//Šiaulių gidas - ECPv6.9.0//NONSGML v1.0//EN
CALSCALE:GREGORIAN
METHOD:PUBLISH
X-WR-CALNAME:Šiaulių gidas
X-ORIGINAL-URL:https://siauliugidas.lt
X-WR-CALDESC:Events for Šiaulių gidas
REFRESH-INTERVAL;VALUE=DURATION:PT1H
X-Robots-Tag:noindex
X-PUBLISHED-TTL:PT1H
BEGIN:VTIMEZONE
TZID:Europe/Helsinki
BEGIN:DAYLIGHT
TZOFFSETFROM:+0200
TZOFFSETTO:+0300
TZNAME:EEST
DTSTART:20250330T010000
END:DAYLIGHT
BEGIN:STANDARD
TZOFFSETFROM:+0300
TZOFFSETTO:+0200
TZNAME:EET
DTSTART:20251026T010000
END:STANDARD
END:VTIMEZONE
BEGIN:VEVENT
DTSTART;TZID=Europe/Helsinki:20250327T180000
DTEND;TZID=Europe/Helsinki:20250327T180000
DTSTAMP:20260419T175710
CREATED:20250224T164339Z
LAST-MODIFIED:20250224T164339Z
UID:17663-1743098400-1743098400@siauliugidas.lt
SUMMARY:Naisių vasaros teatro premjera „Šventojo Antano stebuklas“
DESCRIPTION:Dauguma religijų yra pagrįstos tikėjimu stebuklais. Akivaizdu\, kad kitaip neįmanoma\, ypač kai nėra materialių įrodymų. Žmonių visuomenė\, valdoma pinigų galios\, į pasaulį žvelgia merkantiliškai ir ciniškai. \nŠventasis Antanas\, mitologinė figūra\, mūsų spektaklyje pasirodo kaip jaunas\, šiuolaikiškai apsirengęs žmogus. Jis siūlo padaryti stebuklą – prikelti mirusią turtingą tetą. Tačiau susiduria su visišku netikėjimu ir agresija. Tik tarnaitė Virginija – tyra ir naivi siela – patiki nepažįstamuoju. \nVisi norime tikėti geresniu pasauliu\, stebuklais. Bet ar šis gebėjimas duotas kiekvienam? O jei ne\, kaip rasti atsakymus į mus neraminančius klausimus? Pasirodo\, viskas yra labai paprasta – arba\, priešingai\, be galo sudėtinga. Reikia tik atidžiai pažvelgti į save. \nRežsierius Stanislav Moiseev\, režisieriaus asistentė Anna Donchenko.\nChoreografė – Lina Šimkienė \nĮėjimas su kvietimais. Kvietimus nuo kovo 3 d. 9 val. galima pasiimti Šiaulių kultūros centro kasoje. Kasos darbo laikas darbo dienomis 9–18 val. VI–VII 1 val. prieš renginį. Kasos tel. +370 683 57 691.
URL:https://siauliugidas.lt/renginiai/naisiu-vasaros-teatro-premjera-sventojo-antano-stebuklas/
LOCATION:Šiaulių kultūros centro Didžioji koncertų salė (Aušros al. 31)
CATEGORIES:Spektaklis
END:VEVENT
END:VCALENDAR