BEGIN:VCALENDAR
VERSION:2.0
PRODID:-//Šiaulių gidas - ECPv6.9.0//NONSGML v1.0//EN
CALSCALE:GREGORIAN
METHOD:PUBLISH
X-WR-CALNAME:Šiaulių gidas
X-ORIGINAL-URL:https://siauliugidas.lt
X-WR-CALDESC:Events for Šiaulių gidas
REFRESH-INTERVAL;VALUE=DURATION:PT1H
X-Robots-Tag:noindex
X-PUBLISHED-TTL:PT1H
BEGIN:VTIMEZONE
TZID:Europe/Helsinki
BEGIN:DAYLIGHT
TZOFFSETFROM:+0200
TZOFFSETTO:+0300
TZNAME:EEST
DTSTART:20250330T010000
END:DAYLIGHT
BEGIN:STANDARD
TZOFFSETFROM:+0300
TZOFFSETTO:+0200
TZNAME:EET
DTSTART:20251026T010000
END:STANDARD
END:VTIMEZONE
BEGIN:VEVENT
DTSTART;TZID=Europe/Helsinki:20250329T120000
DTEND;TZID=Europe/Helsinki:20250329T120000
DTSTAMP:20260420T105609
CREATED:20250224T164221Z
LAST-MODIFIED:20250224T164221Z
UID:17661-1743249600-1743249600@siauliugidas.lt
SUMMARY:Žaismingas spektaklis vaikams „Kakė Makė ir atversta knyga“
DESCRIPTION:Ei vaikai\, maži ir dideli\, smalsūs ir išdykę\, mylimiausi vaikų herojai Kakė Makė ir Netvarkos nykštukas atkeliauja pas Jus! O kartu su jais į linksmus nuotykius pasiners daugybė jūsų pamėgtų personažų: smagiai valytis dantukus jus mokys Dantukų fėja\, visus linksmins šuniukas Čiūčia\, stebins iš mėnulio atvykę nykštukai\, Kakę Makę aplankys Mamaisa ir Nanaisa. Spektaklyje skambės nuostabios dainelės\, šoksime\, dainuosime\, pramogausime! \nSpektaklis „Kakė Makė ir atversta knyga“ pastatytas pagal Linos Žustautės knygeles „Kakė Makė ir dantukų fėjos puota“ bei „Kakė Makė ir pabėgusios ausys“. Jis leidžia į įprastas gyvenimo situacijas pažvelgti kiek kitaip ir žaismingiau įveikti kylančius iššūkius. Ypatingas dėmesys skiriamas interaktyvioms dekoracijoms\, kurios tampa svarbi vaidinimo dalis bei mažuosius žiūrovus įtraukia ir priverčia jaustis kaip namuose. \nRenginio trukmė: ~50 min.
URL:https://siauliugidas.lt/renginiai/zaismingas-spektaklis-vaikams-kake-make-ir-atversta-knyga-2/
LOCATION:Šiaulių kultūros centro Didžioji koncertų salė (Aušros al. 31)
CATEGORIES:Renginys vaikams
END:VEVENT
BEGIN:VEVENT
DTSTART;TZID=Europe/Helsinki:20250329T170000
DTEND;TZID=Europe/Helsinki:20250329T170000
DTSTAMP:20260420T105609
CREATED:20250224T170923Z
LAST-MODIFIED:20250224T170923Z
UID:17699-1743267600-1743267600@siauliugidas.lt
SUMMARY:CAMERATA SOLARIS Šiaulių miesto simfoninis orkestro pirmasis koncertas
DESCRIPTION:CAMERATA SOLARIS Šiaulių miesto simfoninis orkestras kviečia klausytojus į pirmąjį koncertą\, kuris vyks 2025 m. kovo 29 d. (šeštadienį) 17 val. koncertų salėje „Saulė“  (Tilžės g. 140). \nVakaro programoje:\nI dalis\nPetras Geniušas. Improvizacija „Pokalbiai su Čiurlioniu“ \nII dalis\nLudwig van Beethoven Egmont Overture\, Op. 84\nLudwig van Beethoven Simfonija no. 5\n \nDalyvauja:\nCAMERATA SOLARIS Šiaulių miesto simfoninis orkestras (meno vadovas ir dirigentas Vilhelmas Čepinskis)\, solistas Petras Geniušas (fortepijonas).\nKoncerto dirigentas Vilhelmas Čepinskis. \n  \nPernai veiklos 35-metį minėjęs Šiaulių miesto kamerinis orkestras „Camerata Solaris“ 2025 m. pradžioje išaugo beveik iki 50 narių\, tapdamas CAMERATA SOLARIS Šiaulių miesto simfoniniu orkestru.\nOrkestras bendradarbiauja su Lietuvos chorais\, lietuvių ir užsienio iškiliais solistais: vokalistais – G. Skėryte\, A. Krikščiūnaite\, E. Kaniava\, A. Janutu\, L. Gubaidulina\, R. Vaicekauskaite\, V. Miškūnaite\, perkusininku P. Giunteriu\, arfininke J. Daunyte ir kt. Glaudūs ryšiai orkestrą sieja ir su Vokietijos menininkais: pasaulinio masto violončelininku D. Geringu\, pianiste I. Gabbe\, pianistu ir dirigentu L. Dorfmanu. \nOrkestro repertuare vyrauja baroko\, klasicizmo ir romantizmo epochų kūriniai. Nevengiama ir naujausiųjų laikų muzikos: nuo A. Piazzollos iki A. Piarto. Orkestras pirmasis atliko šiauliečių A. Bružo\, J. Kebliko kūrinius. Šiaulių kamerinis orkestras neretai pasirodydavo kartu su Šiaulių bigbendu\, kartu sudarydami vienintelį Lietuvoje simfodžiazo orkestrą! Šią tradiciją ir toliau tęs CAMERATA SOLARIS Šiaulių miesto simfoninio orkestro kamerinė grupė.\n \n\nPetras Geniušas tarp Lietuvos atlikėjų išsiskiria interesų įvairiapusiškumu ir nuolatinėmis\, dažnai rizikingomis naujų išraiškos formų\, nekasdieniškų muzikinių ir dvasinių potyrių paieškomis. Meistriškai įvaldęs platų klasikinių\, romantinių ir šiuolaikinių kūrinių repertuarą\, jis rengia rečitalius ir koncertuoja kaip solistas su Lietuvos simfoniniais orkestrais\, įvairiais kameriniais ansambliais ir solistais\, dirigentais. Jo scenos partneriais yra buvę M. Rostropovičius\, J. Menuchinas\, R. Katilius\, A. Kniazevas\, D. Geringas\, V. Noreika\, V. Čekasinas\, V. Tarasovas. \nNepraleiskite šio neeilinio Šiaulių miesto muzikiniame ir visame kultūriniame gyvenime koncerto!\n \nĮėjimas laisvas!
URL:https://siauliugidas.lt/renginiai/camerata-solaris-siauliu-miesto-simfoninis-orkestro-pirmasis-koncertas/
LOCATION:Koncertų salė „Saulė”
CATEGORIES:Koncertas
END:VEVENT
BEGIN:VEVENT
DTSTART;TZID=Europe/Helsinki:20250329T180000
DTEND;TZID=Europe/Helsinki:20250329T180000
DTSTAMP:20260420T105609
CREATED:20250224T164117Z
LAST-MODIFIED:20250224T164117Z
UID:17659-1743271200-1743271200@siauliugidas.lt
SUMMARY:Provokuojanti komedija „Sumauta dovana“
DESCRIPTION:Ar kada nors gavote ypatingą dovaną\, kuri sumautų ne tik jūsų jubiliejaus vakarą\, bet ir visą gyvenimą? \nErikui sukanka 50 metų! Jo žmona Sabina organizuoja intymią vakarienę\, o geriausias draugas Žilis susiduria su dilema – nupirkti tobulą dovaną. \nKą padovanoti vyrui\, kuris\, atrodo\, viską turi? Ką dovanoti draugui ir verslo partneriui\, kurį pažįsti daugiau nei 30 metų? Į tokią keblią situacija pakliuvo ir Žilis. \nSprendimas tikrai nėra lengvas ir labai atsakingas. Neteisingai parinkta dovana gali ne tik sugadinti šventinę nuotaiką\, bet ir iškelti klausimus apie draugystę\, santykius ir pasukti visus įvykius netikėta linkme. Galbūt atėjo laikas įmantresnei ir apgalvotai dovanai? Žinoma\, juolab\, kad draugui sukanka 50 metų. Niekas nesitikėjo\, kad kruopščiai parinkta brangi dovana sumaus visą vakarą ir atskleis daugybę tarpusavio paslapčių. \nPasiruoškite kvapą gniaužiančiam vakarui\, kupinam juoko\, emocijų bei stulbinančių siužeto vingių ir sužinokite\, kas buvo toji sumauta dovana! \nREŽISIERIUS Andrius Žiurauskas \nVAIDINA: Andrius Žiurauskas\, Valda Bičkutė\, Sakalas Uždavinys. \nRenginio trukmė: ~2 val.
URL:https://siauliugidas.lt/renginiai/provokuojanti-komedija-sumauta-dovana/
LOCATION:Šiaulių kultūros centro Didžioji koncertų salė (Aušros al. 31)
CATEGORIES:Spektaklis
END:VEVENT
BEGIN:VEVENT
DTSTART;TZID=Europe/Helsinki:20250329T180000
DTEND;TZID=Europe/Helsinki:20250329T180000
DTSTAMP:20260420T105609
CREATED:20250227T143600Z
LAST-MODIFIED:20250227T143600Z
UID:17774-1743271200-1743271200@siauliugidas.lt
SUMMARY:ŠVENTINIS TEATRO DIENOS RENGINYS. Ievos Narkutės akustinis koncertas
DESCRIPTION:Tarptautinės teatro dienos proga kviečiame į šventinį renginį\, kuriame susilies TEATRAS IR MUZIKA. \nJaukų akustinį koncertą teatro scenoje surengs charizmatiškoji dainų autorė ir atlikėja IEVA NARKUTĖ bei gitaristas Aurimas Driukas. \nŠiauliečiams puikiai pažįstama dainininkė IEVA NARKUTĖ yra viena talentingiausių Lietuvos dainų kūrėjų ir išskirtinio balso savininkė. Žiūrovai\, atėję į Ievos koncertus\, visada gauna daugiau nei muziką. Juose dera melodija\, poezija ir nuoširdūs pokalbiai\, leidžiantys kiekvieną akimirką išgyventi ypatingai. Tad Ieva – bene vienintelė Lietuvos dainininkė\, kurios koncertai turi ne tik muzikinę\, bet ir prasmingą pasakojamąją dalį. Publika jos taiklius pastebėjimus vertina ne mažiau\, nei mylimas dainas. \nIevos Narkutės muzikinėje kūryboje\, visai kaip teatre\, daug jausmo\, dramos\, intymumo ir gyvenimiškų istorijų\, kurias ji talentingai perduoda publikai. Šiame Teatro dienai skirtame koncerte kiekvienas ras\, kuo pradžiuginti ir nuraminti savo širdį – jame bus teatro ir nesuvaidintų jausmų\, komiškų momentų ir rimtų įžvalgų. \nŠventinio vakaro metu Jūsų laukia ne tik išskirtinė muzikinė patirtis\, bet ir ypatingos akimirkos teatro bendruomenėje – pirmieji sužinosite\, kurie Valstybinio Šiaulių dramos teatralai pelnys geriausių 2024-ųjų metų apdovanojimus ir\, kuris VŠDT spektaklis taps „Geriausiu metų spektakliu“.  Tad renginyje netrūks netikėtumų ir siurprizų. \nKviečiame kartu švęsti TEATRO ir MUZIKOS šventę!
URL:https://siauliugidas.lt/renginiai/sventinis-teatro-dienos-renginys-ievos-narkutes-akustinis-koncertas/
LOCATION:Šiaulių dramos teatras
CATEGORIES:Koncertas
END:VEVENT
END:VCALENDAR