BEGIN:VCALENDAR
VERSION:2.0
PRODID:-//Šiaulių gidas - ECPv6.9.0//NONSGML v1.0//EN
CALSCALE:GREGORIAN
METHOD:PUBLISH
X-ORIGINAL-URL:https://siauliugidas.lt
X-WR-CALDESC:Events for Šiaulių gidas
REFRESH-INTERVAL;VALUE=DURATION:PT1H
X-Robots-Tag:noindex
X-PUBLISHED-TTL:PT1H
BEGIN:VTIMEZONE
TZID:Europe/Helsinki
BEGIN:DAYLIGHT
TZOFFSETFROM:+0200
TZOFFSETTO:+0300
TZNAME:EEST
DTSTART:20250330T010000
END:DAYLIGHT
BEGIN:STANDARD
TZOFFSETFROM:+0300
TZOFFSETTO:+0200
TZNAME:EET
DTSTART:20251026T010000
END:STANDARD
END:VTIMEZONE
BEGIN:VEVENT
DTSTART;TZID=Europe/Helsinki:20250330T170000
DTEND;TZID=Europe/Helsinki:20250330T170000
DTSTAMP:20260420T055404
CREATED:20250224T170719Z
LAST-MODIFIED:20250224T170719Z
UID:17697-1743354000-1743354000@siauliugidas.lt
SUMMARY:Koncertas „DAR ŠIRDYJE NE SUTEMA“
DESCRIPTION:KONCERTAS „DAR ŠIRDYJE NE SUTEMA“ | Legendinės kompozitoriaus Algimanto Raudonikio dainos. \nNe viena karta užaugo su legendinėmis Algimanto Raudonikio dainomis „Lauksiu tavęs ateinant“\, „Švelnumas“\, „Laiškas motinai“\, „Kur balti keliai“\, „Dar širdyje ne sutema“\, „Jau vaikystė nuskambėjo“\, ir ne vienas atlikėjas užaugo su tomis dainomis. Daugelis iš 500 jo sukurtų dainų yra tapę liaudies dainomis\, nes ne kiekvienas pasakys kompozitoriaus pavardę\, bet tikrai padainuos „Skinsiu raudoną rožę…!”. Taigi kviečiame į liaudies dainų vakarą DAR ŠIRDYJE NE SUTEMA Šiaulių „Saulės“ koncertų salėje! Koncerte dainuos ne kartą kartu autoriniuose kompozitoriaus koncertuose dalyvavę solistai – Judita Leitaitė ir Dainius Puišys\, o apie kompozitoriaus kūrybines išdaigas ir rimtus ketinimus pasakos muzikologas Viktoras Gerulaitis. Atlikėjams akompanuos instrumentinė grupė „Septemband“ (vad. Modestas Jukna). \nKviečiame į dainų vakaronę! \n\n\nRenginio trukmė: 1 val. 30 min.\nNemokamai: iki 3 metų\, neužimant papildomos kėdės.\nBilietus platina ir bilietai.lt
URL:https://siauliugidas.lt/renginiai/koncertas-dar-sirdyje-ne-sutema/
LOCATION:Koncertų salė „Saulė”
CATEGORIES:Koncertas
END:VEVENT
BEGIN:VEVENT
DTSTART;TZID=Europe/Helsinki:20250330T170000
DTEND;TZID=Europe/Helsinki:20250330T170000
DTSTAMP:20260420T055404
CREATED:20250227T202228Z
LAST-MODIFIED:20250227T202228Z
UID:17786-1743354000-1743354000@siauliugidas.lt
SUMMARY:Nijolė Narmontaitė su gyvo garso grupe „Bučinys saldesnis už vyną“
DESCRIPTION:Renginio organizatorius  – VŠĮ „ESTRADĖJA” \n  \n2025 m. kovo 30 d. 17 val.\, Šiaulių dramos teatre\,  dainuojanti televizijos ir kino aktorė Nijolė Narmontaitė su gyvo garso grupe pristatys programą „Bučinys saldesnis už vyną“. \n„Gyvenimas yra šventė – tad švęskim!“ Šia nuostata besivadovaujanti aktorė\, septynių knygų autorė  kviečia visus į koncertą Šiaulių dramos teatre. Programoje skambės dainos pritariant gyvo garso grupei\, liesis poezija\, o spalvingos\, juokingos\, žaismingos istorijos praskaidrins pilką dabartį ir pripildys ją šviesos. \nKartu su Nijole Narmontaite scenoje muzikuos: \nAkordeonas – Andrius Balachovičius \nKlavišiniai – Kastytis Žukauskas \nKontrabosas – Ar Man Isojan \nMušamieji – Žydrūnas Mockūnas \n  \nLauksime Jūsų !
URL:https://siauliugidas.lt/renginiai/nijole-narmontaite-su-gyvo-garso-grupe-bucinys-saldesnis-uz-vyna/
LOCATION:Šiaulių dramos teatras
CATEGORIES:Koncertas
END:VEVENT
END:VCALENDAR