BEGIN:VCALENDAR
VERSION:2.0
PRODID:-//Šiaulių gidas - ECPv6.9.0//NONSGML v1.0//EN
CALSCALE:GREGORIAN
METHOD:PUBLISH
X-WR-CALNAME:Šiaulių gidas
X-ORIGINAL-URL:https://siauliugidas.lt
X-WR-CALDESC:Events for Šiaulių gidas
REFRESH-INTERVAL;VALUE=DURATION:PT1H
X-Robots-Tag:noindex
X-PUBLISHED-TTL:PT1H
BEGIN:VTIMEZONE
TZID:Europe/Helsinki
BEGIN:DAYLIGHT
TZOFFSETFROM:+0200
TZOFFSETTO:+0300
TZNAME:EEST
DTSTART:20250330T010000
END:DAYLIGHT
BEGIN:STANDARD
TZOFFSETFROM:+0300
TZOFFSETTO:+0200
TZNAME:EET
DTSTART:20251026T010000
END:STANDARD
END:VTIMEZONE
BEGIN:VEVENT
DTSTART;TZID=Europe/Helsinki:20250404T180000
DTEND;TZID=Europe/Helsinki:20250404T180000
DTSTAMP:20260420T074128
CREATED:20250403T165032Z
LAST-MODIFIED:20250403T165032Z
UID:17939-1743789600-1743789600@siauliugidas.lt
SUMMARY:„Laiptų galerijos“ gimtadienis
DESCRIPTION:Šių metų pavasarį Šiaulių miesto kultūros centras „Laiptų galerija“ pasitinka jau 33-iąjį gimtadienį! Balandžio 4 d. 18 val. kviečiame visus į ypatingą vakarą – „Laiptų galerijos“ gimtadienio šventę. Šia gražia proga padovanosime Jums net dvi dovanas – Eglės Velaniškytės tapybos darbų parodą KASDIENYBĖS KUŽDESIAI bei pianistės Eglės Andrejevaitės koncertą ŽALČIO SONATA. \nPo vienerių metų pertraukos į „Laiptų galeriją“ sugrįžta tapytojos Eglės Velaniškytės kūryba. Praėjusių metų sausį šiauliečiams pristačiusi sakralumu alsuojančią parodą AŠ ATEINU\, 33-iojo galerijos gimtadienio proga tapytoja profesionaliojo meno gerbėjus kviečia nusikelti į dailininko dirbtuves – dovanoja parodą KASDIENYBĖS KUŽDESIAI. \nParodą pristatys menotyrininkė Kotryna Žukauskaitė. \nAntrąją šventės dalį vainikuos dar niekur mūsų šalyje nepristatyta\, premjerinė pianistės Eglės Andrejevaitės koncertinė programa ŽALČIO SONATA – fortepijono rečitalis\, skirtas M. K. Čiurliono 150-mečiui paminėti. \nProgramoje: \nGiedrius Kuprevičius (1944). „Žalčio sonata“\, 1968 \nMikalojus Konstantinas Čiurlionis (1875 – 1911). Styginių kvartetas c-moll\, 1901 – 1902 / Mūzos Rubackytės transkripcija fortepijonui \nMikalojus Konstantinas Čiurlionis (1875 – 1911). Neatpažintas ciklas I. Miško preliudai\, 1901 \nDaugiau informacijos: https://laiptai.com/renginiai/laiptu-galerijos-gimtadienio-svente-2/ \nKviečiame tapti mūsų visų šventės dalimi! Iki pasimatymo balandžio 4 d. 18 val. „Laiptų galerijoje“ (Žemaitės g. 83\, Šiauliai). \nBilieto kaina: 15 / 10 € \nBilietų rezervacija mob. Tel. +370 656 59 940 / +370 658 80 507
URL:https://siauliugidas.lt/renginiai/laiptu-galerijos-gimtadienis/
LOCATION:„Laiptų galerija”
CATEGORIES:Koncertas
END:VEVENT
END:VCALENDAR