BEGIN:VCALENDAR
VERSION:2.0
PRODID:-//Šiaulių gidas - ECPv6.9.0//NONSGML v1.0//EN
CALSCALE:GREGORIAN
METHOD:PUBLISH
X-WR-CALNAME:Šiaulių gidas
X-ORIGINAL-URL:https://siauliugidas.lt
X-WR-CALDESC:Events for Šiaulių gidas
REFRESH-INTERVAL;VALUE=DURATION:PT1H
X-Robots-Tag:noindex
X-PUBLISHED-TTL:PT1H
BEGIN:VTIMEZONE
TZID:Europe/Helsinki
BEGIN:DAYLIGHT
TZOFFSETFROM:+0200
TZOFFSETTO:+0300
TZNAME:EEST
DTSTART:20250330T010000
END:DAYLIGHT
BEGIN:STANDARD
TZOFFSETFROM:+0300
TZOFFSETTO:+0200
TZNAME:EET
DTSTART:20251026T010000
END:STANDARD
END:VTIMEZONE
BEGIN:VEVENT
DTSTART;TZID=Europe/Helsinki:20250410T180000
DTEND;TZID=Europe/Helsinki:20250410T180000
DTSTAMP:20260420T045146
CREATED:20250403T104348Z
LAST-MODIFIED:20250403T104348Z
UID:17915-1744308000-1744308000@siauliugidas.lt
SUMMARY:Arno Švilpausko koncertas „Vakarėja“
DESCRIPTION:Radijo ir renginių vedėjas\, dainininkas Arnas Švilpauskas kviečia į savo koncertą „Vakarėja“. \nPasiruoškite puikiai nuotaikai su charizmatišku Arnu. Skambės ne tik Arno dainos\, bet ir visiems puikiai žinomi lietuviški šlageriai ir hitai. \nLaukia neeilinis vakarėlis. \nRenginio trukmė: ~1 val. 20 min.
URL:https://siauliugidas.lt/renginiai/arno-svilpausko-koncertas-vakareja/
LOCATION:Šiaulių kultūros centro Didžioji koncertų salė (Aušros al. 31)
CATEGORIES:Koncertas
END:VEVENT
BEGIN:VEVENT
DTSTART;TZID=Europe/Helsinki:20250410T180000
DTEND;TZID=Europe/Helsinki:20250410T180000
DTSTAMP:20260420T045146
CREATED:20250403T165839Z
LAST-MODIFIED:20250403T165839Z
UID:17945-1744308000-1744308000@siauliugidas.lt
SUMMARY:Monikos Falcon koncertas
DESCRIPTION:Lietuvos vardą užsienyje garsinantis sopranas Monika Falcon balandžio 10 d. 18 val. kviečia į užburiantį koncertą drauge su Šiaulių pučiamųjų orkestru (meno vadovas ir dirigentas Sigitas Vaičiulionis\, dirigentas Gediminas Brūzga) bei solistais: Viktorija Čepinskiene (smuikas)\, Ignu Vaišnoru (trimitas)\, Gediminu Brūzga (saksofonas) ir Karoliu Pukinskiu (trimitas). \nTarptautinėje scenoje solistė yra pasirodžiusi su tokiais dirigentais\, kaip Zubinas Mehta\, Riccardo Muti\, bei Berlyno simfoniniu orkestru. Monika atlieka pagrindinius vaidmenis operose „Aida“\, „Leonora“\, kitose yra įkūnijusi Desdemoną (G. Verdi „Otello“) bei Santucą (P. Mascagni „Cavalleria Rusticana“). Koncertuoja ne tik Europoje\, bet ir Amerikoje. Kartą išgirdę Moniką gyvai neliksite abejingi. Nuoširdumas\, meilė muzikai bei stiprus vokalas visada lydi šį jauną sopraną. \nKoncerto programoje skambės G. Puccini\, G. Gershwin\, A. Piazzolla\, B. Dvariono ir kitų kompozitorių kūriniai.\nKoncerto dirigentas Sigitas Vaičiulionis.\nVakaro vedėja Jūratė Levickaitė. \n\n\nRenginio trukmė: ~ 1 val. 30 min.\nNuolaidos:  studentams\, senjorams\, moksleiviams\, neįgaliesiems taikoma -50% nuolaida.\nVaikai įleidžiami nemokamai: iki 5 metų amžiaus imtinai\, neužimant papildomos vietos.
URL:https://siauliugidas.lt/renginiai/monikos-falcon-koncertas/
LOCATION:Koncertų salė „Saulė”
CATEGORIES:Koncertas
END:VEVENT
BEGIN:VEVENT
DTSTART;TZID=Europe/Helsinki:20250410T200000
DTEND;TZID=Europe/Helsinki:20250410T200000
DTSTAMP:20260420T045146
CREATED:20250403T104511Z
LAST-MODIFIED:20250403T104511Z
UID:17917-1744315200-1744315200@siauliugidas.lt
SUMMARY:Olego Šurajevo „stand up“ pasirodymas „Turas su tikrais bilietais“
DESCRIPTION:Balandžio 10 d. 20 val.. Šiaulių kultūros centre vyks Olego Šurajevo „stand up“ pasirodymas „Turas su tikrais bilietais“. \nProgramoje laukia nauji bajeriai\, kurių internete nėra. \nN-18. \nRenginio trukmė: ~1 val.
URL:https://siauliugidas.lt/renginiai/olego-surajevo-stand-up-pasirodymas-turas-su-tikrais-bilietais/
LOCATION:Šiaulių kultūros centro Kamerinė salė (Aušros al. 31)
CATEGORIES:Humoro vakaras
END:VEVENT
END:VCALENDAR