BEGIN:VCALENDAR
VERSION:2.0
PRODID:-//Šiaulių gidas - ECPv6.9.0//NONSGML v1.0//EN
CALSCALE:GREGORIAN
METHOD:PUBLISH
X-WR-CALNAME:Šiaulių gidas
X-ORIGINAL-URL:https://siauliugidas.lt
X-WR-CALDESC:Events for Šiaulių gidas
REFRESH-INTERVAL;VALUE=DURATION:PT1H
X-Robots-Tag:noindex
X-PUBLISHED-TTL:PT1H
BEGIN:VTIMEZONE
TZID:Europe/Helsinki
BEGIN:DAYLIGHT
TZOFFSETFROM:+0200
TZOFFSETTO:+0300
TZNAME:EEST
DTSTART:20250330T010000
END:DAYLIGHT
BEGIN:STANDARD
TZOFFSETFROM:+0300
TZOFFSETTO:+0200
TZNAME:EET
DTSTART:20251026T010000
END:STANDARD
END:VTIMEZONE
BEGIN:VEVENT
DTSTART;TZID=Europe/Helsinki:20250412T080000
DTEND;TZID=Europe/Helsinki:20250413T170000
DTSTAMP:20260420T031338
CREATED:20250403T165131Z
LAST-MODIFIED:20250403T165131Z
UID:17941-1744444800-1744563600@siauliugidas.lt
SUMMARY:Tarptautinės sportinių šokių reitingo varžybos „Sun City Cup“
DESCRIPTION:Šokio magija sugrįžta! \nTarptautinės sportinių šokių reitingo varžybos (WDSF ir LSŠF)  „Sun City Cup“ balandžio 12-13 dienomis. \nGeriausi sportinių šokių atlikėjai – vienoje\, Šiaulių arenos scenoje. \nŠios tradicinės sportinių šokių varžybos kasmet į Šiaulius suburia pajėgiausias ir elegantiškiausias šokėjų poras iš Lietuvos ir daugelio užsienio šalių. \nNuo 1994 m. vykstančios varžybos pelnė šokėjų ir žiūrovų meilę bei pripažinimą. Jos turi Lietuvos sportinių šokių federacijos (LSŠF) ir Pasaulio sportinių šokių federacijos (WDSF) reitingo statusą\, kuris pabrėžia aukštą organizacinį lygį ir prestižą\, pritraukiantį aukščiausio meistriškumo šokėjus. \nOrganizatoriai pabrėžia\, kad „Sun City Cup 2025“ – tai reginys\, kuriame kiekvienas gali atrasti kažką ypatingo: vieni – sportinį azartą\, kiti – meno grožį\, o treti – tiesiog puikią pramogą ir malonų poilsį akims. \nŠiaulių arenoje susirinkę žiūrovai galės mėgautis įspūdingais šokėjų pasirodymais\, koncertine programa\, gera nuotaika ir išskirtinėmis emocijomis. \nRenginio kulminacija – balandžio 12 d. 19:00 val. vyksiantys pagrindiniai finalai\, kurių metu šokėjų poros varžysis dėl prizinių vietų. Šventinę atmosferą kurs ne tik aukščiausio lygio šokėjų pasirodymai\, bet ir koncertinė programa\, kurią susirinkusiems žiūrovams dovanos charizmatiška šiaulietė atlikėja Agnė Michalenkovaitė bei kitos staigmenos. \n„Tai daugiau nei varžybos – tai tikras šokio spektaklis\, kuris sujungia ne tik sportinį meistriškumą\, bet ir nepakartojamą estetiką. Kiekviena šokėjų pora pasakoja savo istoriją\, o kiekvienas judesys atskleidžia aistrą\, kuriai sunku likti abejingam. Kviečiame visus atvykti ir patirti šią šokio šventę kartu“\, – kalbėjo Šiaulių sportinių šokių klubo „Šypsena“ vadovas Žanas Untulis. \nVaržybų organizatoriai: Šiaulių miesto savivaldybė\, Šiaulių sportinių šokių klubas „Šypsena“\, Lietuvos ir Pasaulio sportinių šokių federacijos. \n  \nRenginio informacija \n\nRenginio trukmė: renginys vyksta visą dieną. Renginio pradžia 10 val.\, vakarinė dalis 19 val.\nNuolaidos: netaikomos\nVaikai įleidžiami nemokamai: vaikai (iki 6 metų imtinai)\, neužimantys papildomos sėdimos vietos\, įleidžiami nemokamai.\nVietos neįgaliems: Neįgaliesiems turintiems judėjimo negalią ir juos lydintiems į nuolaidos laukelį įveskite kodą „neįgaliesiems” ir turėsite galimybę pasirinkti bilietus parteryje zonoje skirtoje judėjimo negalią turintiems ir juos lydintiems asmenims už mažiausią neakcijinę kainą (kontrolės metu pateikti neįgaliojo pažymėjimą).\nAmžiaus cenzas: nėra\nFotografavimas/filmavimas: Renginys gali būti filmuojamas ir fotografuojamas. Bilietą įsigijęs asmuo supranta\, jog jo atvaizdas gali būti matomas renginio nuotraukose ar vaizdo įrašuose ir sutinka\, kad šios nuotraukos ar vaizdo įrašai gali būti patalpinti viešai prieinamuose socialiniuose tinkluose ar media priemonėse.\nOrganizatorius: Šiaulių sportinių šokių klubas „Šypsena”. Renginio organizatorius prisiima atsakomybę dėl renginio ir jo kokybės bei bilietų į renginį platinimo. Šiaulių arena teikia renginio organizatoriui tik renginio vietos nuomos paslaugą ir už renginį bei jo vykdymą neatsako.\n\n 
URL:https://siauliugidas.lt/renginiai/tarptautines-sportiniu-sokiu-reitingo-varzybos-sun-city-cup/
LOCATION:Šiaulių arena
CATEGORIES:Koncertas
END:VEVENT
BEGIN:VEVENT
DTSTART;TZID=Europe/Helsinki:20250412T120000
DTEND;TZID=Europe/Helsinki:20250412T120000
DTSTAMP:20260420T031338
CREATED:20231129T122808Z
LAST-MODIFIED:20250403T104604Z
UID:15499-1744459200-1744459200@siauliugidas.lt
SUMMARY:Nuotykių kupinas spektaklis „Kakė Makė ir magiška kelionė“
DESCRIPTION:Vaikai\, ar jums pasitaiko tokių dienų\, kai imate nuobodžiauti – žaislai nebedžiugina\, visi filmukai jau matyti? Tokių dienų pasitaiko ir Kakei Makei… \nDzin dzilin! O kas gi skambina į duris? Hm\, į svečius atvyko paštininkas ir atnešė kažkokį keistą laišką. Atidarykim! Laiške kvietimas vykti traukiniu į magišką kelionę. Kur? Į paslaptingą vakarėlį! \nPrisipažinkite\, kas gi nemėgsta kelionių?! O ypač žinant\, kad traukinių stotyje sutiksite Netvarkos Nykštuką ir Mucį\, kurie taip pat gavo paslaptingą laišką\, kviečiantį į vakarėlį keliauti drauge. Nuvyksite į Raganos trobelę ir rasite ten stebuklingą dėžę\, kurią bus leista atidaryti tik kelionės pabaigoje! Sužinosite\, ką daryti\, jei pakeliui sugenda traukinys – gerosios Raganos burtai išspręs ir šį nemalonų netikėtumą! Kartu šoksite ir dainuosite\, patirsite įsimintinų nuotykių\, gaudysite muilo burbulus ir mojuosite mylimiems monstrams – Mamaisai ir Nanaisai. \nAr jau galime pradėti magišką kelionę? Laukiame tik jūsų\, vaikai! \nSpektaklis „Kakė Makė ir magiška kelionė“ pastatytas pagal Linos Žutautės knygeles „Kakė Makė ir magiška kelionė“\,  „Kakė Makė ir draugystės šluota“\, „Kakė Makė ir katinas vienai savaitei“ bei „Netvarkos Nykštukas ir netikėtas svečias“. \nPASTABA TĖVELIAMS: šis spektaklis yra nauja DOMINO teatro spektaklio „Kakė Makė ir pižamų vakarėlis“ versija! \nRenginio trukmė: ~1 val.
URL:https://siauliugidas.lt/renginiai/nuotykiu-kupinas-spektaklis-kake-make-ir-magiska-kelione-2/
LOCATION:Šiaulių kultūros centro Didžioji koncertų salė (Aušros al. 31)
CATEGORIES:Renginys vaikams
END:VEVENT
BEGIN:VEVENT
DTSTART;TZID=Europe/Helsinki:20250412T180000
DTEND;TZID=Europe/Helsinki:20250412T180000
DTSTAMP:20260420T031338
CREATED:20240125T114058Z
LAST-MODIFIED:20250403T104638Z
UID:15852-1744480800-1744480800@siauliugidas.lt
SUMMARY:Situacijų komedija „Vyrai pagal skelbimą“
DESCRIPTION:Vasario 6 d. 18 val. Šiaulių kultūros centre bus rodomas spektaklis „Vyrai pagal skelbimą“. \nAr esate kada nors perskaitę ar įkėlę bent vieną skelbimą siūlant įvairiausias paslaugas? Atsakymą jau žinome\, nes ne išimtis ir keturios\, kartu gyvenančios damos. Jos\, kaip susitarusios\, įkelia skelbimą tuo pačiu adresu\, tačiau su visiškai skirtingo pobūdžio pasiūlymais. \nBuvusi kabareto žvaigždė nusprendžia išnuomoti savo butą\, kuriame gyvena meilės išsiilgusi tarnaitė\, sumaniusi susirasti vyrą ir dar dvi moterys. Viena jų – pianino mokytoja\, trokštanti susirasti mokinių ir atidaryti savo studiją\, kurioje galėtų groti niekieno netrukdoma. Kita – dailininkė\, pasiryžusi atrasti tobulą\, raumeningą modelį\, kuris padėtų laimėti konkursą. Visos jos svajoja apie savo šviesią ateitį\, todėl nekantraudamos laukia tinkamų kandidatų. \nNeilgai trukus\, vienas po kito pradeda eiti vyrai pagal skelbimą ir jų nuostabai\, pravėrus duris\, juos pasitinka ne ta moteris. Netikėta situacija\, dėmesį sukaustantis chaosas ir netikėtai užgimstantys jausmai visus vyrus palieka… be drabužių. \nRenginio trukmė: ~1.50 val.
URL:https://siauliugidas.lt/renginiai/situaciju-komedija-vyrai-pagal-skelbima/
LOCATION:Šiaulių kultūros centro Didžioji koncertų salė (Aušros al. 31)
CATEGORIES:Spektaklis
END:VEVENT
BEGIN:VEVENT
DTSTART;TZID=Europe/Helsinki:20250412T190000
DTEND;TZID=Europe/Helsinki:20250412T190000
DTSTAMP:20260420T031338
CREATED:20250224T173248Z
LAST-MODIFIED:20250403T165925Z
UID:17725-1744484400-1744484400@siauliugidas.lt
SUMMARY:Teatro komedija „ATOSTOGOS SU ŽMONA“
DESCRIPTION:Atostogos su antrąja puse Palangoje. Beveik visiems pažįstama situacija. Aktorių teatro komedijoje ATOSTOGOS SU ŽMONA simpatiškas muzikos prodiuseris Tomas (akt. Julius Žalakevičius) atvažiuoja su savo mylimąja Egle (akt. Austėja Lukaitė) į Palangą. Apsigyvena prabangiuose apartamentuose ir planuoja vakare romantišką vakarą\, kurio metu piršis savo išrinktąjai.  Deja\, planas žlunga. Į tuos pačius apartamentus\, švęsti savo vestuvių dvidešimtmečio\, atsikrausto kita pora\, Irena (akt. Neringa Varnelytė) ir Alfonsas (akt. Andrius Bialobžeskis). Kodėl susidubliavo užsakymas? Ar Tomui ir Eglei pavyks romantiškas vakaras\, kai tuose pačiuose apartamentuose apsigyvena nepažįstamieji iš provincijos? Ar dvidešimties metų Irenos ir Alfonso patirtis santuokoje bus geras pavyzdys Eglei ir Tomui? O gal kaip tik atgrąsys juos nuo lemtingo žingsnio? O dar paaiškės\, kad kai kas slepia didelę paslaptį ir ta paslaptis piršlybas pastatys ant bedugnės krašto. Komedija ATOSTOGOS SU ŽMONA pilna netikėtų situacijų\, nesusipratimų\, ir netgi nemenkos detektyvinės intrigos. Bet kaip ir visose gerose istorijose\, pabaiga būna gera. O ar visiems gera\, ar tik kai kam\, pamatysite atėję ir savo akimis viską pamatę! \nRežisierius – Ričardas Vitkaitis.\nPjesės autorius – Ramūnas Šimukauskas.\nVaidina: Neringa Varnelytė\, Austėja Lukaitė\, Andrius Bialobžeskis\, Julius Žalakevičius.\nScenografė ir kostiumų dailininkė – Eglė Krasnovė. \n\n\nRenginio trukmė: 1 val. 40 min.
URL:https://siauliugidas.lt/renginiai/teatro-komedija-atostogos-su-zmona/
LOCATION:Koncertų salė „Saulė”
CATEGORIES:Spektaklis
END:VEVENT
END:VCALENDAR