BEGIN:VCALENDAR
VERSION:2.0
PRODID:-//Šiaulių gidas - ECPv6.9.0//NONSGML v1.0//EN
CALSCALE:GREGORIAN
METHOD:PUBLISH
X-WR-CALNAME:Šiaulių gidas
X-ORIGINAL-URL:https://siauliugidas.lt
X-WR-CALDESC:Events for Šiaulių gidas
REFRESH-INTERVAL;VALUE=DURATION:PT1H
X-Robots-Tag:noindex
X-PUBLISHED-TTL:PT1H
BEGIN:VTIMEZONE
TZID:Europe/Helsinki
BEGIN:DAYLIGHT
TZOFFSETFROM:+0200
TZOFFSETTO:+0300
TZNAME:EEST
DTSTART:20250330T010000
END:DAYLIGHT
BEGIN:STANDARD
TZOFFSETFROM:+0300
TZOFFSETTO:+0200
TZNAME:EET
DTSTART:20251026T010000
END:STANDARD
END:VTIMEZONE
BEGIN:VEVENT
DTSTART;TZID=Europe/Helsinki:20250412T080000
DTEND;TZID=Europe/Helsinki:20250413T170000
DTSTAMP:20260420T045136
CREATED:20250403T165131Z
LAST-MODIFIED:20250403T165131Z
UID:17941-1744444800-1744563600@siauliugidas.lt
SUMMARY:Tarptautinės sportinių šokių reitingo varžybos „Sun City Cup“
DESCRIPTION:Šokio magija sugrįžta! \nTarptautinės sportinių šokių reitingo varžybos (WDSF ir LSŠF)  „Sun City Cup“ balandžio 12-13 dienomis. \nGeriausi sportinių šokių atlikėjai – vienoje\, Šiaulių arenos scenoje. \nŠios tradicinės sportinių šokių varžybos kasmet į Šiaulius suburia pajėgiausias ir elegantiškiausias šokėjų poras iš Lietuvos ir daugelio užsienio šalių. \nNuo 1994 m. vykstančios varžybos pelnė šokėjų ir žiūrovų meilę bei pripažinimą. Jos turi Lietuvos sportinių šokių federacijos (LSŠF) ir Pasaulio sportinių šokių federacijos (WDSF) reitingo statusą\, kuris pabrėžia aukštą organizacinį lygį ir prestižą\, pritraukiantį aukščiausio meistriškumo šokėjus. \nOrganizatoriai pabrėžia\, kad „Sun City Cup 2025“ – tai reginys\, kuriame kiekvienas gali atrasti kažką ypatingo: vieni – sportinį azartą\, kiti – meno grožį\, o treti – tiesiog puikią pramogą ir malonų poilsį akims. \nŠiaulių arenoje susirinkę žiūrovai galės mėgautis įspūdingais šokėjų pasirodymais\, koncertine programa\, gera nuotaika ir išskirtinėmis emocijomis. \nRenginio kulminacija – balandžio 12 d. 19:00 val. vyksiantys pagrindiniai finalai\, kurių metu šokėjų poros varžysis dėl prizinių vietų. Šventinę atmosferą kurs ne tik aukščiausio lygio šokėjų pasirodymai\, bet ir koncertinė programa\, kurią susirinkusiems žiūrovams dovanos charizmatiška šiaulietė atlikėja Agnė Michalenkovaitė bei kitos staigmenos. \n„Tai daugiau nei varžybos – tai tikras šokio spektaklis\, kuris sujungia ne tik sportinį meistriškumą\, bet ir nepakartojamą estetiką. Kiekviena šokėjų pora pasakoja savo istoriją\, o kiekvienas judesys atskleidžia aistrą\, kuriai sunku likti abejingam. Kviečiame visus atvykti ir patirti šią šokio šventę kartu“\, – kalbėjo Šiaulių sportinių šokių klubo „Šypsena“ vadovas Žanas Untulis. \nVaržybų organizatoriai: Šiaulių miesto savivaldybė\, Šiaulių sportinių šokių klubas „Šypsena“\, Lietuvos ir Pasaulio sportinių šokių federacijos. \n  \nRenginio informacija \n\nRenginio trukmė: renginys vyksta visą dieną. Renginio pradžia 10 val.\, vakarinė dalis 19 val.\nNuolaidos: netaikomos\nVaikai įleidžiami nemokamai: vaikai (iki 6 metų imtinai)\, neužimantys papildomos sėdimos vietos\, įleidžiami nemokamai.\nVietos neįgaliems: Neįgaliesiems turintiems judėjimo negalią ir juos lydintiems į nuolaidos laukelį įveskite kodą „neįgaliesiems” ir turėsite galimybę pasirinkti bilietus parteryje zonoje skirtoje judėjimo negalią turintiems ir juos lydintiems asmenims už mažiausią neakcijinę kainą (kontrolės metu pateikti neįgaliojo pažymėjimą).\nAmžiaus cenzas: nėra\nFotografavimas/filmavimas: Renginys gali būti filmuojamas ir fotografuojamas. Bilietą įsigijęs asmuo supranta\, jog jo atvaizdas gali būti matomas renginio nuotraukose ar vaizdo įrašuose ir sutinka\, kad šios nuotraukos ar vaizdo įrašai gali būti patalpinti viešai prieinamuose socialiniuose tinkluose ar media priemonėse.\nOrganizatorius: Šiaulių sportinių šokių klubas „Šypsena”. Renginio organizatorius prisiima atsakomybę dėl renginio ir jo kokybės bei bilietų į renginį platinimo. Šiaulių arena teikia renginio organizatoriui tik renginio vietos nuomos paslaugą ir už renginį bei jo vykdymą neatsako.\n\n 
URL:https://siauliugidas.lt/renginiai/tarptautines-sportiniu-sokiu-reitingo-varzybos-sun-city-cup/
LOCATION:Šiaulių arena
CATEGORIES:Koncertas
END:VEVENT
BEGIN:VEVENT
DTSTART;TZID=Europe/Helsinki:20250413T120000
DTEND;TZID=Europe/Helsinki:20250413T120000
DTSTAMP:20260420T045136
CREATED:20250403T170029Z
LAST-MODIFIED:20250403T170029Z
UID:17947-1744545600-1744545600@siauliugidas.lt
SUMMARY:Edukacinis šou „DIDŽIOJI TELEPORTACIJA Į ŽAIDIMŲ PASAULĮ”
DESCRIPTION:Edukacinis šou „DIDŽIOJI TELEPORTACIJA Į ŽAIDIMŲ PASAULĮ” – interaktyvus spektaklis vaikams\, kuris patiks ir tėvams! Į veiksmą čia įtraukiamas kiekvienas – tiek mažas\, tiek didesnis žiūrovas: visi gaus specialų rekvizitą – stebuklingas jėgas turinčią apyrankę\, kurios pagalba vaikai bei tėvai padės Rokui ir Rokai įvykdyti užduotis. \nTai istorija apie amžinai išsiblaškiusį profesorių H2O – dienos metu pardavinėjantį vaikams ledus\, o naktimis kuriantį teleportacinį mechanizmą. \nVieną šeštadienio vidurdienį profesorius H2O kartu su jaunaisiais draugais Roku ir Roka mėgins teleportuotis į viduramžius. Tačiau klaidingai sujungti laidai profesorių H2O nublokš į internetinę žaidimų platformą. Ištikimieji draugai Rokas ir Roka bei jaunieji žiūrovai leisis į nuotykių kupiną kelionę\, kurios tikslas – išvaduoti antivirusiniame bokšte įstrigusį profesorių H2O. \nTechniškai inovatyvaus ir atraktyvaus spektaklio metu jaunieji žiūrovai ne tik pramogaus. Jie bus mokomi kaip saugiai elgtis internete\, kaip užkirsti kelią patyčioms virtualioje erdvėje\, sužinos apie fizinio aktyvumo reikšmę\, o taip pat lavins fizinės mankštos įgūdžius.  \nPo spektaklio visus vaikučius kviesime susitikti bei nusifotografuoti su Profesoriumi H20 ir jo draugais. Vaikučių taip pat lauks dovanėlės! \nSpektaklis rekomenduojamas vaikams nuo 3-ejų iki 8-erių metų.  \n\n\nRenginio trukmė ~ 1 val.
URL:https://siauliugidas.lt/renginiai/edukacinis-sou-didzioji-teleportacija-i-zaidimu-pasauli/
LOCATION:Koncertų salė „Saulė”
CATEGORIES:Renginys vaikams
END:VEVENT
BEGIN:VEVENT
DTSTART;TZID=Europe/Helsinki:20250413T170000
DTEND;TZID=Europe/Helsinki:20250413T170000
DTSTAMP:20260420T045136
CREATED:20240423T183828Z
LAST-MODIFIED:20250403T104720Z
UID:16332-1744563600-1744563600@siauliugidas.lt
SUMMARY:Šokių vakaras. Groja grupė „Šiaurės pašvaistė“
DESCRIPTION:Šiaulių kultūros centras organizuoja tradicinius šokių vakarus\, kuriuose skambant ritmingai muzikai energingai sukasi šokėjų poros. Kviečiame šokių aikštelėje suktis kartu!\n\n\n\n\n Šiaulių kultūros centro pramogų salė „Maksas“ (Aušros al. 31)\n\n\n 2025 m. balandžio 13 d. 17 val.\n\n\n 5 Eur\n\n\n\n\n\n\n\n\n\n\nBalandžio 13 d. 17 val. Šiaulių kultūros centro pramogų salėje „Maksas“ (Aušros al. 31) šokių vakaro metu šokėjus linksmai praleisti laiką kvies grupė „Šiaurės pašvaistė“. \nAsmenys\, apsvaigę nuo alkoholinių gėrimų ar kitų psichotropinių medžiagų\, į renginį nebus įleidžiami. \nBilietus galima įsigyti Šiaulių kultūros centro kasoje 1 val. prieš renginį. \nRenginio trukmė: ~3 val. \nDėl bilietų teirautis tel.: +370 683 57 691 arba e. p. kasa@siauliukc.lt.\n\nOrganizatorius – Šiaulių kultūros centras.
URL:https://siauliugidas.lt/renginiai/sokiu-vakaras-groja-grupe-siaures-pasvaiste-3/
LOCATION:Šiaulių kultūros centro Pramogų salė „Maksas“ (Aušros al. 31)
CATEGORIES:Koncertas
END:VEVENT
END:VCALENDAR