BEGIN:VCALENDAR
VERSION:2.0
PRODID:-//Šiaulių gidas - ECPv6.9.0//NONSGML v1.0//EN
CALSCALE:GREGORIAN
METHOD:PUBLISH
X-WR-CALNAME:Šiaulių gidas
X-ORIGINAL-URL:https://siauliugidas.lt
X-WR-CALDESC:Events for Šiaulių gidas
REFRESH-INTERVAL;VALUE=DURATION:PT1H
X-Robots-Tag:noindex
X-PUBLISHED-TTL:PT1H
BEGIN:VTIMEZONE
TZID:Europe/Helsinki
BEGIN:DAYLIGHT
TZOFFSETFROM:+0200
TZOFFSETTO:+0300
TZNAME:EEST
DTSTART:20250330T010000
END:DAYLIGHT
BEGIN:STANDARD
TZOFFSETFROM:+0300
TZOFFSETTO:+0200
TZNAME:EET
DTSTART:20251026T010000
END:STANDARD
END:VTIMEZONE
BEGIN:VEVENT
DTSTART;TZID=Europe/Helsinki:20250415T173000
DTEND;TZID=Europe/Helsinki:20250415T173000
DTSTAMP:20260420T031329
CREATED:20250402T101743Z
LAST-MODIFIED:20250402T101743Z
UID:17908-1744738200-1744738200@siauliugidas.lt
SUMMARY:Sigito Parulskio naujausios prozos knygos „Patys gražiausi sapnai apie kelią“ pristatymas
DESCRIPTION:Fotografijos muziejuje (Vilniaus g. 140\, Šiauliai) balandžio 15 d. 17.30 val. įvyks rašytojo\, Nacionalinės kultūros ir meno premijos laureato Sigito Parulskio naujausios prozos knygos „Patys gražiausi sapnai apie kelią“ pristatymas (2025\, išleido „Tyto alba“).\nRenginį moderuos literatūrologė Roberta Stonkutė.\nDaugeliui literatūros gerbėjų S. Parulskis gerai pažįstamas kaip puikus eseistas\, tad ir šioje knygoje publikuojamos naujausios rašytojo esė ir komentarai apie mūsų erdvę ir laiką. Pastaraisiais metais S. Parulskis pasinėrė į fotografiją\, tad knygoje ir autoriaus fotografijos bei iš fotografijų gimę tekstai – fotoistorijos. Tekstai apie kelią\, kurio\, jeigu nerasite\, tai bent susapnuosite.
URL:https://siauliugidas.lt/renginiai/sigito-parulskio-naujausios-prozos-knygos-patys-graziausi-sapnai-apie-kelia-pristatymas/
LOCATION:Fotografijos muziejuje
CATEGORIES:Pristatymas
END:VEVENT
BEGIN:VEVENT
DTSTART;TZID=Europe/Helsinki:20250415T180000
DTEND;TZID=Europe/Helsinki:20250415T180000
DTSTAMP:20260420T031329
CREATED:20250403T170214Z
LAST-MODIFIED:20250403T170214Z
UID:17949-1744740000-1744740000@siauliugidas.lt
SUMMARY:Women in JAZZ | Koncertas\, skirtas Pasaulinei meno dienai
DESCRIPTION:ŠIAULIŲ BIGBENDAS kartu su vokalistėmis Rūta Loop (LT)\, Beāte Zviedre (LV) ir Ieva Kerēvica (LV) kviečia prisiminti džiazo legendas koncerte „Women in JAZZ“! \nElla Fitzgerald\, Nina Simone\, Billie Holiday\, Sarah Vaughan\, Dinah Washington\, Peggy Lee – vardai\, kurie ryškiai įsirėžė į muzikos istoriją. Tai moterys\, kurios ne tik dainavo\, bet ir formavo džiazą\, keitė visuomenės požiūrį į jį\, laužė stereotipus\, kilo į sceną nepaisydamos iššūkių ir įkvėpė kartas\, šiandien drąsiai žengiančias jų pramintu taku. Džiazo divų muzika atgims koncerte\, kuriame skambės visiems gerai žinomi ir mėgstami kūriniai.  \nDiriguos Raitis Ašmanis.\nVedėja Jūratė Levickaitė. \nKoncerte laukiame visų\, kurie nori pasimėgauti gera muzika ir bent trumpam pabėgti nuo kasdienybės.\nDžiazas – tai būsena. Įsijunk ją! \nKONCERTAS NEMOKAMAS!\n \nOrganizatorė – Šiaulių miesto koncertinė įstaiga „Saulė“.\nRėmėja – Šiaulių miesto savivaldybė.\nInformaciniai partneriai: „Etaplius“\, „Miesto naujienos“. \n\n\nRenginio trukmė:  ~ 1 val. 30 min. 
URL:https://siauliugidas.lt/renginiai/women-in-jazz-koncertas-skirtas-pasaulinei-meno-dienai/
LOCATION:Koncertų salė „Saulė”
CATEGORIES:Koncertas
END:VEVENT
BEGIN:VEVENT
DTSTART;TZID=Europe/Helsinki:20250415T190000
DTEND;TZID=Europe/Helsinki:20250415T190000
DTSTAMP:20260420T031329
CREATED:20250403T104907Z
LAST-MODIFIED:20250403T104907Z
UID:17920-1744743600-1744743600@siauliugidas.lt
SUMMARY:Koncertas\, skirtas M. K. Čiurlionio 150-osioms gimimo metinėms paminėti
DESCRIPTION:Balandžio 15 d. 19 val. Šiaulių kultūros centre vyks koncertas „Ramybė“\, skirtas M. K. Čiurlionio 150-osioms gimimo metinėms paminėti. \nDalyvauja Kauno styginių kvartetas: Karolina Beinarytė-Palekauskienė (smuikas)\, Aistė Mikutytė (smuikas)\, Eglė Lapinskė (altas)\, Kasparas Šerpytis (violončelė)\, Henrikas Savickis (aktorius)\, Kotryna Kaklauskaitė (pianinas)\, Leonas Povilaitis (multimedijos vizualizacijos operatorius). \nMikalojus Konstantinas Čiurlionis yra ypatingai svarbi asmenybė Lietuvos kultūrinėje istorijoje. Jis laikomas lietuvių profesionaliosios muzikos pradininku\, sukūręs apie 400 kūrinių\, iš jų tokių įspūdingų\, kaip simfoninės poemos „Miške“\, „Jūra“ ir kt. Tačiau labiausiai išgarsėjo  dailės darbais\, per gana trumpą laikotarpį nutapė daugiau nei 300 paveikslų\, siekė kelių menų harmonijos\, sukūrė nemažai grafikos darbų\, paliko literatūros ir poezijos kūrinių\, reiškėsi publicistikoje\, na\, o jo rankraščiai ir kiti kūriniai saugomi Nacionaliniame M. K. Čiurlionio dailės muziejuje Kaune. Šiemet minime jo 150-ąsias gimimo metines\, tad šia proga 2025-ieji metai yra paskelbti šio kompozitoriaus\, dailininko metais. \nKauno styginių kvartetas su kolegomis pianiste Kotryna Kaklauskaite ir aktoriumi Henriku Savickiu vakaro programoje sujungs muziką\, dailę ir gal net šiek tiek teatro į vienį. Koncerto centrine ašimi pasirinkdami M. K. Čiurlionio vienintelį styginių kvartetą c-moll\, atlikėjai meistriškai apjungs kūrinių intarpuose skaitomus Čiurlionio laiškus Sofijai\, o multimedijos ekrane žiūrovai galės mėgautis rinktiniais dailininko paveikslais\, kurie nors ir daug kartų matyti\, kaskart traukia akį. \nĮėjimas su kvietimais. Kvietimus nuo balandžio 1 d. 9 val. platina Šiaulių kultūros centro kasa arba „Ticketmarket.lt“. Kasos darbo laikas darbo dienomis 9–18 val.\, šeštadienį–sekmadienį 1 val. prieš renginį. Kasos tel. +370 683 57 691. \nRenginio trukmė: ~1 val. 30 min. \nMieli lankytojai\, dalyvaudami renginiuose\, neprieštaraujate\, kad jie gali būti filmuojami ar fotografuojami\, o jų nuotraukos viešinamos Šiaulių kultūros centro internetinėje svetainėje\, žiniasklaidoje ar socialiniuose tinkluose. \nOrganizatorius – Šiaulių kultūros centras.
URL:https://siauliugidas.lt/renginiai/koncertas-skirtas-m-k-ciurlionio-150-osioms-gimimo-metinems-pamineti/
LOCATION:Šiaulių kultūros centro Didžioji koncertų salė (Aušros al. 31)
CATEGORIES:Koncertas
END:VEVENT
END:VCALENDAR