BEGIN:VCALENDAR
VERSION:2.0
PRODID:-//Šiaulių gidas - ECPv6.9.0//NONSGML v1.0//EN
CALSCALE:GREGORIAN
METHOD:PUBLISH
X-ORIGINAL-URL:https://siauliugidas.lt
X-WR-CALDESC:Events for Šiaulių gidas
REFRESH-INTERVAL;VALUE=DURATION:PT1H
X-Robots-Tag:noindex
X-PUBLISHED-TTL:PT1H
BEGIN:VTIMEZONE
TZID:Europe/Helsinki
BEGIN:DAYLIGHT
TZOFFSETFROM:+0200
TZOFFSETTO:+0300
TZNAME:EEST
DTSTART:20250330T010000
END:DAYLIGHT
BEGIN:STANDARD
TZOFFSETFROM:+0300
TZOFFSETTO:+0200
TZNAME:EET
DTSTART:20251026T010000
END:STANDARD
END:VTIMEZONE
BEGIN:VEVENT
DTSTART;TZID=Europe/Helsinki:20250416T100000
DTEND;TZID=Europe/Helsinki:20250416T150000
DTSTAMP:20260420T032058
CREATED:20250402T101642Z
LAST-MODIFIED:20250402T101642Z
UID:17906-1744797600-1744815600@siauliugidas.lt
SUMMARY:Velykinė mugė
DESCRIPTION:Balandžio 16 d.\, trečiadienį\, nuo 10 iki 15 val. P. Višinskio viešosios bibliotekos II a. fojė vyks Velykinė mugė!\n\nČia galėsite įsigyti VšĮ Socialinių inovacijų centro „Socialinių dirbtuvių“ pagamintų dirbinių\, kurie puikiai tiks kaip dovana ir mažiems\, ir dideliems. \nTai įvairių rankų darbo dirbiniai: žvakės\, megztos kojinės\, nerti krepšeliai\, vaikiškos kojinaitės-batukai\, nerti padėkliukai ir kt. Šie daiktai pagaminti negalią turinčių žmonių rankomis iš natūralių ar antrinių\, perdirbtų\, panaudotų žaliavų bei natūralių siūlų ar audinių: lino\, vilnos\, medvilnės\, šilko. \nApsilankę mugėje ir pirkdami dirbinius Jūs galite prisidėti prie įvairią negalią turinčių žmonių integracijos visuomenėje.
URL:https://siauliugidas.lt/renginiai/velykine-muge/
LOCATION:P. Višinskio viešoji biblioteka
CATEGORIES:Mugė
END:VEVENT
BEGIN:VEVENT
DTSTART;TZID=Europe/Helsinki:20250416T190000
DTEND;TZID=Europe/Helsinki:20250416T190000
DTSTAMP:20260420T032058
CREATED:20250131T210330Z
LAST-MODIFIED:20250403T170450Z
UID:17581-1744830000-1744830000@siauliugidas.lt
SUMMARY:Teatro komedija „Uošvis“
DESCRIPTION:Legendinis šoumenas Arūnas Valinskas grįžta į teatro sceną! \nVienas garsiausių šalies stand-up comedy meistrų Mantas Bartuševičius joje debiutuoja\, o talentingoji aktorė Vaida Baranovė stoja tarp šių vyrų ir jau tuoj taps mėgstamiausia raudonplauke šalyje. Šią kompaniją jau netrukus išvysite naujoje teatro komedijoje „Uošvis“. \nScenarijaus autorius – Tadas Vidmantas\, spektaklį režisuoja ne vieną teatro aikštelių hitą sukūręs Balys Latėnas. \nRasti drąsos pasipiršti mylimajai tikrai nėra lengva užduotis. Kartais atidėlioti verčia abejonės dėl jausmų\, kartais – finansinės ar kitos buitinės problemos\, tačiau kartais būna ir taip\, jog didžiausiu piršlybų iššūkiu tampa… jaunosios tėvas. \nRenginio trukmė: ~1 val. 30 min. \nOrganizatorius – UAB „Vabalo filmai“.
URL:https://siauliugidas.lt/renginiai/teatro-komedija-uosvis/
LOCATION:Koncertų salė „Saulė”
CATEGORIES:Spektaklis
END:VEVENT
END:VCALENDAR