BEGIN:VCALENDAR
VERSION:2.0
PRODID:-//Šiaulių gidas - ECPv6.9.0//NONSGML v1.0//EN
CALSCALE:GREGORIAN
METHOD:PUBLISH
X-WR-CALNAME:Šiaulių gidas
X-ORIGINAL-URL:https://siauliugidas.lt
X-WR-CALDESC:Events for Šiaulių gidas
REFRESH-INTERVAL;VALUE=DURATION:PT1H
X-Robots-Tag:noindex
X-PUBLISHED-TTL:PT1H
BEGIN:VTIMEZONE
TZID:Europe/Helsinki
BEGIN:DAYLIGHT
TZOFFSETFROM:+0200
TZOFFSETTO:+0300
TZNAME:EEST
DTSTART:20250330T010000
END:DAYLIGHT
BEGIN:STANDARD
TZOFFSETFROM:+0300
TZOFFSETTO:+0200
TZNAME:EET
DTSTART:20251026T010000
END:STANDARD
END:VTIMEZONE
BEGIN:VEVENT
DTSTART;TZID=Europe/Helsinki:20250417T180000
DTEND;TZID=Europe/Helsinki:20250417T180000
DTSTAMP:20260420T063620
CREATED:20250403T104941Z
LAST-MODIFIED:20250403T104941Z
UID:17922-1744912800-1744912800@siauliugidas.lt
SUMMARY:Šiaulių Dainų progimnazijos liaudiškų šokių studijos „Šermukšnėlė“ kūrybinės veiklos 20-mečio koncertas „Supynėm šokių pynę“
DESCRIPTION:Balandžio 17 d. 18 val. Šiaulių kultūros centre vyks Šiaulių Dainų progimnazijos liaudiškų šokių studijos „Šermukšnėlė“ (vad. Indrė Šerpytienė) kūrybinės veiklos 20-mečio koncertas „Supynėm šokių pynę“. \nRenginio trukmė: ~1 val. 30 min. \nMieli lankytojai\, dalyvaudami renginiuose\, neprieštaraujate\, kad jie gali būti filmuojami ar fotografuojami\, o jų nuotraukos viešinamos Šiaulių kultūros centro internetinėje svetainėje\, žiniasklaidoje ar socialiniuose tinkluose. \nOrganizatoriai – Šiaulių Dainų progimnazija\, liaudiškų šokių studija „Šermukšnėlė“. \n\n  \nRenginys nemokamas
URL:https://siauliugidas.lt/renginiai/siauliu-dainu-progimnazijos-liaudisku-sokiu-studijos-sermuksnele-kurybines-veiklos-20-mecio-koncertas-supynem-sokiu-pyne/
LOCATION:Šiaulių kultūros centro Didžioji koncertų salė (Aušros al. 31)
CATEGORIES:Koncertas
END:VEVENT
END:VCALENDAR