BEGIN:VCALENDAR
VERSION:2.0
PRODID:-//Šiaulių gidas - ECPv6.9.0//NONSGML v1.0//EN
CALSCALE:GREGORIAN
METHOD:PUBLISH
X-ORIGINAL-URL:https://siauliugidas.lt
X-WR-CALDESC:Events for Šiaulių gidas
REFRESH-INTERVAL;VALUE=DURATION:PT1H
X-Robots-Tag:noindex
X-PUBLISHED-TTL:PT1H
BEGIN:VTIMEZONE
TZID:Europe/Helsinki
BEGIN:DAYLIGHT
TZOFFSETFROM:+0200
TZOFFSETTO:+0300
TZNAME:EEST
DTSTART:20250330T010000
END:DAYLIGHT
BEGIN:STANDARD
TZOFFSETFROM:+0300
TZOFFSETTO:+0200
TZNAME:EET
DTSTART:20251026T010000
END:STANDARD
END:VTIMEZONE
BEGIN:VEVENT
DTSTART;TZID=Europe/Helsinki:20250423T180000
DTEND;TZID=Europe/Helsinki:20250423T180000
DTSTAMP:20260420T081540
CREATED:20250403T105540Z
LAST-MODIFIED:20250403T105540Z
UID:17927-1745431200-1745431200@siauliugidas.lt
SUMMARY:Teatralizuotas ispaniškos muzikos ir šokio koncertas „Fiesta Flamenca“
DESCRIPTION:Teatralizuotas ispaniškos muzikos ir šokio koncertas „Fiesta Flamenca“ atvyksta į Šiaulius ir kviečia visus į tikrą ispanišką šventę! Juk šventė – svarbus gyvenimo akcentas\, siejantis mus su maloniais išgyvenimais. Sakoma\, kad jei mažai švęsi\, prastai ir dirbsi. Neatsiejama švenčių dalis yra šokis\, muzika\, daina. Todėl koncerto idėjos autorė pasirinko būtent šį junginį. Tiesa\, su pietietišku temperamentu\, kuris iki šių dienų pulsuoja kaimo bendruomenių švenčių tradicijomis\, nešdamas gyvą šventinės nuotaikos žinią. \n„Fiesta Flamenca“ šventėje nuotaiką kursime visi\, todėl būsite ne tik stebėtojais\, bet ir dalyviais. Atsidursite Ispanijoje\, kur spalvingai pasipuošę\, ten vykstančių fiestų personažai\, džiugins publiką įmantriais flamenko ritmais\, ispaniškais gitaros sąskambiais\, andalūzišku folkloru. Koncerto metu tapsite meilės\, flirto žaidimų ir aistringos koridos liudininkais. \nKoncerte sužinosite apie flamenko šokio tradicijas ir ispaniškos muzikos žanrus\, susipažinsite su rūbų ir aksesuarų reikšmėmis. O scenoje susirinkę skirtingų kartų atlikėjai\, primins apie tikrą šventę ir nepaliks abejingo nei vieno. \nChoreografija – Liucija Puidokaitė\nRežisierius – Vytautas Rumšas vyresnysis\nKoncerto idėjos autorė – Liucija Puidokaitė \nRenginio trukmė: ~1 val. 15 min.
URL:https://siauliugidas.lt/renginiai/teatralizuotas-ispaniskos-muzikos-ir-sokio-koncertas-fiesta-flamenca/
LOCATION:Šiaulių kultūros centro Didžioji koncertų salė (Aušros al. 31)
CATEGORIES:Koncertas
END:VEVENT
END:VCALENDAR