BEGIN:VCALENDAR
VERSION:2.0
PRODID:-//Šiaulių gidas - ECPv6.9.0//NONSGML v1.0//EN
CALSCALE:GREGORIAN
METHOD:PUBLISH
X-WR-CALNAME:Šiaulių gidas
X-ORIGINAL-URL:https://siauliugidas.lt
X-WR-CALDESC:Events for Šiaulių gidas
REFRESH-INTERVAL;VALUE=DURATION:PT1H
X-Robots-Tag:noindex
X-PUBLISHED-TTL:PT1H
BEGIN:VTIMEZONE
TZID:Europe/Helsinki
BEGIN:DAYLIGHT
TZOFFSETFROM:+0200
TZOFFSETTO:+0300
TZNAME:EEST
DTSTART:20250330T010000
END:DAYLIGHT
BEGIN:STANDARD
TZOFFSETFROM:+0300
TZOFFSETTO:+0200
TZNAME:EET
DTSTART:20251026T010000
END:STANDARD
END:VTIMEZONE
BEGIN:VEVENT
DTSTART;TZID=Europe/Helsinki:20250429T180000
DTEND;TZID=Europe/Helsinki:20250429T180000
DTSTAMP:20260420T045917
CREATED:20250403T105612Z
LAST-MODIFIED:20250403T105612Z
UID:17929-1745949600-1745949600@siauliugidas.lt
SUMMARY:Naisių vasaros teatro muzikinė programa-koncertas
DESCRIPTION:Naisių vasaros teatro aktorių paruošta muzikinė programa-koncertas\, skirta žiūrovui atsipalaiduoti ir puikiai praleisti vakarą. Programa neturi jokių rėmų ar scenarijaus\, čia skamba daugeliui žinomos bei savo kūrybos gyvai atliekamos dainos. Didžiausia koncerto dovana – laisvė\, kuri nesislepia už personažų\, sukurtų istorijų. \nScenoje matysite pačius tikriausius žmones\, su savo tikromis emocijomis ir išgyvenimais atliekant muzikinius kūrinius. Nekantriai Jūsų laukia\, Vaida\, Jūratė\, Karolis\, Remigijus\, Arūnas\, Tomas\, Valdas ir Edgaras. Iki pasimatymo ir susiklausymo. \nRenginio trukmė: ~1 val. 30 min. \nĮėjimas su kvietimais. Kvietimus nuo kovo 31 d. 9 val. galima pasiimti Šiaulių kultūros centro kasoje.\nKasos darbo laikas darbo dienomis 9–18 val. VI–VII 1 val. prieš renginį. Kasos tel. +370 683 57 691.
URL:https://siauliugidas.lt/renginiai/naisiu-vasaros-teatro-muzikine-programa-koncertas-4/
LOCATION:Šiaulių kultūros centro Didžioji koncertų salė (Aušros al. 31)
CATEGORIES:Koncertas
END:VEVENT
END:VCALENDAR