BEGIN:VCALENDAR
VERSION:2.0
PRODID:-//Šiaulių gidas - ECPv6.9.0//NONSGML v1.0//EN
CALSCALE:GREGORIAN
METHOD:PUBLISH
X-WR-CALNAME:Šiaulių gidas
X-ORIGINAL-URL:https://siauliugidas.lt
X-WR-CALDESC:Events for Šiaulių gidas
REFRESH-INTERVAL;VALUE=DURATION:PT1H
X-Robots-Tag:noindex
X-PUBLISHED-TTL:PT1H
BEGIN:VTIMEZONE
TZID:Europe/Helsinki
BEGIN:DAYLIGHT
TZOFFSETFROM:+0200
TZOFFSETTO:+0300
TZNAME:EEST
DTSTART:20250330T010000
END:DAYLIGHT
BEGIN:STANDARD
TZOFFSETFROM:+0300
TZOFFSETTO:+0200
TZNAME:EET
DTSTART:20251026T010000
END:STANDARD
END:VTIMEZONE
BEGIN:VEVENT
DTSTART;TZID=Europe/Helsinki:20250430T180000
DTEND;TZID=Europe/Helsinki:20250430T180000
DTSTAMP:20260420T000925
CREATED:20250403T105645Z
LAST-MODIFIED:20250403T105645Z
UID:17931-1746036000-1746036000@siauliugidas.lt
SUMMARY:Marija Dūdaitė: Tribute to Adele
DESCRIPTION:Balandžio 30 d. 18 val. Šiaulių kultūros centre gyvai skambės kultinės Adele dainos\, tarp kurių – „Hello“\, „Easy on Me“\, „Someone Like You“\, „Rolling in the Deep“ ir kt. Jas dainininkė Marija Dūdaitė atliks su talentingais instrumentalistais: pianiste Ieva Dūdaite\, gitaristu Tadu Petkevičiumi Grajausku\, būgnininku Julijumi Sipavičiumi. Kiekvienas jų – savo instrumento virtuozas\, aktyviai vystantis karjerą klasikinės bei džiazo muzikos scenose. \nŠis koncertas – tai duoklė Adele talentui ir dainoms\, palietusioms mūsų širdis bei gyvenimus. Todėl programa sustyguota taip\, kad visa galva panirtumėte į tekstų nuoširdumą bei melodijų gelmę. \nRenginio metu surinktos lėšos bus skirtos vaikams iš Ukrainos\, netekusiems tėvų kare. Jos padės finansuoti jų kelionę į Lietuvą ir 10 dienų psichologinę reabilitaciją. \nRenginio trukmė: ~1 val. 20 min.
URL:https://siauliugidas.lt/renginiai/marija-dudaite-tribute-to-adele/
LOCATION:Šiaulių kultūros centro Didžioji koncertų salė (Aušros al. 31)
CATEGORIES:Koncertas
END:VEVENT
END:VCALENDAR