BEGIN:VCALENDAR
VERSION:2.0
PRODID:-//Šiaulių gidas - ECPv6.9.0//NONSGML v1.0//EN
CALSCALE:GREGORIAN
METHOD:PUBLISH
X-WR-CALNAME:Šiaulių gidas
X-ORIGINAL-URL:https://siauliugidas.lt
X-WR-CALDESC:Events for Šiaulių gidas
REFRESH-INTERVAL;VALUE=DURATION:PT1H
X-Robots-Tag:noindex
X-PUBLISHED-TTL:PT1H
BEGIN:VTIMEZONE
TZID:Europe/Helsinki
BEGIN:DAYLIGHT
TZOFFSETFROM:+0200
TZOFFSETTO:+0300
TZNAME:EEST
DTSTART:20250330T010000
END:DAYLIGHT
BEGIN:STANDARD
TZOFFSETFROM:+0300
TZOFFSETTO:+0200
TZNAME:EET
DTSTART:20251026T010000
END:STANDARD
END:VTIMEZONE
BEGIN:VEVENT
DTSTART;TZID=Europe/Helsinki:20251106T180000
DTEND;TZID=Europe/Helsinki:20251106T180000
DTSTAMP:20260421T211046
CREATED:20251103T201013Z
LAST-MODIFIED:20251103T201013Z
UID:18562-1762452000-1762452000@siauliugidas.lt
SUMMARY:Vakaras su Larisa Kalpokaite
DESCRIPTION:Teatro ir televizijos legenda\, aktorė Larisa Kalpokaitė šįkart žengia prieš publiką kaip moteris\, atverianti savo sielą per dainas ir poeziją. Tai ypatingas susitikimas su publika\, kuriame aktorė atsiskleidžia kaip jautri\, gilias emocijas perteikianti dainininkė\, gebanti papasakoti istorijas\, pilnas vilties\, ilgesio ir meilės. \nKoncerte skambės gilūs\, jautrūs romansai\, lydimi nuoširdžių prisiminimų iš kūrybinio kelio – nuo teatro scenos iki asmeninių atradimų. Vakaro atmosferą sustiprins išskirtinis virtuozu vadinamo Daumanto Slipkaus akompanimentas. \nTai ne tik koncertas – tai tylus pokalbis tarp scenos ir salės\, tarp atlikėjo ir klausytojo. Tai vakaras\, kuriame susitinka muzika\, poezija ir žmogus. \nRenginio trukmė: ~1 val. 30 min.
URL:https://siauliugidas.lt/renginiai/vakaras-su-larisa-kalpokaite/
LOCATION:Šiaulių kultūros centro Didžioji koncertų salė (Aušros al. 31)
CATEGORIES:Koncertas
END:VEVENT
END:VCALENDAR