BEGIN:VCALENDAR
VERSION:2.0
PRODID:-//Šiaulių gidas - ECPv6.9.0//NONSGML v1.0//EN
CALSCALE:GREGORIAN
METHOD:PUBLISH
X-ORIGINAL-URL:https://siauliugidas.lt
X-WR-CALDESC:Events for Šiaulių gidas
REFRESH-INTERVAL;VALUE=DURATION:PT1H
X-Robots-Tag:noindex
X-PUBLISHED-TTL:PT1H
BEGIN:VTIMEZONE
TZID:Europe/Helsinki
BEGIN:DAYLIGHT
TZOFFSETFROM:+0200
TZOFFSETTO:+0300
TZNAME:EEST
DTSTART:20250330T010000
END:DAYLIGHT
BEGIN:STANDARD
TZOFFSETFROM:+0300
TZOFFSETTO:+0200
TZNAME:EET
DTSTART:20251026T010000
END:STANDARD
END:VTIMEZONE
BEGIN:VEVENT
DTSTART;TZID=Europe/Helsinki:20251127T180000
DTEND;TZID=Europe/Helsinki:20251127T180000
DTSTAMP:20260420T104525
CREATED:20250918T085319Z
LAST-MODIFIED:20250918T085319Z
UID:18361-1764266400-1764266400@siauliugidas.lt
SUMMARY:ANYANYA x ŠIAULIŲ BIGBENDAS: gyvo garsi magija Šiauliuose!
DESCRIPTION:Lapkričio 27 d. Šiaulių koncertų salėje „Saulė“ skambės ypatingas balsas – į sceną žengs charizmatiškasis Anyanya\, o užnugaryje jį lydės profesionalus ŠIAULIŲ BIGBENDAS! \n„Lietuvos balso“ nugalėtojas ir nacionalinės „Eurovizijos“ finalininkas užburia energija\, ekspresija ir jausmingu vokalu\, kuris peržengia įprastas muzikos žanrų ribas ir nepalieka abejingų. \nŠį vakarą laukia ne tik visiems pažįstamos melodijos\, bet ir specialiai paruoštos staigmenos\, kurios suteiks koncertui išskirtinumo ir garantuos nepamirštamus įspūdžius. \nNepraleiskite progos patirti tikrą gyvo garso magiją – lapkričio 27 d. 18:00 val. koncertų salėje „Saulė“! \n\n\nRenginio trukmė: 1 val. 15 min.\nNemokamai: vaikai nemokamai neįleidžiami.\nNuolaidos: netaikomos. \nBilietus platina: https://www.ticketmarket.lt/lt/e/renginys/anyanya-koncertu-sale-saule-siauliai-bilietai-2025
URL:https://siauliugidas.lt/renginiai/anyanya-x-siauliu-bigbendas-gyvo-garsi-magija-siauliuose/
LOCATION:Koncertų salė „Saulė”
CATEGORIES:Koncertas
END:VEVENT
BEGIN:VEVENT
DTSTART;TZID=Europe/Helsinki:20251127T200000
DTEND;TZID=Europe/Helsinki:20251127T200000
DTSTAMP:20260420T104525
CREATED:20251103T201857Z
LAST-MODIFIED:20251103T201857Z
UID:18580-1764273600-1764273600@siauliugidas.lt
SUMMARY:Viktoro Balykov „stand up“ pasirodymas „Juokingas\, bet kas iš to?“
DESCRIPTION:Lapkričio 27 d. 20 val. Šiaulių kultūros centre vyks Viktoro Balykov „stand up“ komedijos programa. \nViktoras kartais juokingas\, bet kas iš to? Naujausioje programoje Viktoras kelia dar daugiau klausimų\, o gal net ir pateikia atsakymų. \nAteikite paklausyti  ir pasijuokti. \nPasirodymo vakaras bus dar smagesnis\, nes kartu pasirodys vienas ar du apšildantys komikai! \nRenginio trukmė: ~1 val. 30 min. \nOrganizatorius – Viktoras Balykov.
URL:https://siauliugidas.lt/renginiai/viktoro-balykov-stand-up-pasirodymas-juokingas-bet-kas-is-to-2/
LOCATION:Šiaulių kultūros centro Kamerinė salė (Aušros al. 31)
CATEGORIES:Humoro vakaras
END:VEVENT
END:VCALENDAR