BEGIN:VCALENDAR
VERSION:2.0
PRODID:-//Šiaulių gidas - ECPv6.9.0//NONSGML v1.0//EN
CALSCALE:GREGORIAN
METHOD:PUBLISH
X-ORIGINAL-URL:https://siauliugidas.lt
X-WR-CALDESC:Events for Šiaulių gidas
REFRESH-INTERVAL;VALUE=DURATION:PT1H
X-Robots-Tag:noindex
X-PUBLISHED-TTL:PT1H
BEGIN:VTIMEZONE
TZID:Europe/Helsinki
BEGIN:DAYLIGHT
TZOFFSETFROM:+0200
TZOFFSETTO:+0300
TZNAME:EEST
DTSTART:20250330T010000
END:DAYLIGHT
BEGIN:STANDARD
TZOFFSETFROM:+0300
TZOFFSETTO:+0200
TZNAME:EET
DTSTART:20251026T010000
END:STANDARD
END:VTIMEZONE
BEGIN:VEVENT
DTSTART;TZID=Europe/Helsinki:20251207T120000
DTEND;TZID=Europe/Helsinki:20251207T120000
DTSTAMP:20260422T084827
CREATED:20251201T161544Z
LAST-MODIFIED:20251201T161544Z
UID:18769-1765108800-1765108800@siauliugidas.lt
SUMMARY:Interaktyvus spektaklis-šou vaikams „Šunyčių nuotykiai“
DESCRIPTION:Gruodžio 7 d. 12 val. Šiaulių kultūros centre bus rodomas interaktyvus spektaklis-šou vaikams „Šunyčių nuotykiai“. \nAr gali būti\, kad net šunyčiams pasitaiko nuobodžių dienų? Taip\, kartais nuobodulys užklumpa net ir šiuos drąsiuosius herojus! \nLaimei\, geriausio draugo skambutis viską pakeičia – šunyčių laukia nepaprasta\, kupina pavojų ir staigmenų kelionė į negyvenamą salą bei dingusio lobio paieškos. \nKartu su vaikais šunyčiams teks įveikti įvairias užduotis\, susidurti su pavojingais jūrų piratais\, pamokyti išdykusius ožiukus gražaus elgesio\, pakliūti į audros sūkurį ir net akis į akį susitikti su alkanu džiunglių karaliumi – liūtu bei kitais herojais! \nTai ne tik spektaklis – tai interaktyvi nuotykių misija\, kurioje vaikai taps ne stebėtojais\, o svarbia istorijos dalimi. Jie padės herojams įveikti kliūtis\, kartu atras draugystės ir drąsos prasmę. \nRenginio trukmė: ~1 val. 15 min.
URL:https://siauliugidas.lt/renginiai/interaktyvus-spektaklis-sou-vaikams-sunyciu-nuotykiai/
LOCATION:Šiaulių kultūros centro Didžioji koncertų salė (Aušros al. 31)
CATEGORIES:Renginys vaikams
END:VEVENT
BEGIN:VEVENT
DTSTART;TZID=Europe/Helsinki:20251207T183000
DTEND;TZID=Europe/Helsinki:20251207T183000
DTSTAMP:20260422T084827
CREATED:20251201T153832Z
LAST-MODIFIED:20251201T153832Z
UID:18707-1765132200-1765132200@siauliugidas.lt
SUMMARY:MARTYNAS LEVICKIS ir „Mikroorkéstra“ | METŲ LAIKAI
DESCRIPTION:Venecijiečiai Giovanni Battista ir Camilla Vivaldi\, kovą\, prieš 347 metus\, sulaukė pirmagimio\, kuriam davė Antonio vardą. Paskui į pasaulį atėjo dar trys dukros ir du sūnus\, kurie ateityje niekuo nepasižymėjo\, tik gatvės muštynėmis. Šeima sunkokai vertėsi. Pasirodė\, kad jos galva – barzdaskutys Giovanni Battista – buvo ne šiaip kirpėjas\, o širdyje – muzikantas. Jau suaugęs jis tapo profesionaliu smuikininku ir\, žvelgiant į darbovietę\, dar ir tikrai ne prastu – griežė Venecijos pasididžiavimu laikomoje Šv. Morkaus bazilikoje.\n \nDar vaikystėje straksėdamas palei tuomet švarius ir blogo kvapo neskleidusius Venecijos kanalus\, Antonio niūniuodavo melodijas. Straksėjo atsargiai\, nes nuo mažumės kamavo astma. Į muziką linkusį vyriausiąjį sūnų groti smuiku išmokė būtent tėvas. Tačiau tapti muzikos profesionalu tas pats tėvas ir neleido – pastūmė į finansiškai garantuotą kunigo kelią. Po net dešimt metų trukusių mokslų Antonio gavo ne tik įšventinimą\, bet ir Il Prette Rosso – Raudonojo kunigo pravardę. Ją lėmė jaunystėje rusva vešli ševeliūra. Sklido prieštaringos kalbos ir apie jo dievotumą\, ir apie šiltus ryšius su damomis\, o kaip buvo išties – argi svarbu? Svarbu yra muzika.\n \nIl Prette Rosso Dievo tarno karjera nebuvo ilga dėl silpnos sveikatos. Pasitraukęs iš kunigystės\, jis tapo maestro di violino mergaičių prieglaudoje Pio Ospedale della Pietà Venecijoje ir nuo to laiko užsiėmė vien muzika. Mokytis meistriškumo pas jį važiavo smuikininkai iš visos Europos\, o maestro dar ir daug rašė\, kur bepersikeltų gyventi. Kai Antonio buvo 47-eri\, išleistas jo kultinis ciklas „Metų laikai“ (parašytas anksčiau). Savo dienas garsusis kompozitorius baigė Vienoje visiškame skurde\, o šiandien tik iš „Metų laikų“ būtų milijonierius – kūrinys atliekamas taip dažnai\, kad įmokos už autorines teises iš viso pasaulio kapsėtų kiekvieną dieną.\n \nKažin\, ką didis maestro pasakytų apie Martyno Levickio ir jo ansamblio „Mikroorkéstra“ „Metų laikus“? Ko\, jei turėtume laiko mašiną\, į Vilnių atvykusio Antonio klaustų Martynas? Greičiausiai pakviestų šaltibarščių ir pokalbis būtų pasiutusiai ilgas.\n \nPrie Vivaldi muzikos Martynas Levickis pirmąsyk prisilietė prieš beveik dvidešimt metų\, kai pirmasis Lietuvoje pradėjo groti savo paties parengtas „Metų laikų“ transkripcijas akordeonu. Novatoriškas šio kūrinio atlikimas Martynui vėliau taip pat atvėrė kelius ir į tarptautinę klasikinės muzikos sceną. Jo atliekami „Metų laikai“ skambėjo prestižiniuose festivaliuose Pietų Korėjoje\, Italijoje\, Vokietijoje\, Kinijoje. „Vivaldi mano gyvenime atsirado senokai\, bet kaskart aš jame randu vis naujų dalykų“\, – pasakoja Martynas. Jis nepritaria\, kad šie opusai jau išnaudojo savo gylį ir prasmę\, „aš žinau ir savo darbu įrodau\, kad net ir kultiniame opuse galiu išieškoti naujų sąskambių.“ Beje\, vėliau\, norint atlikti Vivaldi dar kitaip\, susibūrė „Mikroorkéstra“. \n \nTaip\, kaip vaikas Antonio nuolat niūniavo melodijas gimtoje Venecijoje\, mažytis Martynas vasaros sodyboje Šiaurės Lietuvos miškuose\, pasipuošęs raudona skraiste ir juodu cilindru\, nešinas kone už save didesniu akordeonu\, įkvėpimo sėmėsi iš paukštelių balsų\, lapų šlamėjimo ir liaudies dainų. Meilę liaudies dainoms padėjo užauginti ir bičiulystė su močiutėle Teresėle\, – vaikystėje Martynas mėgo lankytis kaimynystėje buvusioje jos trobelėje plūkta asla. Teresėlės dainuojama „Šiū namo“ ir kitos visam laikui įsirėžė į širdį ir tapo kūrybos pagrindu.\n \nPamažu gimė meilė liaudies dainoms\, kurios\, aranžuotos akordeonui\, sudėtos į garsųjį jo albumą „Autograph“. Ypatingą vietą Martyno kūryboje užimančios „Leliumoj“\, Šiū namo“\, „Beauštanti aušrelė“ ir kitos koncerte gražiai derės tarp „Metų laikų“ dalių.
URL:https://siauliugidas.lt/renginiai/martynas-levickis-ir-mikroorkestra-metu-laikai-3/
LOCATION:Koncertų salė „Saulė”
CATEGORIES:Koncertas
END:VEVENT
END:VCALENDAR