BEGIN:VCALENDAR
VERSION:2.0
PRODID:-//Šiaulių gidas - ECPv6.9.0//NONSGML v1.0//EN
CALSCALE:GREGORIAN
METHOD:PUBLISH
X-ORIGINAL-URL:https://siauliugidas.lt
X-WR-CALDESC:Events for Šiaulių gidas
REFRESH-INTERVAL;VALUE=DURATION:PT1H
X-Robots-Tag:noindex
X-PUBLISHED-TTL:PT1H
BEGIN:VTIMEZONE
TZID:Europe/Helsinki
BEGIN:DAYLIGHT
TZOFFSETFROM:+0200
TZOFFSETTO:+0300
TZNAME:EEST
DTSTART:20250330T010000
END:DAYLIGHT
BEGIN:STANDARD
TZOFFSETFROM:+0300
TZOFFSETTO:+0200
TZNAME:EET
DTSTART:20251026T010000
END:STANDARD
END:VTIMEZONE
BEGIN:VEVENT
DTSTART;TZID=Europe/Helsinki:20251210T170000
DTEND;TZID=Europe/Helsinki:20251210T170000
DTSTAMP:20260423T004408
CREATED:20251201T161344Z
LAST-MODIFIED:20251201T161344Z
UID:18762-1765386000-1765386000@siauliugidas.lt
SUMMARY:Renginys „Belaukiant Kalėdų“
DESCRIPTION:Gruodžio 10 d. 17 val. prie Rėkyvos Kalėdų eglės (Energetikų g. 7) vyks renginys „Belaukiant Kalėdų“. \nRenginio programoje – Kalėdų elfyčių programa\, dinamiškos pramogos\, kūrybinės veiklos su žiemos akcentais\, šokiai ir daugybė staigmenų. Mažieji žiūrovai galės pasinerti į magiškų eksperimentų pasaulį – pamatyti\, kaip gimsta sniegas\, kaip šoka sauso ledo burtai ir pasinerti į azoto šou stebuklus. \nŠventinę nuotaiką taip pat dovanos muzikiniai pasirodymai – skambės kalėdinės dainos\, kviečiančios visus kartu dainuoti\, šypsotis ir dalintis gerumu. Šventėje dalyvaus ir Kalėdų Senelis\, kuris atneš linkėjimų ir nuoširdų juoką. \nRenginio trukmė: ~1 val.
URL:https://siauliugidas.lt/renginiai/renginys-belaukiant-kaledu/
CATEGORIES:Šventė
END:VEVENT
BEGIN:VEVENT
DTSTART;TZID=Europe/Helsinki:20251210T180000
DTEND;TZID=Europe/Helsinki:20251210T180000
DTSTAMP:20260423T004408
CREATED:20251201T154052Z
LAST-MODIFIED:20251201T154052Z
UID:18713-1765389600-1765389600@siauliugidas.lt
SUMMARY:DAINOTAS VARNAS ir Kauno bigbendas „Aplink pasaulį per 100 minučių“
DESCRIPTION:Ar nors kartą svajojote leistis į kelionę aplink pasaulį? Ar dažnai sakėte sau\, kad „kada nors\, kai tik turėsite laiko“? \nO jei jums pasiūlytume aplankyti 15 šalių\, išgirsti 7 kalbas\, pajusti kultūros dvelksmą\, o kelionei paskirti tik vieną vakarą? \nTurbūt jau supratote\, kad tai ne paprasta\, o muzikinė kelionė\, į kurią jus nuoširdžiai kviečia Dainotas Varnas ir Kauno bigbendas. \nAplink pasaulį per 100 minučių – taip vadinasi naujausia dainininko programa\, kurioje: Didžiosios Britanijos\, Airijos\, Prancūzijos\, Portugalijos\, Italijos\, Ispanijos\, JAV\, Kanados\, Meksikos\, Kubos\, Švedijos\, Norvegijos\, Šveicarijos\, Turkijos ir net Libano žvaigždžių garsūs kūriniai. \nDainotas Varnas pasirengęs dainuoti ne tik lietuviškai\, angliškai\, prancūziškai\, ispaniškai\, portugališkai\, turkiškai\, bet net ir arabiškai. \nVisi galite nuspėti\, kad Švediją atstovaus legendinės ABBA daina\, o Portugalija prašyte prašosi Salvadoro Sobralio megahito „Amor Pelos Dois“\, tačiau ne viskas muzikinėje kelionėje aplink pasaulį taip lengvai prognozuojama. \nDainotas Varnas kūrinius rinko labai apgalvotai: jie visi labai gerai žinomi\, bet nemaža dalis savyje slepia ir siurprizą. \nAr žinojote\, kad garsusis „Metallica“ hitas „Whiskey in the Jar“ iš tiesų yra airių liaudies daina\, kurią pirmieji išgarsino grupė „The Dubliners“? Ar galite įsivaizduoti\, kad garsioji „Guantanamera“ kilusi iš Kubos\, o jos žodžiais tapęs eilėraštis buvo sukurtas IX amžiuje? Ar esate girdėję\, kaip legendinis Franko Sinatros kūrinys „My Way“ skamba ispaniškai? Jį yra sudainavę legendiniai „Gipsy Kings“. Būtent jų versiją į programą įtraukė D. Varnas. \n„Atvykus“ į Ameriką\, žiūrovų taip pat laukia nemenkas siurprizas: ar norite spėti amerikiečių kūrinio pavadinimą? Tas pavadinimas yra ir vienintelis visos muzikinės kompozicijos žodis. Pati melodija – labai garsi ir daugumai tikrai žinoma. \n„Tai bus pati įvairiausia kalbiškai ir kultūriškai\, pati gražiausia muzikaliai ir\, nebijau net sakyti\, pati geriausia mano programa. Jau dabar repetuodami girdime\, kaip nuostabiai ji skamba“\, – pasakojo D. Varnas. \nPrograma Aplink pasaulį per 100 minučių ir trunka maždaug valandą keturiasdešimt minučių. Tai ne tik koncertas\, bet ir teatralizuotas pasirodymas\, lydimas specialiai sukurtos scenografijos\, šviesų efektų\, multimedijos. „Scenai gaminame dekoracijas\, o kiekvienos šalies dainai kuriame šviesų šou pagal jos vėliavos spalvas“\, – mažą dalelę būsimos vizualikos atskleidžia dainininkas.
URL:https://siauliugidas.lt/renginiai/dainotas-varnas-ir-kauno-bigbendas-aplink-pasauli-per-100-minuciu/
LOCATION:Koncertų salė „Saulė”
CATEGORIES:Koncertas
END:VEVENT
BEGIN:VEVENT
DTSTART;TZID=Europe/Helsinki:20251210T183000
DTEND;TZID=Europe/Helsinki:20251210T183000
DTSTAMP:20260423T004408
CREATED:20250831T104355Z
LAST-MODIFIED:20251110T154836Z
UID:18277-1765391400-1765391400@siauliugidas.lt
SUMMARY:Spektaklis „Šok\, Edita\, šok“
DESCRIPTION:Dramaturgas – Rimantas Kmita\nRežisierė – Eglė Vertelytė\nChoreografė – Airida Gudaitė\nScenografė – Grėtė Ringailė Kiliulytė-Vaitmonė\nKompozitorius – Paulius Trijonis\nŠviesų dailininkas – Evaldas Šmitkinas\nKostiumų dailininkė – Agnė Biskytė\nVideo menininkas – Vytautas Plukas \nVaidina: Vaidilė Juozaitytė\, Tautvydas Galkauskas \nAr kada nors jautėtės taip\, lyg staiga nebesuprantate\, pagal kokį scenarijų vyksta jūsų gyvenimas\, kokio žanro istorijoje atsidūrėte? Ar jūs – pagrindinis herojus\, ar tik antraplanis veikėjas kažkieno kito filme? Būtent taip jaučiasi Edita. \n„Šok\, Edita\, šok“ – tai tragikomiškas pasakojimas apie jauną merginą Editą\, kuri Nepriklausomybės pradžioje dirba vaizdo įrašų nuomoje ir žiūrėdama filmus bando suprasti\, kokia jos vieta pasaulyje. Editos vaizduotėje gyvenimas  – tai kino filmas\, tik ji dar nežino\, kokio žanro. Kartais jame ji – kovotoja\, kartais – romantiška herojė\, kartais – vieniša paauglė\, pasiklydusi tarp Holivudo svajonių ir Šiaulių realybės. \nSpektaklio centre – obsesyvi Editos meilė vaikinui\, kuris net nenutuokia apie jos jausmus. Kaip ir romanas „Pietinia kronikas“\, naujoji Rimanto Kmitos pjesė balansuoja tarp komedijos ir jautraus\, nuoširdaus temos tyrinėjimo. Su švelniu humoru  atskleidžiama\, kaip formuojasi jaunos moters tapatybė\, kai nėra aiškių modelių – kai amerikietiški filmai maišosi su postsovietine tikrove\, o laisvos rinkos idėjos – su senomis\, dar neišgydytomis traumomis. \nTeatro scenoje debiutuojanti garsi kino režisierė ir filmo „Pietinia kronikas“ scenarijaus autorė Eglė Vertelytė nevengė kino raiškos elementų\, tad spektaklyje ekrano projekcijos\, filmuoti epizodai susilieja su gyvu veiksmu bei choreografės Airidos Gudaites įneštomis filmo „Purvini šokiai“ interpretacijomis. \nRežisierė scenos įvykius siūlo stebėti tarsi Editos vaizduotėje sukurtas „juostas“. Žiūrovas atsiduria tarp dviejų pasaulių – realybės ir fantazijos\, kasdienių traumų ir kino svajonių. Ar įmanoma išgyventi tikrovėje nepasineriant į fantazijas? Ar įmanoma\, gyvenant tarp piratinių VHS kasečių\, sukurti originalų savo gyvenimo filmą? \nSpektaklis yra tarsi romano „Pietinia kronikas“ plėtinys teatro scenoje\, tik čia pasakojama Editos istorijos versija. Editos vaidmenį spektaklyje kuria viena perspektyviausių iš Šiaulių kilusi jaunosios kartos aktorė Vaidilė Juozaitytė\, Editą įkūnijusi ir populiarumo aukštumas pasiekusioje romano ekranizacijoje. Teatro scenoje – jos partneris VŠDT aktorius Tautvydas Galkauskas. Ir\, žinoma\, spektaklis vaidinamas tikra šiaulietiška šnekta. \nPremjera – 2025 m. birželio 5\, 6 d.
URL:https://siauliugidas.lt/renginiai/spektaklis-sok-edita-sok/
LOCATION:Šiaulių dramos teatras
CATEGORIES:Spektaklis
END:VEVENT
END:VCALENDAR