BEGIN:VCALENDAR
VERSION:2.0
PRODID:-//Šiaulių gidas - ECPv6.9.0//NONSGML v1.0//EN
CALSCALE:GREGORIAN
METHOD:PUBLISH
X-WR-CALNAME:Šiaulių gidas
X-ORIGINAL-URL:https://siauliugidas.lt
X-WR-CALDESC:Events for Šiaulių gidas
REFRESH-INTERVAL;VALUE=DURATION:PT1H
X-Robots-Tag:noindex
X-PUBLISHED-TTL:PT1H
BEGIN:VTIMEZONE
TZID:Europe/Helsinki
BEGIN:DAYLIGHT
TZOFFSETFROM:+0200
TZOFFSETTO:+0300
TZNAME:EEST
DTSTART:20250330T010000
END:DAYLIGHT
BEGIN:STANDARD
TZOFFSETFROM:+0300
TZOFFSETTO:+0200
TZNAME:EET
DTSTART:20251026T010000
END:STANDARD
END:VTIMEZONE
BEGIN:VEVENT
DTSTART;TZID=Europe/Helsinki:20251218T180000
DTEND;TZID=Europe/Helsinki:20251218T180000
DTSTAMP:20260425T170603
CREATED:20251201T154639Z
LAST-MODIFIED:20251201T154639Z
UID:18721-1766080800-1766080800@siauliugidas.lt
SUMMARY:KONSUELOS MAČIULEVIČIŪTĖS ir draugų koncertas
DESCRIPTION:Gruodžio 18 d. 18 val. Šiaulių saulės koncertų salėje vyks ypatingas koncertas „Konsuela Mačiulevičiūtė ir draugų koncertas “. Tai vakaras\, kupinas aistros\, spalvų ir muzikos\, kviečiantis žiūrovus pasinerti į romų muzikos bei šokio sūkurį. Čia skambės aistringos dainos\, jaudinančios improvizacijos\, nauji lietuviški kūriniai bei netikėtos premjeros – kai kurie kūriniai scenoje skambės pirmą kartą. \n\nKoncerto žvaigždė – dainininkė Konsuela Mačiulevičiūtė\, muzikos pasaulyje žinoma nuo 2000 metų. Ji ne kartą pasirodė televizijos projektuose „Lietuvos talentai“\, „Lietuvos balsas“\, LRT laidoje „Būk artistas“\, kur tapo laureate. Konsuela šiandien yra žinoma kaip romų dainų atlikėja\, lietuviškų tekstų autorė\, muzikos pedagogė ir daugelio muzikinių renginių dalyvė\, bei festivalio Tamburinas organizatorė. \n\nVakaro svečias ir Evaldas Vaikasas. Evaldas Vaikasas – lietuvių popmuzikos atlikėjas\, apibūdinamas kaip „perspektyvus jaunosios kartos pop muzikos atlikėjas“. Atlikėjas dalyvavo nacionaliniame „Eurovizijos“ atrankos konkurse „Eurovizijos Atranka 2018“ su daina „Blind“. \n\nScenoje Konsuelai talkins spalvingasis kolektyvas „Roma de Drom“ iš Vilniaus – jaunos ir talentingos šokėjos\, garsėjančios ugningais romų tradiciniais šokiais. Jų energingi pasirodymai ne kartą papuošė šalies šventes\, o žiūrovams jos pažįstamos ir iš Radži vaizdo klipo „Sužvėjo“. Renginio atmosferą papildys džiazo smuiko virtuozas Eduardas Bogdanovas – unikalus dainuojantis smuikininkas\, Lietuvos nacionalinio operos ir baleto teatro artistas\, nacionalinių ir tarptautinių konkursų laureatas\, taip pat televizijos projektų „Lietuvos talentai“ ir „X Faktorius“ dalyvis. \n\nArijus Ivaškevičius –  pianistas\, dainų autorius ir atlikėjas. Jis yra žinomas dėl savo indėlio į Lietuvos estradinę muziką\, ypač 2000‑aisiais metais. \n\nĮspūdžių kupiną fiestą praturtins scenos grandas Romas Dambrauskas – vienas iš tų atlikėjų\, kurie Lietuvoje didžiąją dalį karjeros sukūrė per estradinę/pop muziką\, turintys plačią veiklos patirtį.
URL:https://siauliugidas.lt/renginiai/konsuelos-maciuleviciutes-ir-draugu-koncertas/
LOCATION:Koncertų salė „Saulė”
END:VEVENT
BEGIN:VEVENT
DTSTART;TZID=Europe/Helsinki:20251218T190000
DTEND;TZID=Europe/Helsinki:20251218T190000
DTSTAMP:20260425T170603
CREATED:20251201T161020Z
LAST-MODIFIED:20251201T161020Z
UID:18755-1766084400-1766084400@siauliugidas.lt
SUMMARY:Akustinis vakaras su Agne Michalenkovaite ir Severinu Norgaila
DESCRIPTION:Gruodžio 18 d. 19 val. Šiaulių kultūros centro Rėkyvos kultūros namuose vyks akustinis vakaras su Agne Michalenkovaite ir Severinu Norgaila. \nŠis koncertas – tarsi maloni kelionė per kalėdines melodijas\, širdį glostančias akustines aranžuotes ir nuotaikingus interpretacijų akcentus. \nProgramoje – žinomų kalėdinių dainų bei autorinių kūrinių akustinės versijos\, kurios kviečia klausytis\, džiaugtis ir kartu patirti šventinę nuotaiką. Intymioje koncerto aplinkoje kiekvienas garsas ir žodis taps dalimi bendro šventinio stebuklo\, kuriame muzika jungs klausytojus su jausmu\, šiluma ir bendryste. \nKoncertas\, skirtas visai šeimai – tiek vaikams\, tiek suaugusiems – norintiems ramiai pasinerti į Kalėdų laukimo nuotaiką\, pasidžiaugti muzika ir kartu dalintis šventine atmosfera. \nĮėjimas su nemokamais kvietimais\, kuriuos nuo gruodžio 2 d. platina Šiaulių kultūros centro kasa\, Rėkyvos kultūros namai ir www.ticketmarket.lt. Kvietimų skaičius ribotas.
URL:https://siauliugidas.lt/renginiai/akustinis-vakaras-su-agne-michalenkovaite-ir-severinu-norgaila/
LOCATION:Šiaulių kultūros centro Rėkyvos kultūros namai (Energetikų g. 7)
CATEGORIES:Koncertas
END:VEVENT
END:VCALENDAR