BEGIN:VCALENDAR
VERSION:2.0
PRODID:-//Šiaulių gidas - ECPv6.9.0//NONSGML v1.0//EN
CALSCALE:GREGORIAN
METHOD:PUBLISH
X-WR-CALNAME:Šiaulių gidas
X-ORIGINAL-URL:https://siauliugidas.lt
X-WR-CALDESC:Events for Šiaulių gidas
REFRESH-INTERVAL;VALUE=DURATION:PT1H
X-Robots-Tag:noindex
X-PUBLISHED-TTL:PT1H
BEGIN:VTIMEZONE
TZID:Europe/Helsinki
BEGIN:DAYLIGHT
TZOFFSETFROM:+0200
TZOFFSETTO:+0300
TZNAME:EEST
DTSTART:20260329T010000
END:DAYLIGHT
BEGIN:STANDARD
TZOFFSETFROM:+0300
TZOFFSETTO:+0200
TZNAME:EET
DTSTART:20261025T010000
END:STANDARD
END:VTIMEZONE
BEGIN:VEVENT
DTSTART;TZID=Europe/Helsinki:20260417T183000
DTEND;TZID=Europe/Helsinki:20260417T183000
DTSTAMP:20260420T073753
CREATED:20260401T075513Z
LAST-MODIFIED:20260401T075513Z
UID:19161-1776450600-1776450600@siauliugidas.lt
SUMMARY:PILĖNAI. Alytaus miesto teatras
DESCRIPTION:Šiandien sunku rasti žmogų\, negirdėjusį herojiškos Pilėnų istorijos. Bet ar kada nors susimąstėme\, kas slypi už šios šlovingos legendos? Kaip gyveno žmonės\, nujausdami\, kad priešas netrukus pasibels į jų miesto vartus? Ką jie patyrė\, susidūrę su neįveikiama jo galia ir neišvengiama savo mirtimi? Kokios mintys ir jausmai užplūdo pražūčiai pasmerktus Pilėnų gyventojus? Kokią masinę paniką jie išgyveno tą nelaimingą dieną? \nNauja „Pilėnų“ sceninė versija kviečia įsižiūrėti į vieną dramatiškiausių Lietuvos istorijos puslapių\, nes ši istorija yra ne tik apie kryžiuočių apsuptus Pilėnus\, bet ir apie mus\, esančius itin pavojingo ir agresyvaus kaimyno taikiklyje. \nPilėnai išnyko ugnyje. Kaip turime gyventi mes\, kad ateinančioms kartoms paliktume daugiau nei kalną pelenų ir liūdną legendą apie mūsų kartos pabaigą? Drąsų ir veržlų spektaklio ritmą kuria profesionalių menininkų komanda\, kviečianti žiūrovus patirti išmoningą dramos\, elektroninės muzikos\, šviesų dizaino ir videomeno sintezę teatro scenoje. \nRežisierius ir autorius – Aleksandras Špilevoj \nRežisieriaus asistentė – Alma Purvinytė \nScenografė – Kamilė Makvytytė \nKostiumų dailininkė – Marija Petraitytė \nŠviesų dailininkas – Paulius Jakubėnas \nKompozitorius  – Daividas Gnedinas \nChoreografas – Marius Pinigis \nVaidina: Andra Kavaliauskaitė\, Lyja Maknavičiūtė\, Dovydas Šernas\, Tadas Gryn\, Eglė Juškaitė\, Erika Jasinskaitė – Salickienė\, Jonas Gaižauskas\, Vaidas Praspaliauskas\, Vincas Vaičiulis\, Arnas Janavičius
URL:https://siauliugidas.lt/renginiai/pilenai-alytaus-miesto-teatras/
LOCATION:Šiaulių dramos teatras
END:VEVENT
END:VCALENDAR