BEGIN:VCALENDAR
VERSION:2.0
PRODID:-//Šiaulių gidas - ECPv6.9.0//NONSGML v1.0//EN
CALSCALE:GREGORIAN
METHOD:PUBLISH
X-WR-CALNAME:Šiaulių gidas
X-ORIGINAL-URL:https://siauliugidas.lt
X-WR-CALDESC:Events for Šiaulių gidas
REFRESH-INTERVAL;VALUE=DURATION:PT1H
X-Robots-Tag:noindex
X-PUBLISHED-TTL:PT1H
BEGIN:VTIMEZONE
TZID:Europe/Helsinki
BEGIN:DAYLIGHT
TZOFFSETFROM:+0200
TZOFFSETTO:+0300
TZNAME:EEST
DTSTART:20260329T010000
END:DAYLIGHT
BEGIN:STANDARD
TZOFFSETFROM:+0300
TZOFFSETTO:+0200
TZNAME:EET
DTSTART:20261025T010000
END:STANDARD
END:VTIMEZONE
BEGIN:VEVENT
DTSTART;TZID=Europe/Helsinki:20260424T180000
DTEND;TZID=Europe/Helsinki:20260424T180000
DTSTAMP:20260424T062950
CREATED:20260401T081203Z
LAST-MODIFIED:20260401T081203Z
UID:19183-1777053600-1777053600@siauliugidas.lt
SUMMARY:ANYANYA & MEDA BORISAITĖ – DUETO MAGIJA su Šiaulių bigbendu
DESCRIPTION:ANYANYA & MEDA BORISAITĖ – DUETO MAGIJA su Šiaulių bigbendu \nPublikai pažįstami iš LNK projekto „Žvaigždžių duetai“\, Anyanya ir Meda Borisaitė kviečia į išskirtinį koncertą Šiauliuose\, koncertų salėje Saulė. \nDviejų išskirtinių balsų susitikimas – tai vakaras\, kuriame susilieja emocija\, šiluma ir muzikinė jėga. „Lietuvos balso“ nugalėtojas ir nacionalinės „Eurovizijos“ finalininkas Anyanya kartu su charizmatiška Meda Borisaite pristato programą\, kurioje skambės legendiniai soul\, pop ir džiazo kūriniai naujai – subtiliai ir jausmingai\, gyvai atliekami kartu su Šiaulių bigbendu. \nKoncertų salės „Saulė“ erdvė ir gyvas bigbendo skambesys suteiks šiam pasirodymui ypatingą atmosferą – kai kiekviena nata\, kiekvienas balsų ir orkestro suskambėjimas kuria tikrąją dueto magiją. \nNepraleiskite šio ypatingo vakaro – susitikime balandžio 24 d. 18:00 val. koncertų salėje „Saulė“\, Šiauliuose! \n\n\nRenginio trukmė: ~ 1 val. 30 min.\nNuolaidos: netaikomos\nNemokamai: vaikai nemokamai neįleidžiami
URL:https://siauliugidas.lt/renginiai/anyanya-meda-borisaite-dueto-magija-su-siauliu-bigbendu/
LOCATION:Koncertų salė „Saulė”
CATEGORIES:Koncertas
END:VEVENT
BEGIN:VEVENT
DTSTART;TZID=Europe/Helsinki:20260424T183000
DTEND;TZID=Europe/Helsinki:20260424T183000
DTSTAMP:20260424T062950
CREATED:20211028T122939Z
LAST-MODIFIED:20260401T075134Z
UID:12043-1777055400-1777055400@siauliugidas.lt
SUMMARY:Spektaklis „Remyga“
DESCRIPTION:Rimantas Kmita\nREMYGA\n\n Režisierius – Oskaras Koršunovas\nRežisieriaus asistentas – Jokūbas Brazys\nScenografė – Irina Komissarova\nKostiumų dailininkės – Justina Ignatavičienė\, Greta Milevičiūtė\nŠviesų dailininkas – Darius Malinauskas\nVideo menininkas – Ignas Juzokas\nMuzika – Paulius Ignatavičius\, Gintas Gascevičius\, Severinas Norgaila\, Eligijus Žilinskas\, Paulius Trijonis\, Lukas Malinauskas\n\n\nSpektaklis „Remyga“ nuo pirminio sumanymo iki galutinio realizavimo yra susijęs su Šiauliais. Specialiai šiam spektakliui pjesę rašęs bestselerio „Pietinia kronikas“ autorius Rimantas Kmita pateikia fantasmagorišką istorijos versiją\, nuaustą iš tikrų faktų ir fikcijos. Pjesėje kalbama apie miestą ir jo žmones\, apie tikrus įvykius ir mitus\, apie tuos\, kuriems miestas tapo jų likimu. „Remyga“ grąžina žiūrovus į pirmuosius Nepriklausomybės metus. Su kokiais (ne)matomais priešais tuomet kovojome? Kuo mes buvome ir kuo tapome? \nPjesės veiksmas vyksta prieštaringais 1988-1992 metais Šiauliuose. Daugelis dar gerai prisimename šį sudėtingą pokyčių laiką\, kai su nepriklausomybės idealizmu grūmėsi tamsiosios senųjų struktūrų jėgos. Tarp šių dviejų jėgų blaškosi ir pagrindinis pjesės herojus – Remyga. Atitarnavęs sovietinėje armijoje Afganistane\, Remyga grįžta į gimtuosius Šiaulius. Jis norėtų gyventi kaip „visi normalūs žmonės“ – būti mylimu vyru\, geru tėvu\, pareigingu darbuotoju. Tačiau praeities šešėliai ir aplink tvyrantis chaosas vis tirštėja\, o tamsiosios jėgos įgauna vis didesnių galių. Kaip tokioje chaotiškoje visuomenėje nubrėžti ribą tarp gėrio ir blogio? Kaip išlikti sąžiningu prieš save ir kitus? Kaip suvaldyti savo vidinius demonus? Kokia yra nepriklausomybės – politinės ir asmeninės – kaina? \nSpektaklio kūrėjai suplakė sunkiai nusakomo žanro kokteilį iš dokumentinės medžiagos\, kasdienybės autentikos\, psichodelinės mistikos ir gyvo roko muzikos. Režisierius Oskaras Koršunovas „Remygoje“ įžvelgia anuometinį visos Lietuvos veidą: „tai\, kas tuomet vyko Šiauliuose\, vyko ir visoje Lietuvoje“. \nPremjera – 2020 m. spalio 22 d.\n \n\nNuotraukos autorius – Juozas Bindokas.
URL:https://siauliugidas.lt/renginiai/spektaklis-remyga-4/
LOCATION:Valstybinis Šiaulių dramos teatras\, Tilžės g. 155\, Šiauliai\, 76297\, Lietuva
CATEGORIES:Spektaklis
ATTACH;FMTTYPE=image/jpeg:https://siauliugidas.lt/wp-content/uploads/2021/09/remyga-1.jpg
END:VEVENT
END:VCALENDAR