BEGIN:VCALENDAR
VERSION:2.0
PRODID:-//Šiaulių gidas - ECPv6.9.0//NONSGML v1.0//EN
CALSCALE:GREGORIAN
METHOD:PUBLISH
X-WR-CALNAME:Šiaulių gidas
X-ORIGINAL-URL:https://siauliugidas.lt
X-WR-CALDESC:Events for Šiaulių gidas
REFRESH-INTERVAL;VALUE=DURATION:PT1H
X-Robots-Tag:noindex
X-PUBLISHED-TTL:PT1H
BEGIN:VTIMEZONE
TZID:Europe/Helsinki
BEGIN:DAYLIGHT
TZOFFSETFROM:+0200
TZOFFSETTO:+0300
TZNAME:EEST
DTSTART:20250330T010000
END:DAYLIGHT
BEGIN:STANDARD
TZOFFSETFROM:+0300
TZOFFSETTO:+0200
TZNAME:EET
DTSTART:20251026T010000
END:STANDARD
END:VTIMEZONE
BEGIN:VEVENT
DTSTART;TZID=Europe/Helsinki:20250511T183000
DTEND;TZID=Europe/Helsinki:20250511T183000
DTSTAMP:20260420T062306
CREATED:20250129T204518Z
LAST-MODIFIED:20250503T041411Z
UID:17541-1746988200-1746988200@siauliugidas.lt
SUMMARY:Spektaklis MAMA. OKT / Vilniaus miesto teatras
DESCRIPTION:Renginio organizatorius – VšĮ Oskaro Koršunovo teatras \nFlorian Zeller \nRežisierius – Kirilas Glušajevas\nKompozitorius – Gintaras Sodeika\nDailininkas – Marijus Jacovskis\nScenografas – Marijus Jacovksis \nKostiumų dailininkĖ – Marija Zalensaitė\nŠviesų dailininkas – Povilas Laurinaitis\n\nVaidina:\nMama Ana – Rasa Samuolytė\nTėvas Pjeras – Dainius Gavenonis\nSūnus Nikolia – Aurelijus Pocius\nMergina Elodi – Augustė Ona Šimulynaitė\n\n*****\nFlorianas Zeleris – šiuolaikinis prancūzų romanistas\, dramaturgas\, scenaristas. Dar 2004 m. dramaturgas laimėjo „Prix Interallié“ prizą už savo romaną „Blogio susižavėjimas“. F. Zeleris parašė pjesių trilogiją „Mama. Tėtis. Sūnus“. 2020 m. pats dramaturgas režisavo kino filmą pagal trilogijos dalį „Tėtis“\, kuriame vaidmenis sukūrė Anthony Hopkinsas ir Olivia Colman. Filmas gavo šešias nominacijas „Oskarų“ apdovanojimuose\, įskaitant geriausio filmo apdovanojimą\, o F. Zelleris laimėjo Oskarą už geriausią scenarijų. „Tėtis“ taip pat nominuotas keturiems „Auksinio gaublio“ apdovanojimams ir šešiems Britų kino akademijos apdovanojimams. Dramaturgo kūriniai įvertinti ir teatriniais apdovanojimais – tiek „Mama“\, tiek „Tėtis“ apdovanoti prestižiniu Moljero apdovanojimu Prancūzijoje. F. Zelerio biografijoje – daugiau nei dešimt parašytų pjesių.\nPagrindinės „Mamos“ veikėjos Anos kasdienybė – tai migdomųjų tablečių\, diazepamo ir alkoholio kokteilis\, kuriuo ji mėgina nustumti šalin depresiją\, ir namai bei šeima\, dėl kurių ji iki šiol gyveno. Tačiau kaip motinai susitaikyti su tuo\, jog jos vaikai jau užaugo\, ir išmokti gyventi dėl savęs\, rūpintis savimi\, mylėti save?\nPremjera – 2023 m. gruodžio 17 d.\nSpektaklio prodiuseris – OKT/Vilniaus miesto teatras\nProjektą finansuoja Lietuvos kultūros taryba\nThe Play „La Mere“ by Florian Zeller is represented by\nDrama Agency – Paris (France) – www.dramaparis.com
URL:https://siauliugidas.lt/renginiai/spektaklis-mama-okt-vilniaus-miesto-teatras/
LOCATION:Valstybinis Šiaulių dramos teatras\, Tilžės g. 155\, Šiauliai\, 76297\, Lietuva
CATEGORIES:Spektaklis
END:VEVENT
BEGIN:VEVENT
DTSTART;TZID=Europe/Helsinki:20250523T200000
DTEND;TZID=Europe/Helsinki:20250523T200000
DTSTAMP:20260420T062306
CREATED:20221003T083722Z
LAST-MODIFIED:20250503T040900Z
UID:13560-1748030400-1748030400@siauliugidas.lt
SUMMARY:Spektaklis „Pakeliui“
DESCRIPTION:„Pakeliui“ – tai vakarinis spektaklis-kelionė autobusu Šiaulių gatvėmis. Kelionės gidu taps Valstybinio Šiaulių dramos teatro žiūrovams puikiai pažįstamas personažas Rapolas iš spektaklio „Bagadelnia“. Jis kartu su žiūrovais keliaus autobusu tarsi laiko mašina\, atskleisdamas įvairius savo gyvenimo įvykius. Kiekvienas autobuso sustojimas – tai vis kita Rapolo gyvenimo istorija\, kurią žiūrovai patirs stebėdami aktorių vaidinamas scenas skirtingose miesto erdvėse. Talentingo šviesų dailininko Viliaus Vilučio pastangomis įprastos miesto vietos nušvis naujomis spalvomis. Ne mažiau svarbų vaidmenį spektaklyje atlieka ir veikėjų kostiumai\, muzikinis apipavidalinimas bei miesto architektūra.  Taigi\, ši smagi ir interaktyvi kelionė po Šiaulius leis žiūrovams susipažinti ne tik su vieno personažo šeimos gyvenimu\, bet ir vaizdingai atskleis besikeitusią kultūrą\, socialinį ir ekonominį gyvenimą Lietuvoje 1965-2020 m.\nKaip atrodo svarbiausi gyvenimo momentai prisiminimuose\, kai į juos žvelgi jau iš nueito kelio perspektyvos?  Kaip mūsų pasaulėjautą įtakoja sutikti žmonės\, kintančios politinės sistemos ir technologijos\, kaip su jomis keičiasi žmogaus santykis su savimi ir pasauliu? Šio spektaklio-kelionės sumanytojas –  režisierius ir dramaturgas Aleksandr Špilevoj –  žiūrovams siūlo įspūdingą teatrinę patirtį ir jautrų žvilgsnį į tai\, kas gyvenimo kelionėse nutinka pakeliui.\n  \nDėmesio: žiūriovams rinktis prie Mažosios salės įėjimo.
URL:https://siauliugidas.lt/renginiai/spektaklis-pakeliui-2/
CATEGORIES:Spektaklis
END:VEVENT
BEGIN:VEVENT
DTSTART;TZID=Europe/Helsinki:20250524T200000
DTEND;TZID=Europe/Helsinki:20250525T200000
DTSTAMP:20260420T062306
CREATED:20221003T083626Z
LAST-MODIFIED:20250503T041147Z
UID:13558-1748116800-1748203200@siauliugidas.lt
SUMMARY:Spektaklis „Pakeliui“
DESCRIPTION:„Pakeliui“ – tai vakarinis spektaklis-kelionė autobusu Šiaulių gatvėmis. Kelionės gidu taps Valstybinio Šiaulių dramos teatro žiūrovams puikiai pažįstamas personažas Rapolas iš spektaklio „Bagadelnia“. Jis kartu su žiūrovais keliaus autobusu tarsi laiko mašina\, atskleisdamas įvairius savo gyvenimo įvykius. Kiekvienas autobuso sustojimas – tai vis kita Rapolo gyvenimo istorija\, kurią žiūrovai patirs stebėdami aktorių vaidinamas scenas skirtingose miesto erdvėse. Talentingo šviesų dailininko Viliaus Vilučio pastangomis įprastos miesto vietos nušvis naujomis spalvomis. Ne mažiau svarbų vaidmenį spektaklyje atlieka ir veikėjų kostiumai\, muzikinis apipavidalinimas bei miesto architektūra.  Taigi\, ši smagi ir interaktyvi kelionė po Šiaulius leis žiūrovams susipažinti ne tik su vieno personažo šeimos gyvenimu\, bet ir vaizdingai atskleis besikeitusią kultūrą\, socialinį ir ekonominį gyvenimą Lietuvoje 1965-2020 m.\nKaip atrodo svarbiausi gyvenimo momentai prisiminimuose\, kai į juos žvelgi jau iš nueito kelio perspektyvos?  Kaip mūsų pasaulėjautą įtakoja sutikti žmonės\, kintančios politinės sistemos ir technologijos\, kaip su jomis keičiasi žmogaus santykis su savimi ir pasauliu? Šio spektaklio-kelionės sumanytojas –  režisierius ir dramaturgas Aleksandr Špilevoj –  žiūrovams siūlo įspūdingą teatrinę patirtį ir jautrų žvilgsnį į tai\, kas gyvenimo kelionėse nutinka pakeliui. \nDėmesio: žiūriovams rinktis prie Mažosios salės įėjimo.\n 
URL:https://siauliugidas.lt/renginiai/spektaklis-pakeliui/
LOCATION:Valstybinis Šiaulių dramos teatras\, Tilžės g. 155\, Šiauliai\, 76297\, Lietuva
CATEGORIES:Spektaklis
END:VEVENT
END:VCALENDAR